Felt | Verdi |
AlreadyApplied | True |
Aperture | 3.5 |
ApertureValue | 3.5 |
ApproximateFocusDistance | 2 |
Artist | Svein Wisnæs |
AuthorsPosition | Photographer |
AutoLateralCA | 1 |
BitsPerSample | 8 |
Blacks2012 | 0 |
BlueHue | 0 |
BlueSaturation | 0 |
By-line | Svein Wisnæs |
By-lineTitle | Photographer |
CameraProfile | Adobe Standard |
Caption-Abstract | Streams of light shining through Brazilian forest, hitting this small waterfall in the mountains of Minas Gerais. |
CFAPattern | [Red,Green][Green,Blue] |
CircleOfConfusion | 0.030 mm |
Clarity2012 | 0 |
ColorComponents | 3 |
ColorNoiseReduction | 36 |
ColorNoiseReductionDetail | 50 |
ColorTemperature | 5850 |
Contrast | Low |
Contrast2012 | 0 |
ConvertToGrayscale | False |
Copyright | Svein Wisnæs, CC BY-NC |
CopyrightFlag | True |
CopyrightNotice | Svein Wisnæs, CC BY-NC |
Country | Brazil |
Country-PrimaryLocationName | Brazil |
CreateDate (1) | 2013:08:25 16:48:05.60 |
CreateDate | 2013:08:25 16:48:05 |
Creator | Svein Wisnæs |
CreatorTool | Adobe Photoshop Lightroom 5.0 (Windows) |
CreatorWorkURL | http://www.oceanwatcher.com/ |
CustomRendered | Normal |
DateCreated (1) | 2013:08:25 |
DateCreated | 2013:08:25 16:48:05.60 |
DateTimeOriginal | 2013:08:25 16:48:05 |
DefringeGreenAmount | 0 |
DefringeGreenHueHi | 60 |
DefringeGreenHueLo | 40 |
DefringePurpleAmount | 0 |
DefringePurpleHueHi | 70 |
DefringePurpleHueLo | 30 |
Description | Streams of light shining through Brazilian forest, hitting this small waterfall in the mountains of Minas Gerais. |
DigitalZoomRatio | 1 |
DOF | 4.39 m (1.22 - 5.61 m) |
Exposure2012 | 0.00 |
ExposureCompensation | 0 |
ExposureMode | Manual |
ExposureProgram | Manual |
ExposureTime | 1/5 |
Flash | No Flash |
FNumber | 3.5 |
FocalLength | 18.0 mm |
FocalLength35efl | 18.0 mm (35 mm equivalent: 18.0 mm) |
FocalLengthIn35mmFormat | 18 mm |
Format | image/jpeg |
FOV | 90.0 deg |
GainControl | None |
GPSLatitude (1) | 22 deg 27' 38.35" |
GPSLatitude | 22 deg 27' 38.35" S |
GPSLatitudeRef | South |
GPSLongitude (1) | 45 deg 20' 23.60" |
GPSLongitude | 45 deg 20' 23.60" W |
GPSLongitudeRef | West |
GPSPosition | 22 deg 27' 38.35" S, 45 deg 20' 23.60" W |
GPSVersionID | 2.2.0.0 |
GrainAmount | 0 |
GreenHue | 0 |
GreenSaturation | 0 |
HasCrop | False |
HasSettings | True |
Highlights2012 | -10 |
HueAdjustmentAqua | 0 |
HueAdjustmentBlue | 0 |
HueAdjustmentGreen | 0 |
HueAdjustmentMagenta | 0 |
HueAdjustmentOrange | 0 |
HueAdjustmentPurple | 0 |
HueAdjustmentRed | 0 |
HueAdjustmentYellow | 0 |
HyperfocalDistance | 3.08 m |
ImageDescription | Streams of light shining through Brazilian forest, hitting this small waterfall in the mountains of Minas Gerais. |
ImageHeight | 1667 |
ImageNumber | 5749 |
ImageSize | 2500x1667 |
ImageWidth | 2500 |
ISO | 100 |
Lens | 18.0-200.0 mm f/3.5-5.6 |
LensID (1) | 139 |
LensID | AF-S DX VR Zoom-Nikkor 18-200mm f/3.5-5.6G IF-ED [II] or AF-S DX VR Zoom-Nikkor 18-200mm f/3.5-5.6G IF-ED |
LensInfo | 18-200mm f/3.5-5.6 |
LensManualDistortionAmount | 0 |
LensModel | 18.0-200.0 mm f/3.5-5.6 |
LensProfileChromaticAberrationScale | 100 |
LensProfileDistortionScale | 100 |
LensProfileEnable | 1 |
LensProfileFilename | NIKON D90 (Nikon AF-S DX NIKKOR 18-200mm f3.5-5.6G ED VR II) - RAW.lcp |
LensProfileName | Adobe (Nikon AF-S DX NIKKOR 18-200mm f/3.5-5.6G ED VR II) |
LensProfileSetup | Custom |
LensProfileVignettingScale | 100 |
LightSource | Cloudy |
LightValue | 5.9 |
LuminanceAdjustmentAqua | 0 |
LuminanceAdjustmentBlue | 0 |
LuminanceAdjustmentGreen | 0 |
LuminanceAdjustmentMagenta | 0 |
LuminanceAdjustmentOrange | 0 |
LuminanceAdjustmentPurple | 0 |
LuminanceAdjustmentRed | 0 |
LuminanceAdjustmentYellow | 0 |
LuminanceNoiseReductionContrast | 0 |
LuminanceNoiseReductionDetail | 50 |
LuminanceSmoothing | 24 |
Make | NIKON CORPORATION |
Marked | True |
MaxApertureValue | 3.5 |
Megapixels | 4.2 |
MeteringMode | Multi-segment |
Model | NIKON D5200 |
ModifyDate (1) | 2013:08:25 23:48:25-03:00 |
ModifyDate | 2013:08:25 23:48:25 |
ObjectName | Where a river runs through |
ParametricDarks | 0 |
ParametricHighlights | 0 |
ParametricHighlightSplit | 75 |
ParametricLights | 0 |
ParametricMidtoneSplit | 50 |
ParametricShadows | 0 |
ParametricShadowSplit | 25 |
PerspectiveAspect | 0 |
PerspectiveHorizontal | 0 |
PerspectiveRotate | 0.0 |
PerspectiveScale | 100 |
PerspectiveUpright | 0 |
PerspectiveVertical | 0 |
PostCropVignetteAmount | 0 |
ProcessVersion | 6.7 |
ProfileDescription | sRGB IEC61966-2.1 |
Province-State | Minas Gerais |
Rating | 4 |
RatingPercent | 0 |
RedHue | 0 |
RedSaturation | 0 |
Rights | Svein Wisnæs, CC BY-NC |
Saturation (1) | 0 |
Saturation | Normal |
SaturationAdjustmentAqua | 0 |
SaturationAdjustmentBlue | 0 |
SaturationAdjustmentGreen | 0 |
SaturationAdjustmentMagenta | 0 |
SaturationAdjustmentOrange | 0 |
SaturationAdjustmentPurple | 0 |
SaturationAdjustmentRed | 0 |
SaturationAdjustmentYellow | 0 |
ScaleFactor35efl | 1.0 |
SceneCaptureType | Standard |
SceneType | Directly photographed |
SensingMethod | One-chip color area |
SensitivityType | Recommended Exposure Index |
SerialNumber | 4314728 |
Shadows2012 | 0 |
ShadowTint | 0 |
SharpenDetail | 25 |
SharpenEdgeMasking | 0 |
SharpenRadius | +1.0 |
Sharpness (1) | 43 |
Sharpness | Soft |
ShutterSpeed | 1/5 |
ShutterSpeedValue | 1/5 |
Software | Adobe Photoshop Lightroom 5.0 (Windows) |
SplitToningBalance | 0 |
SplitToningHighlightHue | 0 |
SplitToningHighlightSaturation | 0 |
SplitToningShadowHue | 0 |
SplitToningShadowSaturation | 0 |
State | Minas Gerais |
SubjectDistanceRange | Unknown |
Tint | +3 |
Title | Where a river runs through |
ToneCurveName2012 | Linear |
ToneCurvePV2012 | 0, 0, 255, 255 |
ToneCurvePV2012Blue | 0, 0, 255, 255 |
ToneCurvePV2012Green | 0, 0, 255, 255 |
ToneCurvePV2012Red | 0, 0, 255, 255 |
URL | http://www.oceanwatcher.com/license |
UsageTerms | Attribution Non-Commercial, CC BY-NC |
UserComment | www.oceanwatcher.com Svein Wisnaes |
Version | 8.1 |
Vibrance | +10 |
VignetteAmount | 0 |
WebStatement | http://www.oceanwatcher.com/license |
WhiteBalance (1) | As Shot |
WhiteBalance | Manual |
Whites2012 | +12 |