Felt | Verdi |
AlreadyApplied | True |
Aperture | 14.0 |
ApertureValue | 14.0 |
ApproximateFocusDistance | 0.8 |
AutoLateralCA | 0 |
BitsPerSample (1) | 16 16 16 |
BitsPerSample | 8 |
Blacks2012 | -19 |
BlueHue | 0 |
BlueSaturation | 0 |
CameraProfile | Adobe Standard |
CircleOfConfusion | 0.030 mm |
Clarity2012 | +7 |
ColorComponents | 3 |
ColorMode | RGB |
ColorNoiseReduction | 25 |
ColorNoiseReductionDetail | 100 |
ColorSpace | Uncalibrated |
ColorTemperature | 8243 |
Contrast2012 | +29 |
ConvertToGrayscale | False |
CreateDate (1) | 2013:12:18 10:24:30.00 |
CreateDate | 2013:12:18 10:24:30 |
CreatorTool | Adobe Photoshop Lightroom 4.4 (Windows) |
CropAngle | -1.64048 |
CropBottom | 0.95881 |
CropConstrainToWarp | 0 |
CropHeight | 3591 |
CropLeft | 0.011441 |
CropRight | 0.988559 |
CropTop | 0.04119 |
CropUnit | pixels |
CropWidth | 5387 |
CustomRendered | Normal |
DateCreated (1) | 2013:12:18 |
DateCreated | 2013:12:18 10:24:30 |
DateTimeOriginal | 2013:12:18 10:24:30 |
DefringeGreenAmount | 0 |
DefringeGreenHueHi | 60 |
DefringeGreenHueLo | 40 |
DefringePurpleAmount | 0 |
DefringePurpleHueHi | 70 |
DefringePurpleHueLo | 30 |
DOF | 2.00 m (0.48 - 2.47 m) |
ExifImageHeight | 1200 |
ExifImageWidth | 800 |
Exposure2012 | +0.24 |
ExposureCompensation | 0 |
ExposureMode | Manual |
ExposureProgram | Manual |
ExposureTime | 1.3 |
Firmware | 1.2.0 |
Flash | Off, Did not fire |
FlashCompensation | 0 |
FNumber | 14.0 |
FocalLength | 22.0 mm |
FocalLength35efl | 22.0 mm (35 mm equivalent: 22.0 mm) |
Format | image/jpeg |
FOV | 78.6 deg |
GradientBasedCorrActive | true |
GradientBasedCorrAmount | 1.000000 |
GradientBasedCorrBrightness | 0.000000 |
GradientBasedCorrClarity2012 (1) | 0.310340 |
GradientBasedCorrClarity2012 (2) | -0.402300 |
GradientBasedCorrClarity2012 | 0.000000 |
GradientBasedCorrContrast2012 (1) | 0.402300 |
GradientBasedCorrContrast2012 (2) | -0.264370 |
GradientBasedCorrContrast2012 (3) | 0.000000 |
GradientBasedCorrContrast2012 | 0.103450 |
GradientBasedCorrDefringe | 0.000000 |
GradientBasedCorrExposure2012 (1) | -0.172500 |
GradientBasedCorrExposure2012 (3) | 0.000000 |
GradientBasedCorrExposure2012 | -0.011500 |
GradientBasedCorrHighlights2012 (1) | -0.034480 |
GradientBasedCorrHighlights2012 (2) | 0.448280 |
GradientBasedCorrHighlights2012 | 0.000000 |
GradientBasedCorrHue | 0.000000 |
GradientBasedCorrLuminanceNoise | 0.000000 |
GradientBasedCorrMaskFullX (1) | -0.393917 |
GradientBasedCorrMaskFullX (2) | 0.692491 |
GradientBasedCorrMaskFullX (3) | 0.315504 |
GradientBasedCorrMaskFullX | 0.230926 |
GradientBasedCorrMaskFullY (1) | 0.507921 |
GradientBasedCorrMaskFullY (2) | 0.443187 |
GradientBasedCorrMaskFullY (3) | 0.506870 |
GradientBasedCorrMaskFullY | 0.485578 |
GradientBasedCorrMaskValue | 1.000000 |
GradientBasedCorrMaskWhat | Mask/Gradient |
GradientBasedCorrMaskZeroX (1) | 1.128620 |
GradientBasedCorrMaskZeroX (2) | 0.335755 |
GradientBasedCorrMaskZeroX (3) | 0.906676 |
GradientBasedCorrMaskZeroX | 0.470575 |
GradientBasedCorrMaskZeroY (1) | 0.465347 |
GradientBasedCorrMaskZeroY (2) | 0.461243 |
GradientBasedCorrMaskZeroY (3) | 0.467875 |
GradientBasedCorrMaskZeroY | 0.477246 |
GradientBasedCorrMoire | 0.000000 |
GradientBasedCorrSaturation (1) | 0.080460 |
GradientBasedCorrSaturation (7) | -0.034480 |
GradientBasedCorrSaturation | 0.000000 |
GradientBasedCorrShadows2012 (1) | 0.379310 |
GradientBasedCorrShadows2012 (2) | -0.103450 |
GradientBasedCorrShadows2012 | 0.000000 |
GradientBasedCorrSharpness | 0.000000 |
GradientBasedCorrTemperature (1) | -0.494250 |
GradientBasedCorrTemperature | -0.103450 |
GradientBasedCorrTint (1) | 0.241380 |
GradientBasedCorrTint | 0.000000 |
GradientBasedCorrWhat | Correction |
GrainAmount | 0 |
GreenHue | 0 |
GreenSaturation | 0 |
HasCrop | True |
HasSettings | True |
Highlights2012 | -100 |
HueAdjustmentAqua | 0 |
HueAdjustmentBlue | 0 |
HueAdjustmentGreen | 0 |
HueAdjustmentMagenta | 0 |
HueAdjustmentOrange | 0 |
HueAdjustmentPurple | 0 |
HueAdjustmentRed | 0 |
HueAdjustmentYellow | 0 |
HyperfocalDistance | 1.15 m |
ICCProfileName | ProPhoto RGB |
ImageHeight (1) | 5387 |
ImageHeight | 1200 |
ImageNumber | 0 |
ImageSize | 800x1200 |
ImageWidth (1) | 3591 |
ImageWidth | 800 |
ISO | 200 |
Lens | EF17-40mm f/4L USM |
LensID (1) | 231 |
LensID | Canon EF 17-40mm f/4L USM |
LensInfo | 17-40mm f/? |
LensManualDistortionAmount | 0 |
LensModel | EF17-40mm f/4L USM |
LensProfileChromaticAberrationScale | 100 |
LensProfileDistortionScale | 100 |
LensProfileEnable | 1 |
LensProfileFilename | Canon EOS-1Ds Mark III (Canon EF 17-40mm f4 L USM) - RAW.lcp |
LensProfileName | Adobe (Canon EF 17-40mm f/4 L USM) |
LensProfileSetup | Custom |
LensProfileVignettingScale | 100 |
LightValue | 6.2 |
LuminanceAdjustmentAqua | 0 |
LuminanceAdjustmentBlue | -16 |
LuminanceAdjustmentGreen | 0 |
LuminanceAdjustmentMagenta | +9 |
LuminanceAdjustmentOrange | +4 |
LuminanceAdjustmentPurple | -2 |
LuminanceAdjustmentRed | +4 |
LuminanceAdjustmentYellow | +7 |
LuminanceNoiseReductionContrast | 0 |
LuminanceNoiseReductionDetail | 49 |
LuminanceSmoothing | 10 |
Make | Canon |
MaxApertureValue | 4.0 |
Megapixels | 0.960 |
MeteringMode | Multi-segment |
Model | Canon EOS-1Ds Mark III |
ModifyDate (1) | 2013:12:18 16:02:59+01:00 |
ModifyDate | 2013:12:18 16:02:59 |
Orientation | Horizontal (normal) |
ParametricDarks | +15 |
ParametricHighlights | +7 |
ParametricHighlightSplit | 75 |
ParametricLights | -7 |
ParametricMidtoneSplit | 50 |
ParametricShadows | +7 |
ParametricShadowSplit | 25 |
PerspectiveHorizontal | 0 |
PerspectiveRotate | 0.0 |
PerspectiveScale | 100 |
PerspectiveVertical | 0 |
PhotometricInterpretation | RGB |
PlanarConfiguration | Chunky |
PostCropVignetteAmount | -7 |
PostCropVignetteFeather | 100 |
PostCropVignetteHighlightContrast | 0 |
PostCropVignetteMidpoint | 39 |
PostCropVignetteRoundness | 0 |
PostCropVignetteStyle | 1 |
ProcessVersion | 6.7 |
ProfileDescription | ProPhoto RGB |
RedHue | 0 |
RedSaturation | 0 |
Saturation | -2 |
SaturationAdjustmentAqua | 0 |
SaturationAdjustmentBlue | 0 |
SaturationAdjustmentGreen | 0 |
SaturationAdjustmentMagenta | +7 |
SaturationAdjustmentOrange | 0 |
SaturationAdjustmentPurple | 0 |
SaturationAdjustmentRed | +2 |
SaturationAdjustmentYellow | 0 |
ScaleFactor35efl | 1.0 |
SceneCaptureType | Standard |
SerialNumber | 620530 |
Shadows2012 | +100 |
ShadowTint | 0 |
SharpenDetail | 100 |
SharpenEdgeMasking | 0 |
SharpenRadius | +0.7 |
Sharpness | 21 |
ShutterSpeed | 1.3 |
ShutterSpeedValue | 1.3 |
Software | Adobe Photoshop CS5 Windows |
SplitToningBalance | 0 |
SplitToningHighlightHue | 0 |
SplitToningHighlightSaturation | 0 |
SplitToningShadowHue | 0 |
SplitToningShadowSaturation | 0 |
Tint | +4 |
ToneCurveName2012 | Linear |
ToneCurvePV2012 | 0, 0, 255, 255 |
ToneCurvePV2012Blue | 0, 0, 255, 255 |
ToneCurvePV2012Green | 0, 0, 255, 255 |
ToneCurvePV2012Red | 0, 0, 255, 255 |
URL_List | |
Version | 7.4 |
Vibrance | +10 |
VignetteAmount | 0 |
WhiteBalance (1) | Custom |
WhiteBalance | Auto |
Whites2012 | +38 |