Felt | Verdi |
AlreadyApplied | True |
Aperture | 3.5 |
ApertureValue | 3.5 |
ApproximateFocusDistance | 4.25 |
Artist | Tommy Johansen |
AutoLateralCA | 0 |
BitsPerSample | 8 |
Blacks2012 | 0 |
BlueHue | 0 |
BlueSaturation | 0 |
Brightness | +50 |
By-line | Tommy Johansen |
CameraProfile | Adobe Standard |
CircleOfConfusion | 0.031 mm |
Clarity | 0 |
Clarity2012 | +100 |
ColorComponents | 1 |
ColorMode | Grayscale |
ColorNoiseReduction | 25 |
ColorNoiseReductionDetail | 50 |
ColorSpace | Uncalibrated |
ColorTemperature | 5300 |
Contrast | +25 |
Contrast2012 | +5 |
ConvertToGrayscale | True |
Copyright | All right reserved Tommy Johansen Aka Grayscale foto |
CopyrightFlag | True |
CopyrightNotice | All right reserved Tommy Johansen Aka Grayscale foto |
CreateDate | 2013:08:27 12:23:25 |
Creator | Tommy Johansen |
CropAngle | 0 |
CropBottom | 0.976353 |
CropConstrainToWarp | 1 |
CropHeight | 16 |
CropLeft | 0.044607 |
CropRight | 1 |
CropTop | 0.17024 |
CropUnit | Unknown (3) |
CropWidth | 9 |
CustomRendered | Normal |
DateCreated (1) | 2013:08:27 |
DateCreated | 2013:08:27 12:23:25.021 |
DateTimeOriginal | 2013:08:27 12:23:25 |
Defringe | 0 |
DOF | 1.59 m (3.60 - 5.19 m) |
ExifImageHeight | 3018 |
ExifImageWidth | 5365 |
Exposure | 0.00 |
Exposure2012 | +1.00 |
ExposureCompensation | 0 |
ExposureMode | Auto |
ExposureProgram | Shutter speed priority AE |
ExposureTime | 1/640 |
FillLight | 0 |
Firmware | 2.1.2 |
Flash | Off, Did not fire |
FlashCompensation | 0 |
FNumber | 3.5 |
FocalLength | 50.0 mm |
FocalLength35efl | 50.0 mm (35 mm equivalent: 48.8 mm) |
Format | image/jpeg |
FOV | 40.5 deg |
GrainAmount | 0 |
GrayMixerAqua | -17 |
GrayMixerBlue | +12 |
GrayMixerGreen | -27 |
GrayMixerMagenta | +4 |
GrayMixerOrange | -19 |
GrayMixerPurple | +17 |
GrayMixerRed | -10 |
GrayMixerYellow | -23 |
GreenHue | 0 |
GreenSaturation | 0 |
HasCrop | True |
HasSettings | True |
HighlightRecovery | 0 |
Highlights2012 | -13 |
HyperfocalDistance | 23.20 m |
ICCProfileName | Gray Gamma 2.2 |
ImageHeight | 3018 |
ImageNumber | 0 |
ImageSize | 5365x3018 |
ImageWidth | 5365 |
ISO | 100 |
Keywords | Bergen, Blackandwhite, Norway |
Lens | 50mm |
LensID (1) | 169 |
LensID | Sigma 50mm f/1.4 EX DG HSM |
LensInfo | 50mm f/? |
LensManualDistortionAmount | 0 |
LensModel | 50mm |
LensProfileEnable | 0 |
LensProfileSetup | LensDefaults |
LightValue | 12.9 |
LuminanceSmoothing | 0 |
Make | Canon |
Marked | True |
MaxApertureValue | 1.4 |
Megapixels | 16.2 |
MeteringMode | Multi-segment |
Model | Canon EOS 5D Mark II |
ModifyDate (1) | 2013:09:05 16:04:51+02:00 |
ModifyDate | 2013:09:05 16:04:51 |
ObjectName | Rock on |
Orientation | Horizontal (normal) |
OwnerName | Tommy Johansen |
ParametricDarks | 0 |
ParametricHighlights | 0 |
ParametricHighlightSplit | 75 |
ParametricLights | 0 |
ParametricMidtoneSplit | 50 |
ParametricShadows | 0 |
ParametricShadowSplit | 25 |
PerspectiveHorizontal | 0 |
PerspectiveRotate | 0.0 |
PerspectiveScale | 100 |
PerspectiveVertical | 0 |
PostCropVignetteAmount | 0 |
ProcessVersion | 6.7 |
ProfileDescription | Gray Gamma 2.2 |
Rating | 0 |
RawFileName | IMG_5290.CR2 |
RedHue | 0 |
RedSaturation | 0 |
Rights | All right reserved Tommy Johansen Aka Grayscale foto |
ScaleFactor35efl | 1.0 |
SceneCaptureType | Standard |
SerialNumber | 1721002101 |
Shadows | 5 |
Shadows2012 | +13 |
ShadowTint | 0 |
SharpenDetail | 25 |
SharpenEdgeMasking | 0 |
SharpenRadius | +1.0 |
Sharpness | 25 |
ShutterSpeed | 1/640 |
ShutterSpeedValue | 1/640 |
Software | Adobe Photoshop CS6 (Windows) |
SplitToningBalance | 0 |
SplitToningHighlightHue | 0 |
SplitToningHighlightSaturation | 0 |
SplitToningShadowHue | 0 |
SplitToningShadowSaturation | 0 |
Subject | Bergen, Blackandwhite, Norway |
Tint | 0 |
Title | Rock on |
ToneCurve | 0, 0, 32, 22, 64, 56, 128, 128, 192, 196, 255, 255 |
ToneCurveBlue | 0, 0, 255, 255 |
ToneCurveGreen | 0, 0, 255, 255 |
ToneCurveName | Medium Contrast |
ToneCurveName2012 | Linear |
ToneCurvePV2012 | 0, 0, 255, 255 |
ToneCurvePV2012Blue | 0, 0, 255, 255 |
ToneCurvePV2012Green | 0, 0, 255, 255 |
ToneCurvePV2012Red | 0, 0, 255, 255 |
ToneCurveRed | 0, 0, 255, 255 |
URL_List | |
Version | 7.0 |
VignetteAmount | 0 |
WhiteBalance | Auto |
Whites2012 | +34 |