Felt | Verdi |
AlreadyApplied | True |
Aperture | 9.0 |
ApertureValue | 9.0 |
BitsPerSample | 8 |
BlueHue | 0 |
BlueSaturation | 0 |
Brightness | +50 |
CameraProfile | Adobe Standard |
ChromaticAberrationB | 0 |
ChromaticAberrationR | 0 |
CircleOfConfusion | 0.030 mm |
Clarity | +100 |
ColorComponents | 3 |
ColorMode | RGB |
ColorNoiseReduction | 25 |
ColorNoiseReductionDetail | 50 |
ColorSpace | Uncalibrated |
ColorTemperature | 9200 |
Contrast | +25 |
ConvertToGrayscale | False |
CreateDate (1) | 2013:06:01 20:02:41+02:00 |
CreateDate | 2013:06:01 20:02:41 |
CropAngle | 0.153814 |
CropBottom | 0.859209 |
CropLeft | 0.034274 |
CropRight | 0.988316 |
CropTop | 0.145935 |
CustomRendered | Normal |
DateCreated (1) | 2013:06:01 |
DateCreated | 2013:06:01 20:02:41 |
DateTimeOriginal | 2013:06:01 20:02:41 |
Defringe | 0 |
ExifImageHeight | 2066 |
ExifImageWidth | 4173 |
Exposure | -0.60 |
ExposureCompensation | +2/3 |
ExposureMode | Auto |
ExposureProgram | Program AE |
ExposureTime | 1/250 |
FillLight | 10 |
Firmware | 1.1.1 |
Flash | Off, Did not fire |
FlashCompensation | 0 |
FNumber | 9.0 |
FocalLength | 39.0 mm |
FocalLength35efl | 39.0 mm (35 mm equivalent: 39.1 mm) |
Format | image/jpeg |
FOV | 49.5 deg |
GradientBasedCorrActive | true |
GradientBasedCorrAmount | 1.000000 |
GradientBasedCorrBrightness (1) | -0.170000 |
GradientBasedCorrBrightness | -0.040000 |
GradientBasedCorrClarity (1) | 0.010000 |
GradientBasedCorrClarity | 1.000000 |
GradientBasedCorrContrast (1) | 0.210000 |
GradientBasedCorrContrast | 0.500000 |
GradientBasedCorrExposure (1) | -0.412500 |
GradientBasedCorrExposure | 0.312500 |
GradientBasedCorrHue | 0.000000 |
GradientBasedCorrMaskFullX (1) | 0.718644 |
GradientBasedCorrMaskFullX | 0.002402 |
GradientBasedCorrMaskFullY (1) | 0.001695 |
GradientBasedCorrMaskFullY | 0.867523 |
GradientBasedCorrMaskValue | 1.000000 |
GradientBasedCorrMaskWhat | Mask/Gradient |
GradientBasedCorrMaskZeroX (1) | 0.674576 |
GradientBasedCorrMaskZeroX | 0.396345 |
GradientBasedCorrMaskZeroY (1) | 0.684746 |
GradientBasedCorrMaskZeroY | 0.163600 |
GradientBasedCorrSaturation (1) | 0.140000 |
GradientBasedCorrSaturation (3) | -1.000000 |
GradientBasedCorrSaturation | 0.000000 |
GradientBasedCorrSharpness | 0.770000 |
GradientBasedCorrWhat | Correction |
GrainAmount | 0 |
GreenHue | 0 |
GreenSaturation | 0 |
HasCrop | True |
HasSettings | True |
HighlightRecovery | 100 |
HueAdjustmentAqua | 0 |
HueAdjustmentBlue | 0 |
HueAdjustmentGreen | 0 |
HueAdjustmentMagenta | 0 |
HueAdjustmentOrange | 0 |
HueAdjustmentPurple | 0 |
HueAdjustmentRed | 0 |
HueAdjustmentYellow | 0 |
HyperfocalDistance | 5.64 m |
ICCProfileName | Adobe RGB (1998) |
ImageHeight | 2066 |
ImageNumber | 18 |
ImageSize | 4173x2066 |
ImageWidth | 4173 |
ISO | 320 |
Lens | 24.0-70.0 mm |
LensID (1) | 161 |
LensID | Sigma 24-70mm f/2.8 EX or Tokina AT-X 24-70mm f/2.8 PRO FX (IF) |
LensInfo | 24-70mm f/? |
LightValue | 12.6 |
LuminanceAdjustmentAqua | 0 |
LuminanceAdjustmentBlue | 0 |
LuminanceAdjustmentGreen | +100 |
LuminanceAdjustmentMagenta | 0 |
LuminanceAdjustmentOrange | +37 |
LuminanceAdjustmentPurple | 0 |
LuminanceAdjustmentRed | +3 |
LuminanceAdjustmentYellow | +22 |
LuminanceSmoothing | 0 |
Make | Canon |
MaxApertureValue | 3.0 |
Megapixels | 8.6 |
MeteringMode | Unknown |
Model | Canon EOS 5D |
ModifyDate (1) | 2013:06:03 23:24:45+02:00 |
ModifyDate | 2013:06:03 23:24:45 |
Orientation | Horizontal (normal) |
ParametricDarks | -50 |
ParametricHighlights | +88 |
ParametricHighlightSplit | 75 |
ParametricLights | -8 |
ParametricMidtoneSplit | 50 |
ParametricShadows | +64 |
ParametricShadowSplit | 25 |
PostCropVignetteAmount | 0 |
ProcessVersion | 5.7 |
ProfileDescription | Adobe RGB (1998) |
Rating | 0 |
RawFileName | IMG_3457.CR2 |
RedHue | 0 |
RedSaturation | 0 |
Saturation | -19 |
SaturationAdjustmentAqua | 0 |
SaturationAdjustmentBlue | 0 |
SaturationAdjustmentGreen | +100 |
SaturationAdjustmentMagenta | 0 |
SaturationAdjustmentOrange | 0 |
SaturationAdjustmentPurple | 0 |
SaturationAdjustmentRed | 0 |
SaturationAdjustmentYellow | 0 |
ScaleFactor35efl | 1.0 |
SceneCaptureType | Standard |
SerialNumber | 1430906675 |
Shadows | 24 |
ShadowTint | 0 |
SharpenDetail | 25 |
SharpenEdgeMasking | 9 |
SharpenRadius | +1.0 |
Sharpness | 74 |
ShutterSpeed | 1/250 |
ShutterSpeedValue | 1/250 |
SidecarForExtension | CR2 |
Software | Adobe Photoshop CS5 Windows |
SplitToningBalance | 0 |
SplitToningHighlightHue | 0 |
SplitToningHighlightSaturation | 0 |
SplitToningShadowHue | 0 |
SplitToningShadowSaturation | 0 |
Tint | +3 |
ToneCurve | 0, 0, 32, 22, 64, 56, 128, 128, 192, 196, 255, 255 |
ToneCurveName | Medium Contrast |
URL_List | |
Version | 6.0 |
Vibrance | 0 |
VignetteAmount | 0 |
WhiteBalance (1) | Custom |
WhiteBalance | Manual |