Felt | Verdi |
AlreadyApplied | True |
Aperture | 32.0 |
ApertureValue | 32.0 |
Artist | Tommy Johansen Aka Grayscale Foto |
AutoLateralCA | 0 |
BitsPerSample | 8 |
Blacks2012 | -42 |
BlueHue | 0 |
BlueSaturation | 0 |
Brightness | +50 |
By-line | Tommy Johansen Aka Grayscale Fot |
CameraProfile | Adobe Standard |
Caption-Abstract | Pan photo of moving train. |
CFAPattern | [Red,Green][Green,Blue] |
CircleOfConfusion | 0.020 mm |
Clarity | 0 |
Clarity2012 | +45 |
ColorComponents | 1 |
ColorMode | RGB |
ColorNoiseReduction | 25 |
ColorNoiseReductionDetail | 50 |
ColorSpace | sRGB |
ColorTemperature | 2000 |
Contrast (1) | +25 |
Contrast | High |
Contrast2012 | +100 |
ConvertToGrayscale | False |
Copyright | .© Tommy Johansen Aka Grayscale foto © all rights reserved 1975 - 2013 |
CopyrightFlag | True |
CopyrightNotice | .© Tommy Johansen Aka Grayscale foto © all rights reserved 1975 - 2013 |
CreateDate | 2013:02:07 15:52:37 |
Creator | Tommy Johansen Aka Grayscale Foto |
CreatorTool | K200D Ver 1.01 |
CropAngle | 0 |
CropBottom | 0.852798 |
CropConstrainToWarp | 1 |
CropLeft | 0.003257 |
CropRight | 1 |
CropTop | 0.06326 |
CustomRendered | Normal |
DateCreated (1) | 2013:02:07 |
DateCreated | 2013:02:07 15:52:37 |
DateTimeOriginal | 2013:02:07 15:52:37 |
Defringe | 0 |
Description | Pan photo of moving train. |
ExifImageHeight | 2046 |
ExifImageWidth | 3859 |
Exposure | 0.00 |
Exposure2012 | +1.00 |
ExposureCompensation | 0 |
ExposureMode | Auto |
ExposureProgram | Shutter speed priority AE |
ExposureTime | 1/4 |
FillLight | 0 |
Flash | Off, Did not fire |
FNumber | 32.0 |
FocalLength | 35.0 mm |
FocalLength35efl | 35.0 mm (35 mm equivalent: 52.0 mm) |
FocalLengthIn35mmFormat | 52 mm |
Format | image/jpeg |
FOV | 38.2 deg |
GrainAmount | 0 |
GreenHue | 0 |
GreenSaturation | 0 |
HasCrop | True |
HasSettings | True |
HighlightRecovery | 0 |
Highlights2012 | -100 |
HueAdjustmentAqua | 0 |
HueAdjustmentBlue | 0 |
HueAdjustmentGreen | 0 |
HueAdjustmentMagenta | 0 |
HueAdjustmentOrange | 0 |
HueAdjustmentPurple | 0 |
HueAdjustmentRed | 0 |
HueAdjustmentYellow | 0 |
HyperfocalDistance | 1.89 m |
ICCProfileName | sRGB IEC61966-2.1 |
ImageDescription | Pan photo of moving train. |
ImageHeight | 2046 |
ImageSize | 3859x2046 |
ImageWidth | 3859 |
ISO | 100 |
Keywords | Tollpost, posten, Tog, Nsb, Train |
Lens | smc PENTAX-DA 18-55mm F3.5-5.6 AL |
LensID (1) | 4 252 |
LensID | smc PENTAX-DA 18-55mm F3.5-5.6 AL |
LensInfo | 18-55mm f/3.5-5.6 |
LensManualDistortionAmount | 0 |
LensModel | smc PENTAX-DA 18-55mm F3.5-5.6 AL |
LensProfileEnable | 0 |
LensProfileSetup | LensDefaults |
LightValue | 12.0 |
LuminanceAdjustmentAqua | 0 |
LuminanceAdjustmentBlue | 0 |
LuminanceAdjustmentGreen | 0 |
LuminanceAdjustmentMagenta | 0 |
LuminanceAdjustmentOrange | 0 |
LuminanceAdjustmentPurple | 0 |
LuminanceAdjustmentRed | 0 |
LuminanceAdjustmentYellow | 0 |
LuminanceSmoothing | 0 |
Make | PENTAX |
Marked | True |
Megapixels | 7.9 |
MeteringMode | Spot |
Model | PENTAX K200D |
ModifyDate (1) | 2013:02:07 22:28:36+01:00 |
ModifyDate | 2013:02:07 22:28:36 |
ObjectName | Posten skal fram. |
Orientation | Horizontal (normal) |
ParametricDarks | 0 |
ParametricHighlights | 0 |
ParametricHighlightSplit | 75 |
ParametricLights | 0 |
ParametricMidtoneSplit | 50 |
ParametricShadows | 0 |
ParametricShadowSplit | 25 |
PerspectiveHorizontal | 0 |
PerspectiveRotate | 0.0 |
PerspectiveScale | 100 |
PerspectiveVertical | 0 |
PostCropVignetteAmount | 0 |
ProcessVersion | 6.7 |
ProfileDescription | sRGB IEC61966-2.1 |
Rating | 0 |
RawFileName | IMGP6883.PEF |
RedHue | 0 |
RedSaturation | 0 |
Rights | .© Tommy Johansen Aka Grayscale foto © all rights reserved 1975 - 2013 |
Saturation (1) | -100 |
Saturation | High |
SaturationAdjustmentAqua | 0 |
SaturationAdjustmentBlue | 0 |
SaturationAdjustmentGreen | 0 |
SaturationAdjustmentMagenta | 0 |
SaturationAdjustmentOrange | 0 |
SaturationAdjustmentPurple | 0 |
SaturationAdjustmentRed | 0 |
SaturationAdjustmentYellow | 0 |
ScaleFactor35efl | 1.5 |
SceneCaptureType | Standard |
SensingMethod | One-chip color area |
Shadows | 5 |
Shadows2012 | -33 |
ShadowTint | 0 |
SharpenDetail | 25 |
SharpenEdgeMasking | 0 |
SharpenRadius | +1.0 |
Sharpness (1) | 25 |
Sharpness | Normal |
ShutterSpeed | 1/4 |
ShutterSpeedValue | 1/4 |
Software | Adobe Photoshop CS6 (Windows) |
SplitToningBalance | 0 |
SplitToningHighlightHue | 0 |
SplitToningHighlightSaturation | 0 |
SplitToningShadowHue | 0 |
SplitToningShadowSaturation | 0 |
Subject | Tollpost, posten, Tog, Nsb, Train |
SubjectDistanceRange | Distant |
Tint | 0 |
Title | Posten skal fram. |
ToneCurve | 0, 0, 32, 22, 64, 56, 128, 128, 192, 196, 255, 255 |
ToneCurveBlue | 0, 0, 255, 255 |
ToneCurveGreen | 0, 0, 255, 255 |
ToneCurveName | Medium Contrast |
ToneCurveName2012 | Linear |
ToneCurvePV2012 | 0, 0, 255, 255 |
ToneCurvePV2012Blue | 0, 0, 255, 255 |
ToneCurvePV2012Green | 0, 0, 255, 255 |
ToneCurvePV2012Red | 0, 0, 255, 255 |
ToneCurveRed | 0, 0, 255, 255 |
URL_List | |
Version | 7.0 |
Vibrance | -100 |
VignetteAmount | 0 |
WhiteBalance (1) | Custom |
WhiteBalance | Auto |
Whites2012 | +46 |