Felt | Verdi |
AlreadyApplied | True |
Aperture | 8.0 |
ApertureValue | 8.0 |
Artist | Thorsteinn Asgeirsson |
BitsPerSample | 8 |
BlueHue | 0 |
BlueSaturation | 0 |
Brightness | 0 |
By-line | Thorsteinn Asgeirsson |
CameraProfile | Embedded |
ChromaticAberrationB | 0 |
ChromaticAberrationR | 0 |
CircleOfConfusion | 0.030 mm |
Clarity | 0 |
ColorComponents | 3 |
ColorNoiseReduction | 0 |
Contrast | 0 |
ConvertToGrayscale | False |
CreateDate (1) | 2012:09:16 16:38 |
CreateDate | 2012:09:16 16:38:00 |
Creator | Thorsteinn Asgeirsson |
CreatorTool | Adobe Photoshop Lightroom |
CustomRendered | Normal |
DateCreated (1) | 2012:09:16 |
DateCreated | 2012:09:16 16:38 |
DateTimeDigitized | 2012:09:16 16:38:00Z |
DateTimeOriginal (1) | 2012:09:16 16:38:00Z |
DateTimeOriginal | 2012:09:16 16:38:00 |
Defringe | 0 |
ExifImageHeight | 1050 |
ExifImageWidth | 1575 |
Exposure | 0.00 |
ExposureCompensation | 0 |
ExposureMode | Manual |
ExposureProgram | Manual |
ExposureTime | 1/160 |
FillLight | 0 |
Firmware | 1.1.0 |
Flash | Off, Did not fire |
FlashCompensation | 0 |
FlashFired | False |
FlashFunction | False |
FlashMode | Off |
FlashRedEyeMode | False |
FlashReturn | No return detection |
FNumber | 8.0 |
FocalLength | 24.0 mm |
FocalLength35efl | 24.0 mm (35 mm equivalent: 24.0 mm) |
Format | image/jpeg |
FOV | 73.6 deg |
GrainAmount | 0 |
GreenHue | 0 |
GreenSaturation | 0 |
HasCrop | False |
HasSettings | True |
HighlightRecovery | 0 |
HueAdjustmentAqua | 0 |
HueAdjustmentBlue | 0 |
HueAdjustmentGreen | 0 |
HueAdjustmentMagenta | 0 |
HueAdjustmentOrange | 0 |
HueAdjustmentPurple | 0 |
HueAdjustmentRed | 0 |
HueAdjustmentYellow | 0 |
HyperfocalDistance | 2.40 m |
ImageHeight | 1050 |
ImageNumber | 62 |
ImageSize | 1575x1050 |
ImageWidth | 1575 |
IncrementalTemperature | 0 |
IncrementalTint | 0 |
ISO | 100 |
Lens | EF24-70mm f/2.8L USM |
LensID (1) | 230 |
LensID | Canon EF 24-70mm f/2.8L USM |
LensInfo | 24-70mm f/? |
LensManualDistortionAmount | 0 |
LensProfileEnable | 0 |
LensProfileSetup | LensDefaults |
LightValue | 13.3 |
LuminanceAdjustmentAqua | 0 |
LuminanceAdjustmentBlue | 0 |
LuminanceAdjustmentGreen | 0 |
LuminanceAdjustmentMagenta | 0 |
LuminanceAdjustmentOrange | 0 |
LuminanceAdjustmentPurple | 0 |
LuminanceAdjustmentRed | 0 |
LuminanceAdjustmentYellow | 0 |
LuminanceSmoothing | 0 |
Make | Canon |
MaxApertureValue | 2.8 |
Megapixels | 1.7 |
MeteringMode | Spot |
Model | Canon EOS 5D |
ModifyDate (1) | 2012:09:16 21:25:28Z |
ModifyDate | 2012:09:16 21:25:28 |
OwnerName | Thorsteinn Asgeirsson |
PaintCorrectionActive | true |
PaintCorrectionAmount | 1.000000 |
PaintCorrectionBrightness (1) | 0.024000 |
PaintCorrectionBrightness (7) | 0.390000 |
PaintCorrectionBrightness | 0.000000 |
PaintCorrectionClarity (10) | 0.561000 |
PaintCorrectionClarity (11) | 0.732000 |
PaintCorrectionClarity (12) | 0.707000 |
PaintCorrectionClarity (4) | 0.341000 |
PaintCorrectionClarity (9) | 0.683000 |
PaintCorrectionClarity | 0.000000 |
PaintCorrectionContrast (1) | 0.659000 |
PaintCorrectionContrast | 0.000000 |
PaintCorrectionExposure (1) | 0.073000 |
PaintCorrectionExposure (10) | 0.024000 |
PaintCorrectionExposure (2) | 0.000000 |
PaintCorrectionExposure (5) | 0.122000 |
PaintCorrectionExposure (6) | 0.098000 |
PaintCorrectionExposure (7) | 0.244000 |
PaintCorrectionExposure | -0.122000 |
PaintCorrectionHue | 236.000000 |
PaintCorrectionMaskCenterWeight | 0.039386 |
PaintCorrectionMaskFlow | 1.000000 |
PaintCorrectionMaskRadius (12) | 0.008284 |
PaintCorrectionMaskRadius (13) | 0.017405 |
PaintCorrectionMaskRadius (16) | 0.016200 |
PaintCorrectionMaskRadius (26) | 0.091556 |
PaintCorrectionMaskRadius (32) | 0.006187 |
PaintCorrectionMaskRadius (35) | 0.011566 |
PaintCorrectionMaskRadius (38) | 0.007226 |
PaintCorrectionMaskRadius (4) | 0.004164 |
PaintCorrectionMaskRadius (41) | 0.005167 |
PaintCorrectionMaskRadius | 0.029199 |
PaintCorrectionMaskValue | 1.000000 |
PaintCorrectionMaskWhat | Mask/Paint |
PaintCorrectionSaturation (1) | 0.829000 |
PaintCorrectionSaturation (17) | 0.756000 |
PaintCorrectionSaturation (19) | 0.488000 |
PaintCorrectionSaturation (21) | 0.780000 |
PaintCorrectionSaturation (3) | -0.463000 |
PaintCorrectionSaturation | 0.000000 |
PaintCorrectionSharpness (12) | 0.122000 |
PaintCorrectionSharpness | 0.000000 |
PaintCorrectionWhat | Correction |
ParametricDarks | 0 |
ParametricHighlights | 0 |
ParametricHighlightSplit | 75 |
ParametricLights | 0 |
ParametricMidtoneSplit | 50 |
ParametricShadows | 0 |
ParametricShadowSplit | 25 |
PerspectiveHorizontal | 0 |
PerspectiveRotate | 0.0 |
PerspectiveScale | 100 |
PerspectiveVertical | 0 |
PostCropVignetteAmount | 0 |
ProcessVersion | 5.7 |
ProfileDescription | sRGB IEC61966-2.1 |
RedHue | 0 |
RedSaturation | 0 |
Saturation | 0 |
SaturationAdjustmentAqua | 0 |
SaturationAdjustmentBlue | 0 |
SaturationAdjustmentGreen | 0 |
SaturationAdjustmentMagenta | 0 |
SaturationAdjustmentOrange | 0 |
SaturationAdjustmentPurple | 0 |
SaturationAdjustmentRed | 0 |
SaturationAdjustmentYellow | 0 |
ScaleFactor35efl | 1.0 |
SceneCaptureType | Standard |
SerialNumber | 1330805581 |
Shadows | 0 |
ShadowTint | 0 |
SharpenDetail | 25 |
SharpenEdgeMasking | 0 |
SharpenRadius | +1.0 |
Sharpness | 0 |
ShutterSpeed | 1/160 |
ShutterSpeedValue | 1/160 |
Software | Adobe Photoshop Lightroom |
SplitToningBalance | 0 |
SplitToningHighlightHue | 0 |
SplitToningHighlightSaturation | 0 |
SplitToningShadowHue | 0 |
SplitToningShadowSaturation | 0 |
ToneCurve | 0, 0, 255, 255 |
ToneCurveName | Linear |
Version | 6.1 |
Vibrance | -13 |
VignetteAmount | 0 |
WhiteBalance (2) | As Shot |
WhiteBalance | Auto |