Felt | Verdi |
AlreadyApplied | True |
Aperture | 22.0 |
ApertureValue | 22.0 |
ApproximateFocusDistance | 9.7 |
AutoLateralCA | 0 |
BitsPerSample | 8 |
Blacks2012 | -85 |
BlueHue | 0 |
BlueSaturation | 0 |
Brightness | +50 |
CameraProfile | Adobe Standard |
CircleOfConfusion | 0.031 mm |
Clarity | 0 |
Clarity2012 | 0 |
ColorComponents | 3 |
ColorNoiseReduction | 25 |
ColorNoiseReductionDetail | 50 |
ColorTemperature | 5800 |
Contrast | +25 |
Contrast2012 | 0 |
ConvertToGrayscale | True |
Copyright | ©Chris André Gilberg |
CopyrightFlag | True |
CopyrightNotice | ©Chris André Gilberg |
CreateDate (1) | 2012:03:27 12:08:47.99 |
CreateDate | 2012:03:27 12:08:47 |
CreatorTool | Adobe Photoshop Lightroom 4.0 (Windows) |
CropAngle | 0 |
CropBottom | 0.869748 |
CropConstrainToWarp | 0 |
CropHeight | 3256 |
CropLeft | 0 |
CropRight | 1 |
CropTop | 0 |
CropUnit | pixels |
CropWidth | 5616 |
CustomRendered | Normal |
DateCreated (1) | 2012:03:27 |
DateCreated | 2012:03:27 12:08:47.99 |
DateTimeOriginal | 2012:03:27 12:08:47 |
Defringe | 0 |
DOF | inf (2.06 m - inf) |
Exposure | 0.00 |
Exposure2012 | 0.00 |
ExposureCompensation | 0 |
ExposureMode | Manual |
ExposureProgram | Manual |
ExposureTime | 1/80 |
FillLight | 0 |
Firmware | 2.0.7 |
Flash | Off, Did not fire |
FlashCompensation | 0 |
FNumber | 22.0 |
FocalLength | 42.0 mm |
FocalLength35efl | 42.0 mm (35 mm equivalent: 41.0 mm) |
Format | image/jpeg |
FOV | 47.4 deg |
GradientBasedCorrActive | true |
GradientBasedCorrAmount | 1.000000 |
GradientBasedCorrBrightness | 0.000000 |
GradientBasedCorrClarity2012 | 0.000000 |
GradientBasedCorrContrast2012 | 0.000000 |
GradientBasedCorrExposure2012 (1) | -0.350000 |
GradientBasedCorrExposure2012 (3) | -1.000000 |
GradientBasedCorrExposure2012 | 0.000000 |
GradientBasedCorrHighlights2012 | 0.000000 |
GradientBasedCorrHue | 240.000000 |
GradientBasedCorrLuminanceNoise | 0.000000 |
GradientBasedCorrMaskFullX (1) | 0.997199 |
GradientBasedCorrMaskFullX (2) | 0.657638 |
GradientBasedCorrMaskFullX (3) | 0.438110 |
GradientBasedCorrMaskFullX (4) | -0.011204 |
GradientBasedCorrMaskFullX (5) | 1.011140 |
GradientBasedCorrMaskFullX | 0.026611 |
GradientBasedCorrMaskFullY (1) | 0.058824 |
GradientBasedCorrMaskFullY (2) | -0.083698 |
GradientBasedCorrMaskFullY (3) | 0.989238 |
GradientBasedCorrMaskFullY (4) | 0.224790 |
GradientBasedCorrMaskFullY (5) | 0.592163 |
GradientBasedCorrMaskFullY | 0.539916 |
GradientBasedCorrMaskValue | 1.000000 |
GradientBasedCorrMaskWhat | Mask/Gradient |
GradientBasedCorrMaskZeroX (1) | 0.319387 |
GradientBasedCorrMaskZeroX (2) | 0.636392 |
GradientBasedCorrMaskZeroX (3) | 0.451451 |
GradientBasedCorrMaskZeroX (4) | 0.117647 |
GradientBasedCorrMaskZeroX (5) | 0.897827 |
GradientBasedCorrMaskZeroX | 0.861345 |
GradientBasedCorrMaskZeroY (1) | 0.650137 |
GradientBasedCorrMaskZeroY (2) | 0.198990 |
GradientBasedCorrMaskZeroY (3) | 0.722638 |
GradientBasedCorrMaskZeroY (4) | 0.250000 |
GradientBasedCorrMaskZeroY (5) | 0.563300 |
GradientBasedCorrMaskZeroY | 0.525210 |
GradientBasedCorrMoire | 0.000000 |
GradientBasedCorrSaturation | 0.000000 |
GradientBasedCorrShadows2012 (4) | 0.000000 |
GradientBasedCorrShadows2012 | 0.035290 |
GradientBasedCorrSharpness | 0.000000 |
GradientBasedCorrTemperature | 0.000000 |
GradientBasedCorrTint | 0.000000 |
GradientBasedCorrWhat | Correction |
GrainAmount | 0 |
GrayMixerAqua | -16 |
GrayMixerBlue | +15 |
GrayMixerGreen | -29 |
GrayMixerMagenta | +4 |
GrayMixerOrange | -22 |
GrayMixerPurple | +19 |
GrayMixerRed | -12 |
GrayMixerYellow | -26 |
GreenHue | 0 |
GreenSaturation | 0 |
HasCrop | True |
HasSettings | True |
HighlightRecovery | 0 |
Highlights2012 | +55 |
HyperfocalDistance | 2.60 m |
ImageHeight | 5616 |
ImageNumber | 0 |
ImageSize | 3256x5616 |
ImageWidth | 3256 |
ISO | 640 |
Lens | EF24-70mm f/2.8L USM |
LensID (1) | 230 |
LensID | Canon EF 24-70mm f/2.8L USM |
LensInfo | 24-70mm f/? |
LensManualDistortionAmount | 0 |
LensModel | EF24-70mm f/2.8L USM |
LensProfileEnable | 0 |
LensProfileSetup | LensDefaults |
LightValue | 12.6 |
LuminanceSmoothing | 0 |
Make | Canon |
Marked | True |
MaxApertureValue | 2.8 |
Megapixels | 18.3 |
MeteringMode | Multi-segment |
Model | Canon EOS 5D Mark II |
ModifyDate (1) | 2012:03:28 00:32:18+02:00 |
ModifyDate | 2012:03:28 00:32:18 |
PaintCorrectionActive | true |
PaintCorrectionAmount | 1.000000 |
PaintCorrectionBrightness | 0.000000 |
PaintCorrectionClarity2012 | 0.000000 |
PaintCorrectionContrast2012 | 0.000000 |
PaintCorrectionExposure2012 (1) | 0.200000 |
PaintCorrectionExposure2012 (2) | -0.075000 |
PaintCorrectionExposure2012 (3) | -0.219000 |
PaintCorrectionExposure2012 (4) | 0.000000 |
PaintCorrectionExposure2012 (5) | 0.062500 |
PaintCorrectionExposure2012 (6) | 0.337500 |
PaintCorrectionExposure2012 | -0.175000 |
PaintCorrectionHighlights2012 | 0.000000 |
PaintCorrectionHue (4) | 48.000000 |
PaintCorrectionHue | 240.000000 |
PaintCorrectionLuminanceNoise | 0.000000 |
PaintCorrectionMaskCenterWeight (1) | 0.017638 |
PaintCorrectionMaskCenterWeight (65) | 1.000000 |
PaintCorrectionMaskCenterWeight (68) | 0.000000 |
PaintCorrectionMaskCenterWeight (9) | 0.034637 |
PaintCorrectionMaskCenterWeight | 0.011520 |
PaintCorrectionMaskFlow | 1.000000 |
PaintCorrectionMaskRadius (13) | 0.140125 |
PaintCorrectionMaskRadius (15) | 0.185354 |
PaintCorrectionMaskRadius (21) | 0.233324 |
PaintCorrectionMaskRadius (22) | 0.220683 |
PaintCorrectionMaskRadius (31) | 0.127504 |
PaintCorrectionMaskRadius (4) | 0.296971 |
PaintCorrectionMaskRadius (44) | 0.060128 |
PaintCorrectionMaskRadius (60) | 0.037522 |
PaintCorrectionMaskRadius (63) | 0.024841 |
PaintCorrectionMaskRadius (68) | 0.063362 |
PaintCorrectionMaskRadius (69) | 0.546347 |
PaintCorrectionMaskRadius (7) | 0.151176 |
PaintCorrectionMaskRadius (70) | 0.261062 |
PaintCorrectionMaskRadius (71) | 0.234854 |
PaintCorrectionMaskRadius (72) | 0.209374 |
PaintCorrectionMaskRadius (9) | 0.118539 |
PaintCorrectionMaskRadius | 0.222023 |
PaintCorrectionMaskValue | 1.000000 |
PaintCorrectionMaskWhat | Mask/Paint |
PaintCorrectionMoire | 0.000000 |
PaintCorrectionSaturation (8) | 0.670000 |
PaintCorrectionSaturation | 0.000000 |
PaintCorrectionShadows2012 | 0.000000 |
PaintCorrectionSharpness | 0.000000 |
PaintCorrectionTemperature | 0.000000 |
PaintCorrectionTint | 0.000000 |
PaintCorrectionWhat | Correction |
ParametricDarks | 0 |
ParametricHighlights | 0 |
ParametricHighlightSplit | 75 |
ParametricLights | 0 |
ParametricMidtoneSplit | 50 |
ParametricShadows | 0 |
ParametricShadowSplit | 25 |
PerspectiveHorizontal | 0 |
PerspectiveRotate | 0.0 |
PerspectiveScale | 100 |
PerspectiveVertical | 0 |
PostCropVignetteAmount | 0 |
ProcessVersion | 6.7 |
ProfileDescription | sRGB IEC61966-2.1 |
Rating | 1 |
RedHue | 0 |
RedSaturation | 0 |
Rights | ©Chris André Gilberg |
ScaleFactor35efl | 1.0 |
SceneCaptureType | Standard |
SerialNumber | 2331316328 |
Shadows | 5 |
Shadows2012 | 0 |
ShadowTint | 0 |
SharpenDetail | 25 |
SharpenEdgeMasking | 0 |
SharpenRadius | +1.0 |
Sharpness | 150 |
ShutterSpeed | 1/80 |
ShutterSpeedValue | 1/80 |
Software | Adobe Photoshop Lightroom 4.0 (Windows) |
SplitToningBalance | 0 |
SplitToningHighlightHue | 0 |
SplitToningHighlightSaturation | 0 |
SplitToningShadowHue | 0 |
SplitToningShadowSaturation | 0 |
Tint | +3 |
ToneCurve | 0, 0, 255, 255 |
ToneCurveBlue | 0, 0, 255, 255 |
ToneCurveGreen | 0, 0, 255, 255 |
ToneCurveName | Linear |
ToneCurveName2012 | Linear |
ToneCurvePV2012 | 0, 0, 255, 255 |
ToneCurvePV2012Blue | 0, 0, 255, 255 |
ToneCurvePV2012Green | 0, 0, 255, 255 |
ToneCurvePV2012Red | 0, 0, 255, 255 |
ToneCurveRed | 0, 0, 255, 255 |
Version | 7.0 |
VignetteAmount | 0 |
WhiteBalance (1) | Custom |
WhiteBalance | Auto |
Whites2012 | +45 |