Felt | Verdi |
AlreadyApplied | True |
Aperture | 5.6 |
ApertureValue | 5.6 |
ApproximateFocusDistance | 4294967295 |
Artist | Ronny Moan |
BitsPerSample | 8 |
BlueHue | 0 |
BlueSaturation | 0 |
Brightness | +50 |
By-line | Ronny Moan |
CameraProfile | Adobe Standard |
CFAPattern | [Green,Blue][Red,Green] |
ChromaticAberrationB | 0 |
ChromaticAberrationR | 0 |
CircleOfConfusion | 0.020 mm |
Clarity | +24 |
ColorComponents | 3 |
ColorNoiseReduction | 25 |
ColorNoiseReductionDetail | 50 |
ColorTemperature | 5550 |
Contrast (2) | +25 |
Contrast | High |
ConvertToGrayscale | True |
Copyright | (C)2008 Ronny Moan, all rights reserved |
CopyrightFlag | True |
CopyrightNotice | (C)2008 Ronny Moan, all rights reserved |
CreateDate (1) | 2009:01:11 14:43:06.00+01:00 |
CreateDate | 2009:01:11 14:43:06 |
Creator | Ronny Moan |
CreatorAddress | Nordsiveien 196 |
CreatorCity | Soerreisa |
CreatorCountry | Norway |
CreatorPostalCode | 9310 |
CreatorTool | Adobe Photoshop Lightroom 3.3 |
CreatorWorkEmail | ronny@moan.dk |
CropAngle | 0 |
CropBottom | 0.850796 |
CropConstrainToWarp | 0 |
CropHeight | 1274 |
CropLeft | 0.211103 |
CropRight | 0.704514 |
CropTop | 0.359416 |
CropUnit | pixels |
CropWidth | 1910 |
CustomRendered | Normal |
DateTimeDigitized | 2009:01:11 14:43:06.00+01:00 |
DateTimeOriginal (1) | 2009:01:11 14:43:06.00+01:00 |
DateTimeOriginal | 2009:01:11 14:43:06 |
Defringe | 0 |
DigitalZoomRatio | 1 |
DOF | inf (162.07 m - inf) |
ExifImageHeight | 1274 |
ExifImageWidth | 1910 |
Exposure | 0.00 |
ExposureCompensation | -1/3 |
ExposureMode | Auto |
ExposureProgram | Aperture-priority AE |
ExposureTime | 1/5 |
FillLight | 26 |
Flash | No Flash |
FlashFired | False |
FlashFunction | False |
FlashMode | Unknown |
FlashRedEyeMode | False |
FlashReturn | No return detection |
FNumber | 5.6 |
FocalLength | 135.0 mm |
FocalLength35efl | 135.0 mm (35 mm equivalent: 202.0 mm) |
FocalLengthIn35mmFormat | 202 mm |
FOV | 10.2 deg |
GainControl | Low gain up |
GrainAmount | 0 |
GrayMixerAqua | -13 |
GrayMixerBlue | +24 |
GrayMixerGreen | -30 |
GrayMixerMagenta | +7 |
GrayMixerOrange | -24 |
GrayMixerPurple | +26 |
GrayMixerRed | -13 |
GrayMixerYellow | -29 |
GreenHue | 0 |
GreenSaturation | 0 |
HasCrop | True |
HasSettings | True |
HighlightRecovery | 0 |
HyperfocalDistance | 162.07 m |
ImageHeight | 1274 |
ImageNumber | 3519 |
ImageSize | 1910x1274 |
ImageWidth | 1910 |
ISO | 400 |
Keywords | Elv, Skøelva |
Lens | 18.0-135.0 mm f/3.5-5.6 |
LensID (1) | 143 |
LensID | AF-S DX Zoom-Nikkor 18-135mm f/3.5-5.6G IF-ED |
LensInfo | 18-135mm f/3.5-5.6 |
LensManualDistortionAmount | 0 |
LensModel | 18.0-135.0 mm f/3.5-5.6 |
LensProfileEnable | 0 |
LensProfileSetup | LensDefaults |
LightSource | Cloudy |
LightValue | 5.3 |
LuminanceSmoothing | 0 |
Make | NIKON CORPORATION |
Marked | True |
MaxApertureValue | 5.7 |
Megapixels | 2.4 |
MeteringMode | Spot |
Model | NIKON D80 |
ModifyDate (1) | 2012:03:14 22:04:49+01:00 |
ModifyDate | 2012:03:14 22:04:49 |
ParametricDarks | -17 |
ParametricHighlights | 0 |
ParametricHighlightSplit | 75 |
ParametricLights | +28 |
ParametricMidtoneSplit | 50 |
ParametricShadows | 0 |
ParametricShadowSplit | 25 |
PerspectiveHorizontal | 0 |
PerspectiveRotate | 0.0 |
PerspectiveScale | 100 |
PerspectiveVertical | 0 |
PostCropVignetteAmount | 0 |
ProcessVersion | 5.7 |
ProfileDescription | sRGB IEC61966-2.1 |
RedHue | 0 |
RedSaturation | 0 |
Rights | (C)2008 Ronny Moan, all rights reserved |
Saturation | Normal |
ScaleFactor35efl | 1.5 |
SceneCaptureType | Standard |
SceneType | Directly photographed |
SensingMethod | One-chip color area |
SensitivityType | Unknown |
SerialNumber | 4240651 |
Shadows | 2 |
ShadowTint | 0 |
SharpenDetail | 25 |
SharpenEdgeMasking | 0 |
SharpenRadius | +1.0 |
Sharpness (2) | 121 |
Sharpness | Normal |
ShutterSpeed | 1/5 |
ShutterSpeedValue | 1/5 |
Software | Nikon Transfer 1.0 W |
SplitToningBalance | 0 |
SplitToningHighlightHue | 51 |
SplitToningHighlightSaturation | 22 |
SplitToningShadowHue | 37 |
SplitToningShadowSaturation | 32 |
Subject | Elv, Skøelva |
SubjectDistance | 4294967295 m |
SubjectDistanceRange | Unknown |
Tint | -4 |
ToneCurve | 0, 0, 32, 16, 64, 50, 128, 128, 192, 202, 255, 255 |
ToneCurveName | Strong Contrast |
Version | 6.3 |
VignetteAmount | 0 |
WhiteBalance (2) | Custom |
WhiteBalance | Manual |