Felt | Verdi |
AlreadyApplied | True |
Aperture | 5.0 |
ApertureValue | 5.0 |
BitsPerSample | 8 |
BlueHue | 0 |
BlueSaturation | 0 |
Brightness | +46 |
CameraProfile | Embedded |
ChromaticAberrationB | -9 |
ChromaticAberrationR | -16 |
CircleOfConfusion | 0.018 mm |
Clarity | +30 |
ColorComponents | 3 |
ColorMode | RGB |
ColorNoiseReduction | 0 |
ColorSpace | sRGB |
ColorTemperature | 5400 |
Contrast | +50 |
ConvertToGrayscale | True |
CreateDate | 2011:03:04 17:17:43+01:00 |
CreatorTool | Adobe Photoshop CS5 Macintosh |
DateCreated (1) | 2011:03:04 |
DateCreated | 2011:03:04 17:17:43 |
DateTimeOriginal | 2011:03:04 17:17:43 |
Defringe | 0 |
ExifImageHeight | 907 |
ExifImageWidth | 605 |
Exposure | 0.00 |
ExposureCompensation | 0 |
ExposureProgram | Aperture-priority AE |
ExposureTime | 1/160 |
FillLight | 0 |
Firmware | 2.00 |
FNumber | 5.0 |
FocalLength | 16.6 mm |
FocalLength35efl | 16.6 mm (35 mm equivalent: 28.0 mm) |
FocalLengthIn35mmFormat | 28 mm |
Format | image/jpeg |
FOV | 65.5 deg |
GrainAmount | 0 |
GrayMixerAqua | +3 |
GrayMixerBlue | +6 |
GrayMixerGreen | -8 |
GrayMixerMagenta | +22 |
GrayMixerOrange | -1 |
GrayMixerPurple | +10 |
GrayMixerRed | +18 |
GrayMixerYellow | +3 |
GreenHue | 0 |
GreenSaturation | 0 |
HasCrop | False |
HasSettings | True |
HighlightRecovery | 8 |
HyperfocalDistance | 3.09 m |
ICCProfileName | sRGB IEC61966-2.1 |
ImageHeight | 907 |
ImageSize | 605x907 |
ImageWidth | 605 |
ISO | 100 |
Label | Approved |
Lens | 16.6 mm |
LensID (1) | |
LensID | Unknown ( ) |
LensInfo | 16.6mm f/? |
LightValue | 12.0 |
LuminanceSmoothing | 0 |
Make | SIGMA |
Megapixels | 0.549 |
MeteringMode | Multi-segment |
Model | SIGMA DP1 |
ModifyDate (1) | 2011:06:02 10:02:18+02:00 |
ModifyDate | 2011:06:02 10:02:18 |
Orientation | Horizontal (normal) |
ParametricDarks | 0 |
ParametricHighlights | 0 |
ParametricHighlightSplit | 75 |
ParametricLights | 0 |
ParametricMidtoneSplit | 50 |
ParametricShadows | 0 |
ParametricShadowSplit | 25 |
PostCropVignetteAmount | 0 |
ProcessVersion | 5.7 |
ProfileDescription | sRGB IEC61966-2.1 |
Rating | 0 |
RawFileName | SDIM1363.X3F |
RedHue | 0 |
RedSaturation | 0 |
ScaleFactor35efl | 1.7 |
SerialNumber | 1012267 |
Shadows | 0 |
ShadowTint | 0 |
SharpenDetail | 35 |
SharpenEdgeMasking | 0 |
SharpenRadius | +0.5 |
Sharpness | 50 |
ShutterSpeed | 1/160 |
ShutterSpeedValue | 1/160 |
SidecarForExtension | X3F |
Software | Adobe Photoshop CS5 Macintosh |
SplitToningBalance | 0 |
SplitToningHighlightHue | 0 |
SplitToningHighlightSaturation | 0 |
SplitToningShadowHue | 0 |
SplitToningShadowSaturation | 0 |
Tint | 0 |
ToneCurve | 0, 0, 32, 22, 64, 56, 128, 128, 192, 196, 255, 255 |
ToneCurveName | Medium Contrast |
URL_List | |
Version | 6.0 |
VignetteAmount | 0 |
WhiteBalance | As Shot |