Felt | Verdi |
AlreadyApplied | True |
Aperture | 6.3 |
ApertureValue | 6.3 |
ApproximateFocusDistance | 15 |
BitsPerSample | 8 |
BlueHue | 0 |
BlueSaturation | 0 |
Brightness | +31 |
CameraProfile | Embedded |
CFAPattern | [Red,Green][Green,Blue] |
ChromaticAberrationB | 0 |
ChromaticAberrationR | 0 |
CircleOfConfusion | 0.020 mm |
Clarity | 0 |
ColorComponents | 3 |
ColorNoiseReduction | 0 |
Contrast (1) | -9 |
Contrast | Normal |
ConvertToGrayscale | False |
CreateDate (1) | 2012:01:25 13:00:20.00 |
CreateDate | 2012:01:25 13:00:20 |
CreatorTool | Adobe Photoshop Lightroom 3.6 (Macintosh) |
CropAngle | 0 |
CropBottom | 0.8737 |
CropConstrainToWarp | 0 |
CropHeight | 1584 |
CropLeft | 0 |
CropRight | 0.893069 |
CropTop | 0.072809 |
CropUnit | pixels |
CropWidth | 2650 |
CustomRendered | Normal |
DateCreated (1) | 2012:01:25 |
DateCreated | 2012:01:25 13:00:20.00 |
DateTimeOriginal | 2012:01:25 13:00:20 |
Defringe | 0 |
DigitalZoomRatio | 1 |
DOF | 0.35 m (14.83 - 15.17 m) |
Exposure | +0.75 |
ExposureCompensation | 0 |
ExposureMode | Auto |
ExposureProgram | Not Defined |
ExposureTime | 1/640 |
FillLight | 0 |
Flash | Off, Did not fire |
FNumber | 6.3 |
FocalLength | 400.0 mm |
FocalLength35efl | 400.0 mm (35 mm equivalent: 600.0 mm) |
FocalLengthIn35mmFormat | 600 mm |
Format | image/jpeg |
FOV | 3.4 deg |
GainControl | High gain up |
GrainAmount | 0 |
GreenHue | 0 |
GreenSaturation | 0 |
HasCrop | True |
HasSettings | True |
HighlightRecovery | 24 |
HueAdjustmentAqua | 0 |
HueAdjustmentBlue | 0 |
HueAdjustmentGreen | 0 |
HueAdjustmentMagenta | 0 |
HueAdjustmentOrange | 0 |
HueAdjustmentPurple | 0 |
HueAdjustmentRed | 0 |
HueAdjustmentYellow | 0 |
HyperfocalDistance | 1267.89 m |
ImageHeight | 1584 |
ImageNumber | 6789 |
ImageSize | 2650x1584 |
ImageWidth | 2650 |
IncrementalTemperature | 0 |
IncrementalTint | 0 |
ISO | 1250 |
Lens | 80.0-400.0 mm f/4.5-5.6 |
LensID (1) | 101 |
LensID | AF VR Zoom-Nikkor 80-400mm f/4.5-5.6D ED |
LensInfo | 80-400mm f/4.5-5.6 |
LensManualDistortionAmount | 0 |
LensModel | 80.0-400.0 mm f/4.5-5.6 |
LensProfileEnable | 0 |
LensProfileSetup | LensDefaults |
LightSource | Unknown |
LightValue | 11.0 |
LuminanceAdjustmentAqua | 0 |
LuminanceAdjustmentBlue | 0 |
LuminanceAdjustmentGreen | 0 |
LuminanceAdjustmentMagenta | 0 |
LuminanceAdjustmentOrange | 0 |
LuminanceAdjustmentPurple | 0 |
LuminanceAdjustmentRed | 0 |
LuminanceAdjustmentYellow | 0 |
LuminanceNoiseReductionContrast | 0 |
LuminanceNoiseReductionDetail | 50 |
LuminanceSmoothing | 47 |
Make | NIKON CORPORATION |
MaxApertureValue | 5.7 |
Megapixels | 4.2 |
MeteringMode | Multi-segment |
Model | NIKON D7000 |
ModifyDate (1) | 2012:01:25 17:46:07+01:00 |
ModifyDate | 2012:01:25 17:46:07 |
ParametricDarks | 0 |
ParametricHighlights | 0 |
ParametricHighlightSplit | 75 |
ParametricLights | 0 |
ParametricMidtoneSplit | 50 |
ParametricShadows | 0 |
ParametricShadowSplit | 25 |
PerspectiveHorizontal | 0 |
PerspectiveRotate | 0.0 |
PerspectiveScale | 100 |
PerspectiveVertical | 0 |
PostCropVignetteAmount | 0 |
ProcessVersion | 5.7 |
ProfileDescription | sRGB IEC61966-2.1 |
RedHue | 0 |
RedSaturation | 0 |
Saturation (1) | 0 |
Saturation | Normal |
SaturationAdjustmentAqua | 0 |
SaturationAdjustmentBlue | 0 |
SaturationAdjustmentGreen | 0 |
SaturationAdjustmentMagenta | 0 |
SaturationAdjustmentOrange | 0 |
SaturationAdjustmentPurple | 0 |
SaturationAdjustmentRed | 0 |
SaturationAdjustmentYellow | 0 |
ScaleFactor35efl | 1.5 |
SceneCaptureType | Standard |
SceneType | Directly photographed |
SensingMethod | One-chip color area |
SensitivityType | Recommended Exposure Index |
SerialNumber | 6200900 |
Shadows | 0 |
ShadowTint | 0 |
SharpenDetail | 53 |
SharpenEdgeMasking | 48 |
SharpenRadius | +2.4 |
Sharpness (1) | 84 |
Sharpness | Normal |
ShutterSpeed | 1/640 |
ShutterSpeedValue | 1/640 |
Software | Adobe Photoshop Lightroom 3.6 (Macintosh) |
SplitToningBalance | 0 |
SplitToningHighlightHue | 0 |
SplitToningHighlightSaturation | 0 |
SplitToningShadowHue | 0 |
SplitToningShadowSaturation | 0 |
SubjectDistance | 15 m |
SubjectDistanceRange | Unknown |
ToneCurve | 0, 0, 255, 255 |
ToneCurveName | Linear |
Version | 6.6 |
Vibrance | 0 |
VignetteAmount | 0 |
WhiteBalance (1) | As Shot |
WhiteBalance | Auto |