Felt | Verdi |
AlreadyApplied | True |
Aperture | 2.2 |
ApertureValue | 2.2 |
Artist | stian furuseth |
BitsPerSample (1) | 8 8 8 |
BitsPerSample | 8 |
BlueHue | +11 |
BlueSaturation | -21 |
Brightness | +114 |
By-line | stian furuseth |
CameraProfile | Adobe Standard |
ChromaticAberrationB | 0 |
ChromaticAberrationR | 0 |
CircleOfConfusion | 0.030 mm |
Clarity | -33 |
ColorComponents | 3 |
ColorMode | RGB |
ColorNoiseReduction | 10 |
ColorNoiseReductionDetail | 50 |
ColorSpace | sRGB |
ColorTemperature | 6253 |
Contrast | +50 |
ConvertToGrayscale | False |
Copyright | Stian Furuseth |
CopyrightFlag | True |
CopyrightNotice | Stian Furuseth |
CreateDate (1) | 2011:08:20 01:15:36+02:00 |
CreateDate | 2011:08:20 01:15:36 |
Creator | stian furuseth |
CreatorTool | Adobe Photoshop CS5 Windows |
CropAngle | -2.01052 |
CropBottom | 0.949977 |
CropConstrainToWarp | 0 |
CropHeight | 3164 |
CropLeft | 0.013895 |
CropRight | 0.986105 |
CropTop | 0.050023 |
CropUnit | pixels |
CropWidth | 4745 |
CustomRendered | Normal |
DateCreated (1) | 2011:08:20 |
DateCreated | 2011:08:20 01:15:36 |
DateTimeOriginal | 2011:08:20 01:15:36 |
Defringe | 0 |
ExifImageHeight | 533 |
ExifImageWidth | 800 |
Exposure | -0.14 |
ExposureCompensation | 0 |
ExposureMode | Manual |
ExposureProgram | Manual |
ExposureTime | 1/3200 |
FillLight | 0 |
Firmware | 1.1.6 |
Flash | Off, Did not fire |
FlashCompensation | 0 |
FNumber | 2.2 |
FocalLength | 135.0 mm |
FocalLength35efl | 135.0 mm (35 mm equivalent: 134.8 mm) |
Format | image/jpeg |
FOV | 15.2 deg |
GrainAmount | 0 |
GreenHue | +16 |
GreenSaturation | +51 |
HasCrop | True |
HasSettings | True |
HighlightRecovery | 100 |
HueAdjustmentAqua | 0 |
HueAdjustmentBlue | 0 |
HueAdjustmentGreen | 0 |
HueAdjustmentMagenta | 0 |
HueAdjustmentOrange | 0 |
HueAdjustmentPurple | 0 |
HueAdjustmentRed | 0 |
HueAdjustmentYellow | 0 |
HyperfocalDistance | 275.34 m |
ICCProfileName | sRGB IEC61966-2.1 |
ImageHeight (1) | 3164 |
ImageHeight | 533 |
ImageNumber | 44857 |
ImageSize | 800x533 |
ImageWidth (1) | 4745 |
ImageWidth | 800 |
ISO | 100 |
Lens | 135.0 mm |
LensID (1) | 174 |
LensID | Canon EF 135mm f/2L USM |
LensInfo | 135mm f/? |
LensManualDistortionAmount | 0 |
LensModel | 135.0 mm |
LensProfileEnable | 0 |
LensProfileSetup | LensDefaults |
LightValue | 13.9 |
LuminanceAdjustmentAqua | 0 |
LuminanceAdjustmentBlue | 0 |
LuminanceAdjustmentGreen | 0 |
LuminanceAdjustmentMagenta | 0 |
LuminanceAdjustmentOrange | -1 |
LuminanceAdjustmentPurple | 0 |
LuminanceAdjustmentRed | 0 |
LuminanceAdjustmentYellow | 0 |
LuminanceNoiseReductionContrast | 0 |
LuminanceNoiseReductionDetail | 50 |
LuminanceSmoothing | 28 |
Make | Canon |
Marked | True |
MaxApertureValue | 2.0 |
Megapixels | 0.426 |
MeteringMode | Center-weighted average |
Model | Canon EOS-1Ds Mark II |
ModifyDate (1) | 2012:01:24 21:42:32+01:00 |
ModifyDate | 2012:01:24 21:42:32 |
Orientation | Horizontal (normal) |
ParametricDarks | +12 |
ParametricHighlights | -85 |
ParametricHighlightSplit | 75 |
ParametricLights | -66 |
ParametricMidtoneSplit | 50 |
ParametricShadows | +1 |
ParametricShadowSplit | 25 |
PerspectiveHorizontal | 0 |
PerspectiveRotate | 0.0 |
PerspectiveScale | 100 |
PerspectiveVertical | 0 |
PhotometricInterpretation | RGB |
PlanarConfiguration | Chunky |
PostCropVignetteAmount | 0 |
ProcessVersion | 5.7 |
ProfileDescription | sRGB IEC61966-2.1 |
Rating | 1 |
RedHue | +23 |
RedSaturation | +10 |
Rights | Stian Furuseth |
Saturation | -13 |
SaturationAdjustmentAqua | 0 |
SaturationAdjustmentBlue | 0 |
SaturationAdjustmentGreen | 0 |
SaturationAdjustmentMagenta | 0 |
SaturationAdjustmentOrange | -10 |
SaturationAdjustmentPurple | 0 |
SaturationAdjustmentRed | -7 |
SaturationAdjustmentYellow | 0 |
ScaleFactor35efl | 1.0 |
SceneCaptureType | Standard |
SensitivityType | Unknown |
SerialNumber | 335873 |
Shadows | 0 |
ShadowTint | +4 |
SharpenDetail | 15 |
SharpenEdgeMasking | 0 |
SharpenRadius | +1.0 |
Sharpness | 78 |
ShutterSpeed | 1/3200 |
ShutterSpeedValue | 1/3200 |
Software | Adobe Photoshop CS5 Windows |
SplitToningBalance | +38 |
SplitToningHighlightHue | 51 |
SplitToningHighlightSaturation | 22 |
SplitToningShadowHue | 219 |
SplitToningShadowSaturation | 33 |
Tint | +12 |
ToneCurve | 0, 0, 32, 16, 64, 50, 128, 128, 192, 202, 255, 255 |
ToneCurveName | Strong Contrast |
URL | www.stianfuruseth.no |
URL_List | |
Version | 6.3 |
Vibrance | +6 |
VignetteAmount | +24 |
VignetteMidpoint | 10 |
WebStatement | www.stianfuruseth.no |
WhiteBalance (1) | Custom |
WhiteBalance | Manual |