Felt | Verdi |
AlreadyApplied | True |
Aperture | 4.0 |
ApertureValue | 4.0 |
ApproximateFocusDistance | 1.22 |
Artist | Photographer:Husa |
BitsPerSample | 8 |
BlueHue | 0 |
BlueSaturation | 0 |
Brightness | +58 |
By-line | Photographer:Husa |
CameraProfile | Adobe Standard |
ChromaticAberrationB | 0 |
ChromaticAberrationR | 0 |
CircleOfConfusion | 0.019 mm |
Clarity | +47 |
ColorComponents | 1 |
ColorMode | RGB |
ColorNoiseReduction | 15 |
ColorNoiseReductionDetail | 50 |
ColorSpace | sRGB |
ColorTemperature | 4150 |
Contrast | +30 |
ConvertToGrayscale | False |
Copyright | Copyright:Husa |
CopyrightNotice | Copyright:Husa |
CreateDate (1) | 2011:08:19 17:12:00.00 |
CreateDate | 2011:08:19 17:12:00 |
Creator | Photographer:Husa |
CreatorTool | Adobe Photoshop Elements 9.0 Macintosh |
CustomRendered | Normal |
DateCreated | 2011:08:19 |
DateTimeDigitized | 2011:08:19 17:12+02:00 |
DateTimeOriginal (1) | 2011:08:19 17:12+02:00 |
DateTimeOriginal | 2011:08:19 17:12:00 |
Defringe | 0 |
DOF | 0.39 m (1.05 - 1.45 m) |
ExifImageHeight | 1826 |
ExifImageWidth | 1280 |
Exposure | +0.20 |
ExposureCompensation | 0 |
ExposureMode | Manual |
ExposureProgram | Manual |
ExposureTime | 1/45 |
FillLight | 0 |
Firmware | 1.0.7 |
Flash | Off, Did not fire |
FlashCompensation | 0 |
FlashFired | False |
FlashFunction | False |
FlashMode | Off |
FlashRedEyeMode | False |
FlashReturn | No return detection |
FNumber | 4.0 |
FocalLength | 24.0 mm |
FocalLength35efl | 24.0 mm (35 mm equivalent: 38.0 mm) |
Format | image/jpeg |
FOV | 50.7 deg |
GrainAmount | 0 |
GreenHue | 0 |
GreenSaturation | 0 |
HasCrop | False |
HasSettings | True |
HighlightRecovery | 21 |
HueAdjustmentAqua | 0 |
HueAdjustmentBlue | 0 |
HueAdjustmentGreen | 0 |
HueAdjustmentMagenta | 0 |
HueAdjustmentOrange | 0 |
HueAdjustmentPurple | 0 |
HueAdjustmentRed | 0 |
HueAdjustmentYellow | 0 |
HyperfocalDistance | 7.59 m |
ICCProfileName | sRGB IEC61966-2.1 |
ImageHeight | 1826 |
ImageNumber | 0 |
ImageSize | 1280x1826 |
ImageWidth | 1280 |
ISO | 1600 |
Lens | EF24-70mm f/2.8L USM |
LensID (1) | 230 |
LensID | Canon EF 24-70mm f/2.8L USM |
LensInfo | 24-70mm f/? |
LensManualDistortionAmount | 0 |
LensModel | EF24-70mm f/2.8L USM |
LensProfileEnable | 0 |
LensProfileSetup | LensDefaults |
LightValue | 5.5 |
LuminanceAdjustmentAqua | 0 |
LuminanceAdjustmentBlue | 0 |
LuminanceAdjustmentGreen | 0 |
LuminanceAdjustmentMagenta | 0 |
LuminanceAdjustmentOrange | 0 |
LuminanceAdjustmentPurple | 0 |
LuminanceAdjustmentRed | 0 |
LuminanceAdjustmentYellow | 0 |
LuminanceNoiseReductionContrast | 0 |
LuminanceNoiseReductionDetail | 50 |
LuminanceSmoothing | 21 |
Make | Canon |
MaxApertureValue | 2.8 |
Megapixels | 2.3 |
MeteringMode | Center-weighted average |
Model | Canon EOS 50D |
ModifyDate (1) | 2012:01:19 19:42:01+01:00 |
ModifyDate | 2012:01:19 19:42:01 |
Orientation | Horizontal (normal) |
OwnerName | Hans Olav Husa |
ParametricDarks | 0 |
ParametricHighlights | 0 |
ParametricHighlightSplit | 75 |
ParametricLights | 0 |
ParametricMidtoneSplit | 50 |
ParametricShadows | 0 |
ParametricShadowSplit | 25 |
PerspectiveHorizontal | 0 |
PerspectiveRotate | 0.0 |
PerspectiveScale | 100 |
PerspectiveVertical | 0 |
PostCropVignetteAmount | 0 |
ProcessVersion | 5.7 |
ProfileDescription | sRGB IEC61966-2.1 |
Rating | 0 |
RawFileName | IMG_2868.CR2 |
RedHue | 0 |
RedSaturation | 0 |
RelatedImageHeight | 4152 |
RelatedImageWidth | 2568 |
Rights | Copyright:Husa |
Saturation | 0 |
SaturationAdjustmentAqua | 0 |
SaturationAdjustmentBlue | 0 |
SaturationAdjustmentGreen | 0 |
SaturationAdjustmentMagenta | 0 |
SaturationAdjustmentOrange | 0 |
SaturationAdjustmentPurple | 0 |
SaturationAdjustmentRed | 0 |
SaturationAdjustmentYellow | 0 |
ScaleFactor35efl | 1.6 |
SceneCaptureType | Standard |
SerialNumber | 1230516647 |
Shadows | 0 |
ShadowTint | 0 |
SharpenDetail | 31 |
SharpenEdgeMasking | 31 |
SharpenRadius | +1.4 |
Sharpness | 21 |
ShutterSpeed | 1/45 |
ShutterSpeedValue | 1/45 |
Software | Adobe Photoshop Elements 9.0 Macintosh |
SplitToningBalance | 0 |
SplitToningHighlightHue | 0 |
SplitToningHighlightSaturation | 0 |
SplitToningShadowHue | 0 |
SplitToningShadowSaturation | 0 |
SubjectDistance | 1.22 m |
Tint | +30 |
ToneCurve | 0, 0, 32, 22, 64, 56, 128, 128, 192, 196, 255, 255 |
ToneCurveName | Medium Contrast |
URL_List | |
Version | 6.4.1 |
Vibrance | 0 |
VignetteAmount | 0 |
WhiteBalance (2) | Auto |
WhiteBalance | Manual |