Felt | Verdi |
AlreadyApplied | True |
Aperture | 22.0 |
ApertureValue | 22.0 |
Artist | stian furuseth |
BitsPerSample (1) | 8 8 8 |
BitsPerSample | 8 |
BlueHue | 0 |
BlueSaturation | +15 |
Brightness | +50 |
By-line | stian furuseth |
CameraProfile | Adobe Standard |
ChromaticAberrationB | 0 |
ChromaticAberrationR | 0 |
CircleOfConfusion | 0.030 mm |
Clarity | +17 |
ColorComponents | 3 |
ColorMode | RGB |
ColorNoiseReduction | 25 |
ColorNoiseReductionDetail | 50 |
ColorSpace | sRGB |
ColorTemperature | 2460 |
Contrast | +25 |
ConvertToGrayscale | False |
Copyright | Stian Furuseth |
CopyrightFlag | True |
CopyrightNotice | Stian Furuseth |
CreateDate (1) | 2012:01:01 08:04:10+01:00 |
CreateDate | 2012:01:01 08:04:10 |
Creator | stian furuseth |
CreatorTool | Adobe Photoshop CS5 Windows |
CustomRendered | Normal |
DateCreated (1) | 2012:01:01 |
DateCreated | 2012:01:01 08:04:10 |
DateTimeOriginal | 2012:01:01 08:04:10 |
Defringe | 0 |
ExifImageHeight | 533 |
ExifImageWidth | 800 |
Exposure | 0.00 |
ExposureCompensation | 0 |
ExposureMode | Auto |
ExposureProgram | Manual |
ExposureTime | 582 |
FillLight | 26 |
Firmware | 1.1.6 |
Flash | Off, Did not fire |
FlashCompensation | 0 |
FNumber | 22.0 |
FocalLength | 16.0 mm |
FocalLength35efl | 16.0 mm (35 mm equivalent: 16.0 mm) |
Format | image/jpeg |
FOV | 96.8 deg |
GradientBasedCorrActive | true |
GradientBasedCorrAmount | 1.000000 |
GradientBasedCorrBrightness (1) | 0.122000 |
GradientBasedCorrBrightness | 0.000000 |
GradientBasedCorrClarity | 0.000000 |
GradientBasedCorrContrast (1) | 0.000000 |
GradientBasedCorrContrast | 1.000000 |
GradientBasedCorrExposure (1) | 0.195000 |
GradientBasedCorrExposure | 0.073000 |
GradientBasedCorrHue (1) | 208.000000 |
GradientBasedCorrHue | 240.000000 |
GradientBasedCorrMaskFullX (1) | 0.509158 |
GradientBasedCorrMaskFullX | 0.496948 |
GradientBasedCorrMaskFullY (1) | 0.666666 |
GradientBasedCorrMaskFullY | 0.542124 |
GradientBasedCorrMaskValue | 1.000000 |
GradientBasedCorrMaskWhat | Mask/Gradient |
GradientBasedCorrMaskZeroX (1) | 0.509158 |
GradientBasedCorrMaskZeroX | 0.496948 |
GradientBasedCorrMaskZeroY (1) | 0.613553 |
GradientBasedCorrMaskZeroY | 0.639194 |
GradientBasedCorrSaturation (2) | 0.190000 |
GradientBasedCorrSaturation | 0.000000 |
GradientBasedCorrSharpness | 0.000000 |
GradientBasedCorrWhat | Correction |
GrainAmount | 0 |
GreenHue | 0 |
GreenSaturation | +59 |
HasCrop | False |
HasSettings | True |
HighlightRecovery | 100 |
HueAdjustmentAqua | 0 |
HueAdjustmentBlue | 0 |
HueAdjustmentGreen | 0 |
HueAdjustmentMagenta | 0 |
HueAdjustmentOrange | 0 |
HueAdjustmentPurple | 0 |
HueAdjustmentRed | 0 |
HueAdjustmentYellow | 0 |
HyperfocalDistance | 0.39 m |
ICCProfileName | sRGB IEC61966-2.1 |
ImageHeight (1) | 3328 |
ImageHeight | 533 |
ImageNumber | 50653 |
ImageSize | 800x533 |
ImageWidth (1) | 4992 |
ImageWidth | 800 |
ISO | 50 |
Lens | 16.0-35.0 mm |
LensID (1) | 229 |
LensID | Canon EF 16-35mm f/2.8L USM |
LensInfo | 16-35mm f/? |
LensManualDistortionAmount | 0 |
LensModel | 16.0-35.0 mm |
LensProfileEnable | 0 |
LensProfileSetup | LensDefaults |
LightValue | 0.7 |
LuminanceAdjustmentAqua | 0 |
LuminanceAdjustmentBlue | 0 |
LuminanceAdjustmentGreen | 0 |
LuminanceAdjustmentMagenta | 0 |
LuminanceAdjustmentOrange | 0 |
LuminanceAdjustmentPurple | 0 |
LuminanceAdjustmentRed | 0 |
LuminanceAdjustmentYellow | 0 |
LuminanceNoiseReductionContrast | 0 |
LuminanceNoiseReductionDetail | 50 |
LuminanceSmoothing | 24 |
Make | Canon |
Marked | True |
MaxApertureValue | 2.8 |
Megapixels | 0.426 |
MeteringMode | Multi-segment |
Model | Canon EOS-1Ds Mark II |
ModifyDate (1) | 2012:01:18 20:39:58+01:00 |
ModifyDate | 2012:01:18 20:39:58 |
Orientation | Horizontal (normal) |
ParametricDarks | +28 |
ParametricHighlights | -68 |
ParametricHighlightSplit | 75 |
ParametricLights | -14 |
ParametricMidtoneSplit | 50 |
ParametricShadows | -1 |
ParametricShadowSplit | 25 |
PerspectiveHorizontal | 0 |
PerspectiveRotate | 0.0 |
PerspectiveScale | 100 |
PerspectiveVertical | 0 |
PhotometricInterpretation | RGB |
PlanarConfiguration | Chunky |
PostCropVignetteAmount | 0 |
ProcessVersion | 5.7 |
ProfileDescription | sRGB IEC61966-2.1 |
RedHue | 0 |
RedSaturation | -10 |
Rights | Stian Furuseth |
Saturation | 0 |
SaturationAdjustmentAqua | 0 |
SaturationAdjustmentBlue | 0 |
SaturationAdjustmentGreen | 0 |
SaturationAdjustmentMagenta | 0 |
SaturationAdjustmentOrange | 0 |
SaturationAdjustmentPurple | 0 |
SaturationAdjustmentRed | 0 |
SaturationAdjustmentYellow | 0 |
ScaleFactor35efl | 1.0 |
SceneCaptureType | Standard |
SensitivityType | Unknown |
SerialNumber | 335873 |
Shadows | 0 |
ShadowTint | 0 |
SharpenDetail | 15 |
SharpenEdgeMasking | 0 |
SharpenRadius | +1.0 |
Sharpness | 59 |
ShutterSpeed | 582 |
ShutterSpeedValue | 582 |
Software | Adobe Photoshop CS5 Windows |
SplitToningBalance | 0 |
SplitToningHighlightHue | 194 |
SplitToningHighlightSaturation | 7 |
SplitToningShadowHue | 232 |
SplitToningShadowSaturation | 14 |
Tint | +12 |
ToneCurve | 0, 0, 32, 22, 64, 56, 128, 128, 192, 196, 255, 255 |
ToneCurveName | Medium Contrast |
URL | www.stianfuruseth.no |
URL_List | |
Version | 6.3 |
Vibrance | 0 |
VignetteAmount | 0 |
WebStatement | www.stianfuruseth.no |
WhiteBalance (1) | Custom |
WhiteBalance | Manual |