Felt | Verdi |
AlreadyApplied | True |
Aperture | 8.0 |
ApertureValue | 8.0 |
BitsPerSample | 8 |
BlueHue | 0 |
BlueSaturation | 0 |
Brightness | -24 |
CameraProfile | Adobe Standard |
ChromaticAberrationB | 0 |
ChromaticAberrationR | 0 |
CircleOfConfusion | 0.019 mm |
Clarity | +78 |
ColorComponents | 3 |
ColorMode | RGB |
ColorNoiseReduction | 25 |
ColorNoiseReductionDetail | 50 |
ColorSpace | Uncalibrated |
ColorTemperature | 5550 |
Contrast | +53 |
ConvertToGrayscale | False |
CreateDate (1) | 2011:04:22 18:54:38.00+02:00 |
CreateDate | 2011:04:22 18:54:38 |
CropAngle | -1.507436 |
CropBottom | 0.841907 |
CropLeft | 0 |
CropRight | 0.998001 |
CropTop | 0.042944 |
CustomRendered | Normal |
DateCreated (1) | 2011:04:22 |
DateCreated | 2011:04:22 18:54:38 |
DateTimeOriginal | 2011:04:22 18:54:38 |
Defringe | 0 |
DOF | inf (0.51 m - inf) |
ExifImageHeight | 2173 |
ExifImageWidth | 3824 |
Exposure | +0.40 |
ExposureCompensation | 0 |
ExposureMode | Manual |
ExposureProgram | Manual |
ExposureTime | 1/100 |
FillLight | 0 |
Firmware | 1.1.1 |
Flash | Off, Did not fire |
FlashCompensation | 0 |
FNumber | 8.0 |
FocalLength | 10.0 mm |
FocalLength35efl | 10.0 mm (35 mm equivalent: 16.2 mm) |
Format | image/jpeg |
FOV | 96.1 deg |
GrainAmount | 0 |
GreenHue | 0 |
GreenSaturation | 0 |
HasCrop | True |
HasSettings | True |
HighlightRecovery | 100 |
HueAdjustmentAqua | 0 |
HueAdjustmentBlue | 0 |
HueAdjustmentGreen | 0 |
HueAdjustmentMagenta | 0 |
HueAdjustmentOrange | 0 |
HueAdjustmentPurple | 0 |
HueAdjustmentRed | 0 |
HueAdjustmentYellow | 0 |
HyperfocalDistance | 0.67 m |
ICCProfileName | Adobe RGB (1998) |
ImageHeight | 2173 |
ImageNumber | 0 |
ImageSize | 3824x2173 |
ImageWidth | 3824 |
ISO | 400 |
Lens | 10-20mm |
LensID (1) | 152 |
LensID | Sigma 10-20mm f/4-5.6 |
LensInfo | 10-20mm f/? |
LightValue | 10.6 |
LuminanceAdjustmentAqua | 0 |
LuminanceAdjustmentBlue | -93 |
LuminanceAdjustmentGreen | 0 |
LuminanceAdjustmentMagenta | 0 |
LuminanceAdjustmentOrange | 0 |
LuminanceAdjustmentPurple | 0 |
LuminanceAdjustmentRed | 0 |
LuminanceAdjustmentYellow | 0 |
LuminanceSmoothing | 0 |
Make | Canon |
MaxApertureValue | 4.0 |
Megapixels | 8.3 |
MeteringMode | Multi-segment |
Model | Canon EOS 40D |
ModifyDate (1) | 2012:01:15 16:30:10+01:00 |
ModifyDate | 2012:01:15 16:30:10 |
Orientation | Horizontal (normal) |
ParametricDarks | -13 |
ParametricHighlights | +95 |
ParametricHighlightSplit | 75 |
ParametricLights | +72 |
ParametricMidtoneSplit | 50 |
ParametricShadows | -19 |
ParametricShadowSplit | 25 |
PostCropVignetteAmount | 0 |
ProcessVersion | 5.7 |
ProfileDescription | Adobe RGB (1998) |
Rating | 0 |
RawFileName | _MG_9395.CR2 |
RedHue | 0 |
RedSaturation | 0 |
Saturation | -52 |
SaturationAdjustmentAqua | +100 |
SaturationAdjustmentBlue | -100 |
SaturationAdjustmentGreen | +99 |
SaturationAdjustmentMagenta | 0 |
SaturationAdjustmentOrange | -56 |
SaturationAdjustmentPurple | 0 |
SaturationAdjustmentRed | +47 |
SaturationAdjustmentYellow | -100 |
ScaleFactor35efl | 1.6 |
SceneCaptureType | Standard |
SerialNumber | 2231207424 |
Shadows | 5 |
ShadowTint | 0 |
SharpenDetail | 25 |
SharpenEdgeMasking | 8 |
SharpenRadius | +1.0 |
Sharpness | 97 |
ShutterSpeed | 1/100 |
ShutterSpeedValue | 1/100 |
SidecarForExtension | CR2 |
Software | Adobe Photoshop CS5 Windows |
SplitToningBalance | 0 |
SplitToningHighlightHue | 0 |
SplitToningHighlightSaturation | 0 |
SplitToningShadowHue | 0 |
SplitToningShadowSaturation | 0 |
SubjectDistance | 2.09 m |
Tint | -3 |
ToneCurve | 0, 0, 32, 22, 64, 56, 128, 128, 192, 196, 255, 255 |
ToneCurveName | Medium Contrast |
URL_List | |
Version | 6.0 |
Vibrance | +24 |
VignetteAmount | 0 |
WhiteBalance (1) | Custom |
WhiteBalance | Auto |