Felt | Verdi |
AlreadyApplied | True |
Aperture | 2.8 |
ApertureValue | 2.8 |
BitsPerSample | 8 |
BlueHue | 0 |
BlueSaturation | 0 |
Brightness | +50 |
CameraProfile | Adobe Standard |
ChromaticAberrationB | 0 |
ChromaticAberrationR | 0 |
CircleOfConfusion | 0.019 mm |
Clarity | +13 |
ColorComponents | 3 |
ColorMode | RGB |
ColorNoiseReduction | 25 |
ColorNoiseReductionDetail | 50 |
ColorSpace | sRGB |
ColorTemperature | 3650 |
Contrast | +43 |
ConvertToGrayscale | True |
CreateDate (1) | 2011:10:30 12:45:49.95+01:00 |
CreateDate | 2011:10:30 12:45:49 |
CreatorTool | Adobe Photoshop CS5 Windows |
CropAngle | 0 |
CropBottom | 0.7504 |
CropHeight | 30 |
CropLeft | 0.289357 |
CropRight | 0.610415 |
CropTop | 0.268813 |
CropUnit | cm |
CropWidth | 30 |
CustomRendered | Normal |
DateCreated (1) | 2011:10:30 |
DateCreated | 2011:10:30 12:45:49.095 |
DateTimeOriginal | 2011:10:30 12:45:49 |
Defringe | 0 |
ExifImageHeight | 766 |
ExifImageWidth | 766 |
Exposure | +1.35 |
ExposureCompensation | 0 |
ExposureMode | Auto |
ExposureProgram | Aperture-priority AE |
ExposureTime | 1/80 |
FillLight | 0 |
Firmware | 1.1.1 |
Flash | Off, Did not fire |
FlashCompensation | 0 |
FNumber | 2.8 |
FocalLength | 40.0 mm |
FocalLength35efl | 40.0 mm (35 mm equivalent: 64.8 mm) |
Format | image/jpeg |
FOV | 31.1 deg |
GrainAmount | 18 |
GrainFrequency | 49 |
GrainSize | 65 |
GrayMixerAqua | -16 |
GrayMixerBlue | +13 |
GrayMixerGreen | -27 |
GrayMixerMagenta | +3 |
GrayMixerOrange | -20 |
GrayMixerPurple | +17 |
GrayMixerRed | +16 |
GrayMixerYellow | -24 |
GreenHue | 0 |
GreenSaturation | 0 |
HasCrop | True |
HasSettings | True |
HighlightRecovery | 45 |
HyperfocalDistance | 30.79 m |
ICCProfileName | sRGB IEC61966-2.1 |
ImageHeight | 766 |
ImageNumber | 0 |
ImageSize | 766x766 |
ImageWidth | 766 |
ISO | 1600 |
Lens | 17-50mm |
LensID (1) | 161 |
LensID | Tamron AF 17-50mm f/2.8 Di-II LD Aspherical |
LensInfo | 17-50mm f/? |
LightValue | 5.3 |
LuminanceNoiseReductionContrast | 0 |
LuminanceNoiseReductionDetail | 50 |
LuminanceSmoothing | 28 |
Make | Canon |
MaxApertureValue | 2.8 |
Megapixels | 0.587 |
MeteringMode | Multi-segment |
Model | Canon EOS 40D |
ModifyDate (1) | 2011:12:09 16:03:58+01:00 |
ModifyDate | 2011:12:09 16:03:58 |
Orientation | Horizontal (normal) |
PaintCorrectionActive | true |
PaintCorrectionAmount | 1.000000 |
PaintCorrectionBrightness | 0.000000 |
PaintCorrectionClarity (1) | -0.220000 |
PaintCorrectionClarity | -0.120000 |
PaintCorrectionContrast | 0.000000 |
PaintCorrectionExposure (1) | -0.050000 |
PaintCorrectionExposure | 0.187500 |
PaintCorrectionHue | 241.000000 |
PaintCorrectionMaskCenterWeight | 0.349837 |
PaintCorrectionMaskFlow | 0.824513 |
PaintCorrectionMaskRadius (2) | 0.103526 |
PaintCorrectionMaskRadius | 0.085597 |
PaintCorrectionMaskValue | 0.825000 |
PaintCorrectionMaskWhat | Mask/Paint |
PaintCorrectionSaturation | 0.000000 |
PaintCorrectionSharpness | 0.350000 |
PaintCorrectionWhat | Correction |
ParametricDarks | 0 |
ParametricHighlights | +1 |
ParametricHighlightSplit | 75 |
ParametricLights | 0 |
ParametricMidtoneSplit | 50 |
ParametricShadows | 0 |
ParametricShadowSplit | 25 |
PostCropVignetteAmount | +35 |
PostCropVignetteFeather | 100 |
PostCropVignetteMidpoint | 41 |
PostCropVignetteRoundness | -7 |
PostCropVignetteStyle | 1 |
ProcessVersion | 5.7 |
ProfileDescription | sRGB IEC61966-2.1 |
Rating | 1 |
RawFileName | _MG_9044.CR2 |
RedHue | 0 |
RedSaturation | 0 |
ScaleFactor35efl | 1.6 |
SceneCaptureType | Standard |
SerialNumber | 2231207814 |
Shadows | 6 |
ShadowTint | 0 |
SharpenDetail | 25 |
SharpenEdgeMasking | 0 |
SharpenRadius | +1.0 |
Sharpness | 25 |
ShutterSpeed | 1/80 |
ShutterSpeedValue | 1/80 |
Software | Adobe Photoshop CS5 Windows |
SplitToningBalance | -48 |
SplitToningHighlightHue | 50 |
SplitToningHighlightSaturation | 61 |
SplitToningShadowHue | 0 |
SplitToningShadowSaturation | 0 |
Tint | -20 |
ToneCurve | 0, 0, 32, 22, 64, 56, 128, 128, 193, 206, 255, 255 |
ToneCurveName | Custom |
URL_List | |
Version | 6.0 |
VignetteAmount | 0 |
WhiteBalance (1) | Custom |
WhiteBalance | Manual |