Felt | Verdi |
AlreadyApplied | True |
Aperture | 11.0 |
ApertureValue | 11.0 |
Artist | Tina Haarklau |
BitsPerSample (1) | 8 8 8 |
BitsPerSample | 8 |
BlueHue | 0 |
BlueSaturation | 0 |
Brightness | +49 |
By-line | Tina Haarklau |
CameraProfile | Adobe Standard |
ChromaticAberrationB | 0 |
ChromaticAberrationR | 0 |
CircleOfConfusion | 0.019 mm |
Clarity | 0 |
ColorComponents | 3 |
ColorMode | RGB |
ColorNoiseReduction | 25 |
ColorNoiseReductionDetail | 50 |
ColorSpace | Uncalibrated |
ColorTemperature | 5050 |
Contrast | +33 |
ConvertToGrayscale | False |
Copyright | Tina Haarklau |
CopyrightFlag | False |
CopyrightNotice | Tina Haarklau |
CreateDate (1) | 2010:11:08 22:12:41.00+01:00 |
CreateDate | 2010:11:08 22:12:41 |
Creator | Tina Haarklau |
CreatorTool | Adobe Photoshop CS5 Macintosh |
CustomRendered | Normal |
DateCreated (1) | 2010:11:08 |
DateCreated | 2010:11:08 22:12:41 |
DateTimeOriginal | 2010:11:08 22:12:41 |
Defringe | 0 |
ExifImageHeight | 2953 |
ExifImageWidth | 2362 |
Exposure | 0.00 |
ExposureCompensation | 0 |
ExposureMode | Manual |
ExposureProgram | Manual |
ExposureTime | 1/160 |
FillLight | 0 |
Firmware | 1.2.1 |
Flash | Off, Did not fire |
FlashCompensation | 0 |
FNumber | 11.0 |
FocalLength | 50.0 mm |
FocalLength35efl | 50.0 mm (35 mm equivalent: 78.5 mm) |
Format | image/jpeg |
FOV | 25.8 deg |
GrainAmount | 0 |
GreenHue | 0 |
GreenSaturation | 0 |
HasCrop | False |
HasSettings | True |
HighlightRecovery | 13 |
HueAdjustmentAqua | 0 |
HueAdjustmentBlue | 0 |
HueAdjustmentGreen | 0 |
HueAdjustmentMagenta | 0 |
HueAdjustmentOrange | 0 |
HueAdjustmentPurple | 0 |
HueAdjustmentRed | 0 |
HueAdjustmentYellow | 0 |
HyperfocalDistance | 11.88 m |
ICCProfileName | Adobe RGB (1998) |
ImageHeight (1) | 2953 |
ImageHeight | 1280 |
ImageNumber | 0 |
ImageSize | 1024x1280 |
ImageWidth (1) | 2362 |
ImageWidth | 1024 |
ISO | 100 |
Lens | EF50mm f/1.8 II |
LensID (1) | 29 |
LensID | Canon EF 50mm f/1.8 II |
LensInfo | 50mm f/? |
LightValue | 14.2 |
LuminanceAdjustmentAqua | 0 |
LuminanceAdjustmentBlue | 0 |
LuminanceAdjustmentGreen | 0 |
LuminanceAdjustmentMagenta | 0 |
LuminanceAdjustmentOrange | 0 |
LuminanceAdjustmentPurple | 0 |
LuminanceAdjustmentRed | 0 |
LuminanceAdjustmentYellow | 0 |
LuminanceSmoothing | 0 |
Make | Canon |
Marked | False |
MaxApertureValue | 1.8 |
Megapixels | 1.3 |
MeteringMode | Spot |
Model | Canon EOS 7D |
ModifyDate (1) | 2010:11:10 14:45:42+01:00 |
ModifyDate | 2010:11:10 14:45:42 |
Orientation | Horizontal (normal) |
ParametricDarks | 0 |
ParametricHighlights | 0 |
ParametricHighlightSplit | 75 |
ParametricLights | 0 |
ParametricMidtoneSplit | 50 |
ParametricShadows | 0 |
ParametricShadowSplit | 25 |
PhotometricInterpretation | RGB |
PostCropVignetteAmount | 0 |
ProcessVersion | 5.7 |
ProfileDescription | Adobe RGB (1998) |
Rating | 5 |
RawFileName | IMG_5385.CR2 |
RedHue | 0 |
RedSaturation | 0 |
Rights | Tina Haarklau |
Saturation | 0 |
SaturationAdjustmentAqua | 0 |
SaturationAdjustmentBlue | 0 |
SaturationAdjustmentGreen | 0 |
SaturationAdjustmentMagenta | 0 |
SaturationAdjustmentOrange | 0 |
SaturationAdjustmentPurple | 0 |
SaturationAdjustmentRed | 0 |
SaturationAdjustmentYellow | 0 |
ScaleFactor35efl | 1.6 |
SceneCaptureType | Standard |
SerialNumber | 1080705638 |
Shadows | 5 |
ShadowTint | 0 |
SharpenDetail | 25 |
SharpenEdgeMasking | 0 |
SharpenRadius | +1.0 |
Sharpness | 25 |
ShutterSpeed | 1/160 |
ShutterSpeedValue | 1/160 |
SidecarForExtension | CR2 |
Software | Adobe Photoshop CS5 Macintosh |
SplitToningBalance | 0 |
SplitToningHighlightHue | 0 |
SplitToningHighlightSaturation | 0 |
SplitToningShadowHue | 0 |
SplitToningShadowSaturation | 0 |
Tint | 0 |
ToneCurve | 0, 0, 32, 22, 64, 56, 128, 128, 192, 196, 255, 255 |
ToneCurveName | Medium Contrast |
URL_List | |
Version | 6.0 |
Vibrance | 0 |
VignetteAmount | 0 |
WhiteBalance (1) | Custom |
WhiteBalance | Auto |