Felt | Verdi |
AlreadyApplied | True |
Aperture | 8.0 |
ApertureValue | 8.0 |
BitsPerSample | 8 |
BlueHue | 0 |
BlueSaturation | 0 |
Brightness | +50 |
By-line | Ole T. J. Skogdal |
CameraProfile | Adobe Standard |
ChromaticAberrationB | 0 |
ChromaticAberrationR | 0 |
CircleOfConfusion | 0.017 mm |
Clarity | 0 |
ColorComponents | 3 |
ColorNoiseReduction | 20 |
ColorSpace | Uncalibrated |
ColorTemperature | 2650 |
Contrast | High |
ConvertToGrayscale | False |
Copyright | Foto: Ole T. J. Skogdal |
CopyrightFlag | True |
CopyrightNotice | Foto: Ole T. J. Skogdal |
CreateDate (1) | 2011:09:18 21:10:07.48+02:00 |
CreateDate | 2011:09:18 21:10:07 |
Creator | Ole T. J. Skogdal |
CreatorAddress | Ringvegen 450 |
CreatorCity | Trosmø |
CreatorCountry | Norway |
CreatorPostalCode | 9017 |
CreatorRegion | Troms |
CreatorTool | Adobe Photoshop Lightroom |
CreatorWorkEmail | oljosko@online.no |
CreatorWorkTelephone | +47 92265599 |
CropAngle | 0 |
CropBottom | 1 |
CropHeight | 2848 |
CropLeft | 0 |
CropRight | 0.867277 |
CropTop | 0 |
CropUnit | pixels |
CropWidth | 3705 |
CustomRendered | Normal |
DateTimeDigitized | 2011:09:18 21:10:07.48+02:00 |
DateTimeOriginal (1) | 2011:09:18 21:10:07.48+02:00 |
DateTimeOriginal | 2011:09:18 21:10:07 |
Defringe | 0 |
DOF | 12.22 m (10.01 - 22.23 m) |
ExifImageHeight | 3705 |
ExifImageWidth | 2848 |
Exposure | 0.00 |
ExposureCompensation | 0 |
ExposureMode | Manual |
ExposureProgram | Manual |
ExposureTime | 3 |
FillLight | 80 |
Firmware | 1.1.0 |
Flash | Off, Did not fire |
FlashCompensation | 0 |
FlashFired | False |
FlashFunction | False |
FlashMode | Off |
FlashRedEyeMode | False |
FlashReturn | No return detection |
FNumber | 8.0 |
FocalLength | 70.0 mm |
FocalLength35efl | 70.0 mm (35 mm equivalent: 124.3 mm) |
FOV | 16.5 deg |
GreenHue | 0 |
GreenSaturation | 0 |
HasCrop | True |
HasSettings | True |
HighlightRecovery | 100 |
HueAdjustmentAqua | 0 |
HueAdjustmentBlue | 0 |
HueAdjustmentGreen | -100 |
HueAdjustmentMagenta | 0 |
HueAdjustmentOrange | +100 |
HueAdjustmentPurple | 0 |
HueAdjustmentRed | 0 |
HueAdjustmentYellow | 0 |
HyperfocalDistance | 36.21 m |
ImageHeight (1) | 3705 |
ImageHeight | 3955 |
ImageNumber | 0 |
ImageSize | 2848x3955 |
ImageWidth | 2848 |
ISO | 800 |
Label | Yellow |
Lens | EF70-200mm f/2.8L USM |
LensID (1) | 165 |
LensID | Canon EF 70-200mm f/2.8L USM |
LensInfo | 70-200mm f/? |
LightValue | 1.4 |
LuminanceAdjustmentAqua | 0 |
LuminanceAdjustmentBlue | +30 |
LuminanceAdjustmentGreen | +100 |
LuminanceAdjustmentMagenta | 0 |
LuminanceAdjustmentOrange | +50 |
LuminanceAdjustmentPurple | 0 |
LuminanceAdjustmentRed | 0 |
LuminanceAdjustmentYellow | +40 |
LuminanceSmoothing | 30 |
Make | Canon |
Marked | True |
MaxApertureValue | 2.8 |
Megapixels | 11.3 |
MeteringMode | Center-weighted average |
Model | Canon EOS 450D |
ModifyDate (1) | 2011:09:25 21:33:35+02:00 |
ModifyDate | 2011:09:25 21:33:35 |
ParametricDarks | -60 |
ParametricHighlights | 0 |
ParametricHighlightSplit | 90 |
ParametricLights | +60 |
ParametricMidtoneSplit | 40 |
ParametricShadows | 0 |
ParametricShadowSplit | 10 |
PostCropVignetteAmount | 0 |
ProfileDescription | sRGB IEC61966-2.1 |
Rating | 5 |
RedHue | 0 |
RedSaturation | 0 |
Rights | Foto: Ole T. J. Skogdal |
Saturation | Normal |
SaturationAdjustmentAqua | 0 |
SaturationAdjustmentBlue | +10 |
SaturationAdjustmentGreen | 0 |
SaturationAdjustmentMagenta | 0 |
SaturationAdjustmentOrange | +50 |
SaturationAdjustmentPurple | 0 |
SaturationAdjustmentRed | 0 |
SaturationAdjustmentYellow | +50 |
ScaleFactor35efl | 1.8 |
SceneCaptureType | Standard |
SerialNumber | 1880557473 |
Shadows | 5 |
ShadowTint | 0 |
SharpenDetail | 75 |
SharpenEdgeMasking | 10 |
SharpenRadius | +3.0 |
Sharpness | Hard |
ShutterSpeed | 3 |
ShutterSpeedValue | 3 |
SplitToningBalance | 0 |
SplitToningHighlightHue | 0 |
SplitToningHighlightSaturation | 0 |
SplitToningShadowHue | 0 |
SplitToningShadowSaturation | 0 |
SubjectDistance | 13.8 m |
Tint | +4 |
ToneCurve | 0, 0, 32, 22, 64, 56, 128, 128, 192, 196, 255, 255 |
ToneCurveName | Medium Contrast |
URL | http://www.lovdata.no/all/nl-19610512-002.html |
UsageTerms | Etter avtale |
Version | 5.7 |
Vibrance | 0 |
VignetteAmount | 0 |
WebStatement | http://www.lovdata.no/all/nl-19610512-002.html |
WhiteBalance | Manual |