Felt | Verdi |
AlreadyApplied | True |
Aperture | 12.0 |
ApertureValue | 12.0 |
Artist | Rolf-Ørjan Høgset |
BitsPerSample | 8 |
BlueHue | 0 |
BlueSaturation | 0 |
Brightness | 0 |
By-line | Rolf-Ørjan Høgset |
CameraProfile | Embedded |
ChromaticAberrationB | 0 |
ChromaticAberrationR | 0 |
Clarity | +7 |
ColorComponents | 3 |
ColorNoiseReduction | 0 |
Contrast | +19 |
ConvertToGrayscale | False |
Copyright | Fri Foto |
CopyrightNotice | Fri Foto |
CreateDate | 2011:08:29 15:35:44 |
Creator | Rolf-Ørjan Høgset |
CreatorAddress | Nedre Storgate 16 |
CreatorCity | Drammen |
CreatorCountry | Norge |
CreatorPostalCode | 3015 |
CreatorTool | Adobe Photoshop Lightroom 3.4.1 |
CreatorWorkEmail | rolf@frihuset.no |
CreatorWorkTelephone | 99007673 |
CropAngle | -5.22337 |
CropBottom | 0.728479 |
CropConstrainToWarp | 0 |
CropHeight | 600 |
CropLeft | 0.067001 |
CropRight | 0.882073 |
CropTop | 0.098259 |
CropUnit | pixels |
CropWidth | 484 |
DateCreated (1) | 2011:08:29 |
DateCreated | 2011:08:29 15:35:44 |
DateTimeOriginal | 2011:08:29 15:35:44 |
Defringe | 0 |
Exposure | +0.05 |
ExposureProgram | Manual |
ExposureTime | 1/250 |
FillLight | 0 |
Flash | No Flash |
FNumber | 12.0 |
FocalLength | 150.0 mm |
FocalLength35efl | 150.0 mm |
GrainAmount | 24 |
GrainFrequency | 50 |
GrainSize | 23 |
GreenHue | 0 |
GreenSaturation | 0 |
HasCrop | True |
HasSettings | True |
HighlightRecovery | 0 |
HueAdjustmentAqua | 0 |
HueAdjustmentBlue | 0 |
HueAdjustmentGreen | 0 |
HueAdjustmentMagenta | 0 |
HueAdjustmentOrange | 0 |
HueAdjustmentPurple | 0 |
HueAdjustmentRed | 0 |
HueAdjustmentYellow | 0 |
ImageHeight | 600 |
ImageSize | 484x600 |
ImageWidth | 484 |
IncrementalTemperature | +2 |
IncrementalTint | 0 |
ISO | 100 |
LensManualDistortionAmount | 0 |
LensProfileEnable | 0 |
LensProfileSetup | LensDefaults |
LightValue | 15.1 |
LuminanceAdjustmentAqua | 0 |
LuminanceAdjustmentBlue | 0 |
LuminanceAdjustmentGreen | 0 |
LuminanceAdjustmentMagenta | 0 |
LuminanceAdjustmentOrange | 0 |
LuminanceAdjustmentPurple | 0 |
LuminanceAdjustmentRed | +42 |
LuminanceAdjustmentYellow | 0 |
LuminanceSmoothing | 0 |
Make | Hasselblad |
Megapixels | 0.290 |
MeteringMode | Spot |
Model | Hasselblad H3DII-39 |
ModifyDate (1) | 2011:08:30 01:26:13+02:00 |
ModifyDate | 2011:08:30 01:26:13 |
ParametricDarks | 0 |
ParametricHighlights | 0 |
ParametricHighlightSplit | 75 |
ParametricLights | 0 |
ParametricMidtoneSplit | 50 |
ParametricShadows | 0 |
ParametricShadowSplit | 25 |
PerspectiveHorizontal | 0 |
PerspectiveRotate | 0.0 |
PerspectiveScale | 100 |
PerspectiveVertical | 0 |
PostCropVignetteAmount | -11 |
PostCropVignetteFeather | 50 |
PostCropVignetteHighlightContrast | 0 |
PostCropVignetteMidpoint | 50 |
PostCropVignetteRoundness | 0 |
PostCropVignetteStyle | 1 |
ProcessVersion | 5.7 |
ProfileDescription | sRGB IEC61966-2.1 |
Rating | 2 |
RedHue | 0 |
RedSaturation | 0 |
Rights | Fri Foto |
Saturation | 0 |
SaturationAdjustmentAqua | 0 |
SaturationAdjustmentBlue | 0 |
SaturationAdjustmentGreen | 0 |
SaturationAdjustmentMagenta | 0 |
SaturationAdjustmentOrange | 0 |
SaturationAdjustmentPurple | 0 |
SaturationAdjustmentRed | 0 |
SaturationAdjustmentYellow | 0 |
Shadows | 0 |
ShadowTint | 0 |
SharpenDetail | 25 |
SharpenEdgeMasking | 0 |
SharpenRadius | +1.0 |
Sharpness | 0 |
ShutterSpeed | 1/250 |
ShutterSpeedValue | 1/250 |
Software | Adobe Photoshop Lightroom 3.4.1 |
SplitToningBalance | 0 |
SplitToningHighlightHue | 112 |
SplitToningHighlightSaturation | 4 |
SplitToningShadowHue | 360 |
SplitToningShadowSaturation | 7 |
ToneCurve | 0, 0, 255, 255 |
ToneCurveName | Linear |
Version | 6.4.1 |
Vibrance | -19 |
VignetteAmount | 0 |
WhiteBalance | Custom |