Felt | Verdi |
AlreadyApplied | True |
Aperture | 14.0 |
ApertureValue | 14.0 |
ApproximateFocusDistance | 2.26 |
Artist | Photographer: Erlend Moen |
BitsPerSample | 8 |
BlueHue | 0 |
BlueSaturation | 0 |
Brightness | -2 |
By-line | Photographer: Erlend Moen |
CameraProfile | Embedded |
ChromaticAberrationB | 0 |
ChromaticAberrationR | 0 |
CircleOfConfusion | 0.031 mm |
Clarity | 0 |
ColorComponents | 3 |
ColorNoiseReduction | 3 |
ColorNoiseReductionDetail | 50 |
Contrast | 0 |
ConvertToGrayscale | False |
Copyright | Copyright: Erlend Moen |
CopyrightNotice | Copyright: Erlend Moen |
CreateDate (1) | 2011:07:22 03:38:21.64+02:00 |
CreateDate | 2011:07:22 03:38:21 |
Creator | Photographer: Erlend Moen |
CreatorTool | Adobe Photoshop Lightroom 3.4 |
CropAngle | 0 |
CropBottom | 0.992509 |
CropConstrainToWarp | 0 |
CropHeight | 2936 |
CropLeft | 0 |
CropRight | 0.793504 |
CropTop | 0 |
CropUnit | pixels |
CropWidth | 3789 |
CustomRendered | Normal |
DateCreated (1) | 2011:07:22 |
DateCreated | 2011:07:22 03:38:21.064 |
DateTimeOriginal | 2011:07:22 03:38:21 |
Defringe | 0 |
DOF | inf (0.85 m - inf) |
Exposure | +0.05 |
ExposureCompensation | 0 |
ExposureMode | Manual |
ExposureProgram | Manual |
ExposureTime | 2.5 |
FillLight | 8 |
Firmware | 2.0.4 |
Flash | Off, Did not fire |
FlashCompensation | 0 |
FNumber | 14.0 |
FocalLength | 24.0 mm |
FocalLength35efl | 24.0 mm (35 mm equivalent: 23.4 mm) |
Format | image/jpeg |
FOV | 75.1 deg |
GrainAmount | 0 |
GreenHue | 0 |
GreenSaturation | 0 |
HasCrop | True |
HasSettings | True |
HighlightRecovery | 67 |
HueAdjustmentAqua | 0 |
HueAdjustmentBlue | 0 |
HueAdjustmentGreen | 0 |
HueAdjustmentMagenta | +32 |
HueAdjustmentOrange | 0 |
HueAdjustmentPurple | +9 |
HueAdjustmentRed | +9 |
HueAdjustmentYellow | 0 |
HyperfocalDistance | 1.34 m |
ImageHeight | 2936 |
ImageNumber | 0 |
ImageSize | 3789x2936 |
ImageWidth | 3789 |
IncrementalTemperature | +15 |
IncrementalTint | -3 |
ISO | 125 |
Lens | EF24-105mm f/4L IS USM |
LensID (1) | 237 |
LensID | Canon EF 24-105mm f/4L IS USM |
LensInfo | 24-105mm f/? |
LensManualDistortionAmount | 0 |
LensModel | EF24-105mm f/4L IS USM |
LensProfileEnable | 0 |
LensProfileSetup | LensDefaults |
LightValue | 6.0 |
LuminanceAdjustmentAqua | -20 |
LuminanceAdjustmentBlue | -18 |
LuminanceAdjustmentGreen | 0 |
LuminanceAdjustmentMagenta | +14 |
LuminanceAdjustmentOrange | -34 |
LuminanceAdjustmentPurple | +18 |
LuminanceAdjustmentRed | +7 |
LuminanceAdjustmentYellow | +7 |
LuminanceNoiseReductionContrast | 0 |
LuminanceNoiseReductionDetail | 50 |
LuminanceSmoothing | 2 |
Make | Canon |
MaxApertureValue | 4.0 |
Megapixels | 11.1 |
MeteringMode | Multi-segment |
Model | Canon EOS 5D Mark II |
ModifyDate (1) | 2011:08:27 19:53:56+02:00 |
ModifyDate | 2011:08:27 19:53:56 |
OwnerName | Erlend Moen |
PaintCorrectionActive | true |
PaintCorrectionAmount | 1.000000 |
PaintCorrectionBrightness (3) | -0.124803 |
PaintCorrectionBrightness (4) | -0.098000 |
PaintCorrectionBrightness (8) | 0.098000 |
PaintCorrectionBrightness | 0.000000 |
PaintCorrectionClarity (5) | -1.000000 |
PaintCorrectionClarity | 0.000000 |
PaintCorrectionContrast (3) | -0.248333 |
PaintCorrectionContrast (4) | -0.195000 |
PaintCorrectionContrast (6) | 0.195000 |
PaintCorrectionContrast | 0.000000 |
PaintCorrectionExposure (1) | 0.057471 |
PaintCorrectionExposure (3) | 0.092966 |
PaintCorrectionExposure (4) | 0.073000 |
PaintCorrectionExposure (5) | 0.000000 |
PaintCorrectionExposure (7) | 0.122000 |
PaintCorrectionExposure (8) | 0.293000 |
PaintCorrectionExposure | 0.146000 |
PaintCorrectionHue (2) | 50.000000 |
PaintCorrectionHue (4) | 0.000000 |
PaintCorrectionHue | 240.000000 |
PaintCorrectionMaskCenterWeight | 0.000000 |
PaintCorrectionMaskFlow | 1.000000 |
PaintCorrectionMaskRadius (30) | 0.015707 |
PaintCorrectionMaskRadius (35) | 0.033318 |
PaintCorrectionMaskRadius | 0.086376 |
PaintCorrectionMaskValue (36) | 0.000000 |
PaintCorrectionMaskValue | 1.000000 |
PaintCorrectionMaskWhat | Mask/Paint |
PaintCorrectionSaturation (13) | -0.220000 |
PaintCorrectionSaturation (17) | 0.317000 |
PaintCorrectionSaturation (4) | 0.250000 |
PaintCorrectionSaturation | 0.000000 |
PaintCorrectionSharpness (5) | 0.250000 |
PaintCorrectionSharpness | 0.000000 |
PaintCorrectionWhat | Correction |
ParametricDarks | 0 |
ParametricHighlights | 0 |
ParametricHighlightSplit | 75 |
ParametricLights | 0 |
ParametricMidtoneSplit | 50 |
ParametricShadows | 0 |
ParametricShadowSplit | 25 |
PerspectiveHorizontal | 0 |
PerspectiveRotate | 0.0 |
PerspectiveScale | 100 |
PerspectiveVertical | 0 |
PostCropVignetteAmount | 0 |
ProcessVersion | 5.7 |
ProfileDescription | sRGB IEC61966-2.1 |
RedHue | 0 |
RedSaturation | 0 |
Rights | Copyright: Erlend Moen |
Saturation | 0 |
SaturationAdjustmentAqua | -50 |
SaturationAdjustmentBlue | +34 |
SaturationAdjustmentGreen | 0 |
SaturationAdjustmentMagenta | -18 |
SaturationAdjustmentOrange | 0 |
SaturationAdjustmentPurple | 0 |
SaturationAdjustmentRed | -5 |
SaturationAdjustmentYellow | 0 |
ScaleFactor35efl | 1.0 |
SceneCaptureType | Standard |
SerialNumber | 1931209522 |
Shadows | 1 |
ShadowTint | 0 |
SharpenDetail | 25 |
SharpenEdgeMasking | 0 |
SharpenRadius | +1.0 |
Sharpness | 14 |
ShutterSpeed | 2.5 |
ShutterSpeedValue | 2.5 |
Software | Adobe Photoshop Lightroom 3.4 |
SplitToningBalance | 0 |
SplitToningHighlightHue | 0 |
SplitToningHighlightSaturation | 0 |
SplitToningShadowHue | 0 |
SplitToningShadowSaturation | 0 |
SubjectDistance | 2.26 m |
ToneCurve | 0, 0, 255, 255 |
ToneCurveName | Linear |
Version | 6.4 |
Vibrance | +10 |
VignetteAmount | 0 |
WhiteBalance (1) | Custom |
WhiteBalance | Manual |