Felt | Verdi |
AlreadyApplied | True |
Aperture | 4.5 |
ApertureValue | 4.5 |
BitsPerSample | 8 |
BlueHue | 0 |
BlueSaturation | 0 |
Brightness | +43 |
CameraProfile | Adobe Standard |
CFAPattern | [Green,Blue][Red,Green] |
ChromaticAberrationB | 0 |
ChromaticAberrationR | 0 |
CircleOfConfusion | 0.020 mm |
Clarity | +10 |
ColorComponents | 3 |
ColorMode | RGB |
ColorNoiseReduction | 25 |
ColorSpace | Uncalibrated |
ColorTemperature | 6048 |
Contrast (1) | +71 |
Contrast | Normal |
ConvertToGrayscale | False |
Copyright | Are Haram |
CopyrightFlag | True |
CopyrightNotice | Are Haram |
CreateDate (1) | 2011:07:28 11:15:28.00+02:00 |
CreateDate | 2011:07:28 11:15:28 |
CreatorTool | Ver.1.00 |
CreatorWorkEmail | are.haram@finansavisen.no |
CropAngle | 0 |
CropBottom | 1 |
CropLeft | 0 |
CropRight | 1 |
CropTop | 0 |
CustomRendered | Normal |
DateCreated (1) | 2011:07:28 |
DateCreated | 2011:07:28 11:15:28 |
DateTimeOriginal | 2011:07:28 11:15:28 |
Defringe | 0 |
DigitalZoomRatio | 1 |
DOF | inf (249.62 m - inf) |
ExifImageHeight | 666 |
ExifImageWidth | 1002 |
Exposure | -0.38 |
ExposureCompensation | +1/3 |
ExposureMode | Manual |
ExposureProgram | Manual |
ExposureTime | 1/500 |
FillLight | 0 |
Flash | No Flash |
FNumber | 4.5 |
FocalLength | 150.0 mm |
FocalLength35efl | 150.0 mm (35 mm equivalent: 225.0 mm) |
FocalLengthIn35mmFormat | 225 mm |
Format | image/jpeg |
FOV | 9.1 deg |
GainControl | None |
GrainAmount | 0 |
GreenHue | 0 |
GreenSaturation | 0 |
HasCrop | True |
HasSettings | True |
HighlightRecovery | 0 |
HueAdjustmentAqua | 0 |
HueAdjustmentBlue | 0 |
HueAdjustmentGreen | 0 |
HueAdjustmentMagenta | 0 |
HueAdjustmentOrange | 0 |
HueAdjustmentPurple | 0 |
HueAdjustmentRed | 0 |
HueAdjustmentYellow | 0 |
HyperfocalDistance | 249.62 m |
ICCProfileName | Adobe RGB (1998) |
ImageHeight | 666 |
ImageNumber | 15808 |
ImageSize | 1002x666 |
ImageWidth | 1002 |
ISO | 200 |
Lens | 50.0-150.0 mm f/2.8 |
LensID (1) | 122 |
LensID | Sigma 50-150mm F2.8 EX APO DC HSM |
LensInfo | 50-150mm f/2.8 |
LightSource | Unknown |
LightValue | 12.3 |
LuminanceAdjustmentAqua | 0 |
LuminanceAdjustmentBlue | -36 |
LuminanceAdjustmentGreen | 0 |
LuminanceAdjustmentMagenta | 0 |
LuminanceAdjustmentOrange | -1 |
LuminanceAdjustmentPurple | -3 |
LuminanceAdjustmentRed | 0 |
LuminanceAdjustmentYellow | -8 |
LuminanceSmoothing | 33 |
Make | NIKON CORPORATION |
Marked | True |
MaxApertureValue | 2.8 |
Megapixels | 0.667 |
MeteringMode | Spot |
Model | NIKON D90 |
ModifyDate (1) | 2011:07:31 22:30:09+02:00 |
ModifyDate | 2011:07:31 22:30:09 |
Orientation | Horizontal (normal) |
PaintCorrectionActive | true |
PaintCorrectionAmount | 1.000000 |
PaintCorrectionBrightness | 0.000000 |
PaintCorrectionClarity (1) | 0.700000 |
PaintCorrectionClarity | 0.375000 |
PaintCorrectionContrast | 0.325000 |
PaintCorrectionExposure (1) | 0.050000 |
PaintCorrectionExposure | 0.000000 |
PaintCorrectionHue | 47.000000 |
PaintCorrectionMaskCenterWeight | 0.000000 |
PaintCorrectionMaskFlow | 0.641000 |
PaintCorrectionMaskRadius (14) | 0.002790 |
PaintCorrectionMaskRadius (2) | 0.011018 |
PaintCorrectionMaskRadius | 0.004478 |
PaintCorrectionMaskValue | 1.000000 |
PaintCorrectionMaskWhat | Mask/Paint |
PaintCorrectionSaturation | 0.000000 |
PaintCorrectionSharpness | 0.000000 |
PaintCorrectionWhat | Correction |
ParametricDarks | 0 |
ParametricHighlights | 0 |
ParametricHighlightSplit | 75 |
ParametricLights | 0 |
ParametricMidtoneSplit | 50 |
ParametricShadows | 0 |
ParametricShadowSplit | 25 |
PostCropVignetteAmount | 0 |
ProcessVersion | 5.0 |
ProfileDescription | Adobe RGB (1998) |
Rating | 0 |
RawFileName | _DSC5734.NEF |
RedHue | 0 |
RedSaturation | 0 |
Rights | Are Haram |
Saturation (1) | 0 |
Saturation | Normal |
SaturationAdjustmentAqua | 0 |
SaturationAdjustmentBlue | +21 |
SaturationAdjustmentGreen | 0 |
SaturationAdjustmentMagenta | 0 |
SaturationAdjustmentOrange | +6 |
SaturationAdjustmentPurple | +6 |
SaturationAdjustmentRed | 0 |
SaturationAdjustmentYellow | +13 |
ScaleFactor35efl | 1.5 |
SceneCaptureType | Standard |
SceneType | Directly photographed |
SensingMethod | One-chip color area |
SerialNumber | 6336187 |
Shadows | 5 |
ShadowTint | 0 |
SharpenDetail | 25 |
SharpenEdgeMasking | 0 |
SharpenRadius | +1.0 |
Sharpness (1) | 25 |
Sharpness | Normal |
ShutterSpeed | 1/500 |
ShutterSpeedValue | 1/500 |
Software | Adobe Photoshop CS5 Windows |
SplitToningBalance | 0 |
SplitToningHighlightHue | 0 |
SplitToningHighlightSaturation | 0 |
SplitToningShadowHue | 0 |
SplitToningShadowSaturation | 0 |
SubjectDistance | 4294967295 m |
SubjectDistanceRange | Unknown |
Tint | -14 |
ToneCurve | 0, 0, 32, 22, 64, 56, 128, 128, 192, 196, 255, 255 |
ToneCurveName | Medium Contrast |
URL_List | |
Version | 6.0 |
Vibrance | +21 |
VignetteAmount | 0 |
WhiteBalance (1) | Custom |
WhiteBalance | Auto |