Felt | Verdi |
AlreadyApplied | True |
Aperture | 2.8 |
ApertureValue | 2.8 |
Artist | Erik Sommer |
BitsPerSample | 8 |
BlueHue | 0 |
BlueSaturation | 0 |
Brightness | +50 |
By-line | Erik Sommer |
CameraProfile | Matrix |
ChromaticAberrationB | 0 |
ChromaticAberrationR | 0 |
CircleOfConfusion | 0.019 mm |
Clarity | 0 |
ColorComponents | 1 |
ColorNoiseReduction | 25 |
ColorNoiseReductionDetail | 50 |
ColorTemperature | 5500 |
Contrast | +60 |
ConvertToGrayscale | True |
Copyright | www.sommerfoto.no |
CopyrightNotice | www.sommerfoto.no |
CreateDate (1) | 2011:06:27 18:51:38.94+02:00 |
CreateDate | 2011:06:27 18:51:38 |
Creator | Erik Sommer |
CreatorTool | Adobe Photoshop Lightroom |
CustomRendered | Normal |
DateTimeDigitized | 2011:06:27 18:51:38.94+02:00 |
DateTimeOriginal (1) | 2011:06:27 18:51:38.94+02:00 |
DateTimeOriginal | 2011:06:27 18:51:38 |
Defringe | 0 |
ExifImageHeight | 1000 |
ExifImageWidth | 1500 |
Exposure | +0.14 |
ExposureCompensation | 0 |
ExposureMode | Auto |
ExposureProgram | Aperture-priority AE |
ExposureTime | 1/160 |
FillLight | 17 |
Firmware | 1.2.2 |
Flash | Off, Did not fire |
FlashCompensation | 0 |
FlashFired | False |
FlashFunction | False |
FlashMode | Off |
FlashRedEyeMode | False |
FlashReturn | No return detection |
FNumber | 2.8 |
FocalLength | 50.0 mm |
FocalLength35efl | 50.0 mm (35 mm equivalent: 78.5 mm) |
FOV | 25.8 deg |
GrainAmount | 0 |
GrayMixerAqua | -17 |
GrayMixerBlue | +14 |
GrayMixerGreen | -28 |
GrayMixerMagenta | +5 |
GrayMixerOrange | -20 |
GrayMixerPurple | +19 |
GrayMixerRed | -11 |
GrayMixerYellow | -24 |
GreenHue | 0 |
GreenSaturation | 0 |
HasCrop | False |
HasSettings | True |
HighlightRecovery | 0 |
HyperfocalDistance | 46.66 m |
ImageHeight (1) | 1000 |
ImageHeight | 1016 |
ImageNumber | 0 |
ImageSize | 1516x1016 |
ImageWidth (1) | 1500 |
ImageWidth | 1516 |
ISO | 320 |
Lens | EF50mm f/1.4 USM |
LensID (1) | 198 |
LensID | Canon EF 50mm f/1.4 USM |
LensInfo | 50mm f/? |
LensManualDistortionAmount | 0 |
LensProfileEnable | 0 |
LensProfileSetup | LensDefaults |
LightValue | 8.6 |
LuminanceSmoothing | 0 |
Make | Canon |
MaxApertureValue | 1.4 |
Megapixels | 1.5 |
MeteringMode | Multi-segment |
Model | Canon EOS 7D |
ModifyDate (1) | 2011:06:28 15:43:50+02:00 |
ModifyDate | 2011:06:28 15:43:50 |
OwnerName | Erik Sommer |
ParametricDarks | 0 |
ParametricHighlights | 0 |
ParametricHighlightSplit | 75 |
ParametricLights | 0 |
ParametricMidtoneSplit | 50 |
ParametricShadows | 0 |
ParametricShadowSplit | 25 |
PerspectiveHorizontal | 0 |
PerspectiveRotate | 0.0 |
PerspectiveScale | 100 |
PerspectiveVertical | 0 |
PostCropVignetteAmount | 0 |
ProcessVersion | 5.7 |
ProfileDescription | sRGB IEC61966-2.1 |
RedHue | 0 |
RedSaturation | 0 |
Rights | www.sommerfoto.no |
ScaleFactor35efl | 1.6 |
SceneCaptureType | Standard |
SerialNumber | 1480820609 |
Shadows | 9 |
ShadowTint | 0 |
SharpenDetail | 25 |
SharpenEdgeMasking | 0 |
SharpenRadius | +1.0 |
Sharpness | 25 |
ShutterSpeed | 1/160 |
ShutterSpeedValue | 1/160 |
Software | PhotoScape |
SplitToningBalance | 0 |
SplitToningHighlightHue | 0 |
SplitToningHighlightSaturation | 0 |
SplitToningShadowHue | 0 |
SplitToningShadowSaturation | 0 |
Tint | +10 |
ToneCurve | 0, 0, 32, 22, 64, 56, 128, 128, 192, 196, 255, 255 |
ToneCurveName | Medium Contrast |
Version | 6.1 |
VignetteAmount | 0 |
WhiteBalance (2) | As Shot |
WhiteBalance | Auto |