Felt | Verdi |
AlreadyApplied | True |
Aperture | 4.0 |
ApertureValue | 4.0 |
ApproximateFocusDistance | 4.98 |
Artist | Eric Fagerheim |
BitsPerSample | 8 |
BlueHue | 0 |
BlueSaturation | -54 |
Brightness | +56 |
By-line | Eric Fagerheim |
CameraProfile | ACR 4.4 |
ChromaticAberrationB | 0 |
ChromaticAberrationR | 0 |
CircleOfConfusion | 0.031 mm |
Clarity | +60 |
ColorComponents | 3 |
ColorNoiseReduction | 33 |
ColorNoiseReductionDetail | 50 |
Contrast | +55 |
ConvertToGrayscale | False |
Copyright | Din fotograf i Trondheim - Fotofashion |
CopyrightNotice | Din fotograf i Trondheim - Fotofashion |
CreateDate (1) | 2011:04:16 15:25:11.32+02:00 |
CreateDate | 2011:04:16 15:25:11 |
Creator | Eric Fagerheim |
CreatorTool | Adobe Photoshop Lightroom 3.3 |
CreatorWorkEmail | mail@fotofashion.no |
CreatorWorkURL | http://www.fotofashion.no |
CustomRendered | Normal |
DateCreated (1) | 2011:04:16 |
DateCreated | 2011:04:16 15:25:11.032 |
DateTimeDigitized | 2011:04:16 15:25:11.32+02:00 |
DateTimeOriginal (1) | 2011:04:16 15:25:11.32+02:00 |
DateTimeOriginal | 2011:04:16 15:25:11 |
Defringe | 0 |
DOF | 0.54 m (4.72 - 5.27 m) |
ExifImageHeight | 640 |
ExifImageWidth | 800 |
Exposure | -0.69 |
ExposureCompensation | +1/3 |
ExposureMode | Auto |
ExposureProgram | Aperture-priority AE |
ExposureTime | 1/125 |
FillLight | 2 |
Firmware | 2.0.8 |
Flash | Off, Did not fire |
FlashCompensation | 0 |
FlashFired | False |
FlashFunction | False |
FlashMode | Off |
FlashRedEyeMode | False |
FlashReturn | No return detection |
FNumber | 4.0 |
FocalLength | 105.0 mm |
FocalLength35efl | 105.0 mm (35 mm equivalent: 102.5 mm) |
Format | application/vnd.adobe.photoshop |
FOV | 19.9 deg |
GrainAmount | 46 |
GrainFrequency | 50 |
GrainSize | 43 |
GreenHue | 0 |
GreenSaturation | +23 |
HasCrop | False |
HasSettings | True |
Headline | Din fotograf i Trondheim - Fotofashion |
HighlightRecovery | 100 |
HueAdjustmentAqua | 0 |
HueAdjustmentBlue | 0 |
HueAdjustmentGreen | 0 |
HueAdjustmentMagenta | 0 |
HueAdjustmentOrange | 0 |
HueAdjustmentPurple | 0 |
HueAdjustmentRed | 0 |
HueAdjustmentYellow | 0 |
HyperfocalDistance | 89.53 m |
ImageHeight | 640 |
ImageNumber | 0 |
ImageSize | 800x640 |
ImageWidth | 800 |
IncrementalTemperature | 0 |
IncrementalTint | -1 |
ISO | 100 |
Keywords | bilde, bryllup, bryllupsfotograf, domen, domkirken, foto, fotofashion, fotograf, fotograf trondheim, fotografi, nidarosdomen, trondheim |
Lens | EF70-200mm f/2.8L IS USM |
LensID (1) | 224 |
LensID | Canon EF 70-200mm f/2.8L IS USM |
LensInfo | 70-200mm f/? |
LensManualDistortionAmount | 0 |
LensModel | EF70-200mm f/2.8L IS USM |
LensProfileEnable | 0 |
LensProfileSetup | LensDefaults |
LightValue | 11.0 |
LuminanceAdjustmentAqua | 0 |
LuminanceAdjustmentBlue | 0 |
LuminanceAdjustmentGreen | 0 |
LuminanceAdjustmentMagenta | 0 |
LuminanceAdjustmentOrange | +25 |
LuminanceAdjustmentPurple | 0 |
LuminanceAdjustmentRed | +13 |
LuminanceAdjustmentYellow | +29 |
LuminanceSmoothing | 0 |
Make | Canon |
MaxApertureValue | 2.8 |
Megapixels | 0.512 |
MeteringMode | Partial |
Model | Canon EOS 5D Mark II |
ModifyDate (1) | 2011:04:23 03:44:50+02:00 |
ModifyDate | 2011:04:23 03:44:50 |
ObjectName | Din fotograf i Trondheim - Fotofashion |
ParametricDarks | +46 |
ParametricHighlights | -29 |
ParametricHighlightSplit | 75 |
ParametricLights | +13 |
ParametricMidtoneSplit | 50 |
ParametricShadows | +23 |
ParametricShadowSplit | 25 |
PerspectiveHorizontal | 0 |
PerspectiveRotate | 0.0 |
PerspectiveScale | 100 |
PerspectiveVertical | 0 |
PostCropVignetteAmount | 0 |
ProcessVersion | 5.7 |
ProfileDescription | sRGB IEC61966-2.1 |
Rating | 1 |
RedHue | -2 |
RedSaturation | -35 |
Rights | Din fotograf i Trondheim - Fotofashion |
Saturation | 0 |
SaturationAdjustmentAqua | 0 |
SaturationAdjustmentBlue | -73 |
SaturationAdjustmentGreen | 0 |
SaturationAdjustmentMagenta | 0 |
SaturationAdjustmentOrange | 0 |
SaturationAdjustmentPurple | 0 |
SaturationAdjustmentRed | +25 |
SaturationAdjustmentYellow | 0 |
ScaleFactor35efl | 1.0 |
SceneCaptureType | Standard |
SensitivityType | Unknown |
SerialNumber | 1330823407 |
Shadows | 0 |
ShadowTint | +69 |
SharpenDetail | 25 |
SharpenEdgeMasking | 0 |
SharpenRadius | +1.0 |
Sharpness | 20 |
ShutterSpeed | 1/125 |
ShutterSpeedValue | 1/125 |
Software | Adobe Photoshop CS5 Windows |
SplitToningBalance | +44 |
SplitToningHighlightHue | 54 |
SplitToningHighlightSaturation | 28 |
SplitToningShadowHue | 205 |
SplitToningShadowSaturation | 25 |
Subject | bilde, bryllup, bryllupsfotograf, domen, domkirken, foto, fotofashion, fotograf, fotograf trondheim, fotografi, nidarosdomen, trondheim |
SubjectDistance | 4.98 m |
Title | Din fotograf i Trondheim - Fotofashion |
ToneCurve | 0, 0, 32, 22, 64, 56, 128, 128, 192, 196, 255, 255 |
ToneCurveName | Medium Contrast |
URL | http://www.fotofashion.no |
Version | 6.3 |
Vibrance | 0 |
VignetteAmount | -89 |
VignetteMidpoint | 39 |
WebStatement | http://www.fotofashion.no |
WhiteBalance (2) | Custom |
WhiteBalance | Auto |