Felt | Verdi |
AlreadyApplied | True |
Aperture | 5.3 |
ApertureValue | 5.3 |
ApproximateFocusDistance | 2.24 |
Artist | wenche@roro.no |
AuthorsPosition | Photographer |
BitsPerSample (1) | 8 8 8 |
BitsPerSample | 8 |
BlueHue | 0 |
BlueSaturation | 0 |
Brightness | +50 |
By-line | wenche@roro.no |
By-lineTitle | Photographer |
CameraProfile | Adobe Standard |
CFAPattern | [Red,Green][Green,Blue] |
ChromaticAberrationB | 0 |
ChromaticAberrationR | 0 |
CircleOfConfusion | 0.030 mm |
Clarity | +60 |
ColorComponents | 3 |
ColorMode | RGB |
ColorNoiseReduction | 25 |
ColorNoiseReductionDetail | 50 |
ColorSpace | sRGB |
ColorTemperature | 3000 |
Contrast (1) | +25 |
Contrast | Normal |
ConvertToGrayscale | False |
Copyright | Venche Jensen |
CopyrightFlag | True |
CopyrightNotice | Venche Jensen |
CreateDate (1) | 2010:11:27 12:40:09.58+01:00 |
CreateDate | 2010:11:27 12:40:09 |
Creator | wenche@roro.no, Venche Jensen |
CreatorAddress | Granshagen 1.11 |
CreatorCity | Alta |
CreatorCountry | Norway |
CreatorPostalCode | 9511 |
CreatorTool | Adobe Photoshop CS5 Macintosh |
CreatorWorkEmail | wenche@roro.no |
CreatorWorkTelephone | 04745472913 |
CreatorWorkURL | http://www.venche.no |
CustomRendered | Normal |
DateCreated (1) | 2010:11:27 |
DateCreated | 2010:11:27 12:40:09.058 |
DateTimeOriginal | 2010:11:27 12:40:09 |
Defringe | 0 |
DigitalZoomRatio | 1 |
DOF | 0.28 m (2.11 - 2.39 m) |
ExifImageHeight | 799 |
ExifImageWidth | 1200 |
Exposure | -1.10 |
ExposureCompensation | 0 |
ExposureMode | Auto |
ExposureProgram | Program AE |
ExposureTime | 1/25 |
FillLight | 78 |
Flash | No Flash |
FNumber | 5.3 |
FocalLength | 75.0 mm |
FocalLength35efl | 75.0 mm (35 mm equivalent: 75.0 mm) |
FocalLengthIn35mmFormat | 75 mm |
Format | image/jpeg |
FOV | 27.0 deg |
GainControl | High gain up |
GrainAmount | 0 |
GreenHue | 0 |
GreenSaturation | 0 |
HasCrop | False |
HasSettings | True |
HighlightRecovery | 93 |
HueAdjustmentAqua | 0 |
HueAdjustmentBlue | 0 |
HueAdjustmentGreen | 0 |
HueAdjustmentMagenta | 0 |
HueAdjustmentOrange | 0 |
HueAdjustmentPurple | 0 |
HueAdjustmentRed | 0 |
HueAdjustmentYellow | 0 |
HyperfocalDistance | 35.32 m |
ICCProfileName | sRGB IEC61966-2.1 |
ImageHeight (1) | 1065 |
ImageHeight | 799 |
ImageNumber | 28442 |
ImageSize | 1200x799 |
ImageWidth (1) | 1600 |
ImageWidth | 1200 |
ISO | 1600 |
Lens | 24.0-120.0 mm f/3.5-5.6 |
LensID (1) | 120 |
LensID | AF-S VR Zoom-Nikkor 24-120mm f/3.5-5.6G IF-ED |
LensInfo | 24-120mm f/3.5-5.6 |
LensManualDistortionAmount | 0 |
LensModel | 24.0-120.0 mm f/3.5-5.6 |
LensProfileEnable | 0 |
LensProfileSetup | LensDefaults |
LightSource | Unknown |
LightValue | 5.5 |
LuminanceAdjustmentAqua | 0 |
LuminanceAdjustmentBlue | 0 |
LuminanceAdjustmentGreen | 0 |
LuminanceAdjustmentMagenta | 0 |
LuminanceAdjustmentOrange | 0 |
LuminanceAdjustmentPurple | 0 |
LuminanceAdjustmentRed | 0 |
LuminanceAdjustmentYellow | 0 |
LuminanceSmoothing | 0 |
Make | NIKON CORPORATION |
Marked | True |
MaxApertureValue | 5.5 |
Megapixels | 0.959 |
MeteringMode | Multi-segment |
Model | NIKON D3 |
ModifyDate (1) | 2010:11:27 22:07:35+01:00 |
ModifyDate | 2010:11:27 22:07:35 |
Orientation | Horizontal (normal) |
ParametricDarks | 0 |
ParametricHighlights | 0 |
ParametricHighlightSplit | 75 |
ParametricLights | 0 |
ParametricMidtoneSplit | 50 |
ParametricShadows | 0 |
ParametricShadowSplit | 25 |
PerspectiveHorizontal | 0 |
PerspectiveRotate | 0.0 |
PerspectiveScale | 100 |
PerspectiveVertical | 0 |
PhotometricInterpretation | RGB |
PostCropVignetteAmount | 0 |
PreservedFileName | _VEJ7843.NEF |
ProcessVersion | 5.7 |
ProfileDescription | sRGB IEC61966-2.1 |
Rating | 1 |
RawFileName | 271110_VEJ7843_1600.NEF |
RedHue | 0 |
RedSaturation | 0 |
Rights | Venche Jensen |
Saturation (1) | 0 |
Saturation | Normal |
SaturationAdjustmentAqua | 0 |
SaturationAdjustmentBlue | 0 |
SaturationAdjustmentGreen | 0 |
SaturationAdjustmentMagenta | 0 |
SaturationAdjustmentOrange | 0 |
SaturationAdjustmentPurple | 0 |
SaturationAdjustmentRed | 0 |
SaturationAdjustmentYellow | 0 |
ScaleFactor35efl | 1.0 |
SceneCaptureType | Standard |
SceneType | Directly photographed |
SensingMethod | One-chip color area |
SensitivityType | Unknown |
SerialNumber | 2037256 |
Shadows | 11 |
ShadowTint | 0 |
SharpenDetail | 25 |
SharpenEdgeMasking | 0 |
SharpenRadius | +1.0 |
Sharpness (1) | 25 |
Sharpness | Normal |
ShutterSpeed | 1/25 |
ShutterSpeedValue | 1/25 |
Software | Adobe Photoshop CS5 Macintosh |
SplitToningBalance | 0 |
SplitToningHighlightHue | 0 |
SplitToningHighlightSaturation | 0 |
SplitToningShadowHue | 0 |
SplitToningShadowSaturation | 0 |
SubjectDistance | 2.24 m |
SubjectDistanceRange | Unknown |
Tint | -11 |
ToneCurve | 0, 0, 32, 22, 64, 56, 128, 128, 192, 196, 255, 255 |
ToneCurveName | Medium Contrast |
URL_List | |
Version | 6.2 |
Vibrance | 0 |
VignetteAmount | 0 |
WhiteBalance (1) | As Shot |
WhiteBalance | Auto |