Felt | Verdi |
AlreadyApplied | True |
Aperture | 10.0 |
ApertureValue | 10.0 |
BitsPerSample | 8 |
BlackClip | 0.092450 |
BlueHue | 0 |
BlueSaturation | 0 |
Brightness | -22 |
CameraProfile | Embedded |
ChromaticAberrationB | 0 |
ChromaticAberrationR | 0 |
Clarity | +100 |
ColorComponents | 1 |
ColorMode | RGB |
ColorNoiseReduction | 0 |
ColorSaturation | 53.0 |
ColorSpace (1) | Unknown (-1) |
ColorSpace | Uncalibrated |
ColorTemperature | -4.0 |
Contrast | +17 |
ConvertToGrayscale | False |
CopyrightFlag | False |
CreateDate | 2010:11:09 12:52:58+01:00 |
CreatorTool | Adobe Photoshop CS3 Windows |
CropAngle | 0 |
CropBottom | 1 |
CropLeft | 0 |
CropRight | 1 |
CropTop | 0 |
DateTimeOriginal (1) | 2010:10:07 16:01:08+02:00 |
DateTimeOriginal | 2010:10:07 16:01:08 |
Defringe | 0 |
ExifImageHeight | 1024 |
ExifImageWidth | 685 |
Exposure | 0.00 |
ExposureTime | 1/60 |
FillLight | 0 |
FNumber | 10.0 |
FocalLength | 18.0 mm |
FocalLength35efl | 18.0 mm |
Format | image/jpeg |
Gamma | 1.1 |
GreenHue | 0 |
GreenSaturation | 0 |
HasCrop | True |
HasSettings | True |
HighlightRecovery | 0 |
HighlightsSmoothing | 20.0 |
HueAdjustmentAqua | 0 |
HueAdjustmentBlue | 0 |
HueAdjustmentGreen | 0 |
HueAdjustmentMagenta | 0 |
HueAdjustmentOrange | 0 |
HueAdjustmentPurple | 0 |
HueAdjustmentRed | 0 |
HueAdjustmentYellow | 0 |
ICCProfileName | ProPhoto RGB |
ImageHeight | 1024 |
ImageSize | 685x1024 |
ImageWidth | 685 |
IncrementalTemperature | 0 |
IncrementalTint | 0 |
ISO | 100 |
Label | |
LightValue | 12.6 |
LuminanceAdjustmentAqua | 0 |
LuminanceAdjustmentBlue | 0 |
LuminanceAdjustmentGreen | 0 |
LuminanceAdjustmentMagenta | 0 |
LuminanceAdjustmentOrange | 0 |
LuminanceAdjustmentPurple | 0 |
LuminanceAdjustmentRed | 0 |
LuminanceAdjustmentYellow | 0 |
LuminanceSmoothing | 0 |
Luminosity | 0.0 |
Megapixels | 0.701 |
Method | Details Enhancer |
Microcontrast | 10.0 |
Microsmoothing | 0.0 |
Model | NIKON D40X |
ModifyDate (1) | 2010:11:09 12:52:58+01:00 |
ModifyDate | 2010:11:09 12:52:58 |
Orientation | Horizontal (normal) |
ParametricDarks | 0 |
ParametricHighlights | 0 |
ParametricHighlightSplit | 75 |
ParametricLights | 0 |
ParametricMidtoneSplit | 50 |
ParametricShadows | 0 |
ParametricShadowSplit | 25 |
PostCropVignetteAmount | -70 |
PostCropVignetteFeather | 61 |
PostCropVignetteMidpoint | 32 |
PostCropVignetteRoundness | 0 |
ProfileDescription | ProPhoto RGB |
Rating | 0 |
RawFileName | heddal kirke hdr copy.jpg |
RedHue | 0 |
RedSaturation | 0 |
Saturation | -100 |
SaturationAdjustmentAqua | 0 |
SaturationAdjustmentBlue | 0 |
SaturationAdjustmentGreen | 0 |
SaturationAdjustmentMagenta | 0 |
SaturationAdjustmentOrange | 0 |
SaturationAdjustmentPurple | 0 |
SaturationAdjustmentRed | 0 |
SaturationAdjustmentYellow | 0 |
SaturationHighlights | 4.0 |
SaturationShadows | 0.0 |
Shadows | 0 |
ShadowsClipping | 0.0 |
ShadowsSmoothing | 0.0 |
ShadowTint | 0 |
SharpenDetail | 13 |
SharpenEdgeMasking | 100 |
SharpenRadius | +1.6 |
Sharpness | 136 |
ShutterSpeed | 1/60 |
ShutterSpeedValue | 1/60 |
Smoothing | Medium |
Software | Adobe Photoshop CS3 Windows |
SplitToningBalance | 0 |
SplitToningHighlightHue | 0 |
SplitToningHighlightSaturation | 0 |
SplitToningShadowHue | 0 |
SplitToningShadowSaturation | 0 |
Strength | 100.0 |
ToneCurve | 0, 0, 255, 255 |
ToneCurveName | Linear |
URL_List | |
Version (1) | 3.2 |
Version | 4.6 |
Vibrance | +61 |
VignetteAmount | 0 |
WhiteBalance | As Shot |
WhiteClip | 1.415950 |