Felt | Verdi |
AlreadyApplied | True |
Aperture | 2.8 |
ApertureValue | 2.8 |
ApproximateFocusDistance | 4294967295 |
BitsPerSample (1) | 16 16 16 |
BitsPerSample | 8 |
BlueHue | 0 |
BlueSaturation | 0 |
Brightness | +50 |
CameraProfile | Adobe Standard |
CFAPattern | [Red,Green][Green,Blue] |
ChromaticAberrationB | 0 |
ChromaticAberrationR | 0 |
CircleOfConfusion | 0.030 mm |
Clarity | +66 |
ColorComponents | 3 |
ColorMode | RGB |
ColorNoiseReduction | 25 |
ColorNoiseReductionDetail | 50 |
ColorSpace | Uncalibrated |
ColorTemperature | 4900 |
Contrast (1) | +56 |
Contrast | Normal |
ConvertToGrayscale | False |
CreateDate (1) | 2010:09:15 00:50:19.00+02:00 |
CreateDate | 2010:09:15 00:50:19 |
CreatorTool | Adobe Photoshop CS5 Windows |
CropAngle | 1.160262 |
CropBottom | 1 |
CropConstrainToWarp | 1 |
CropLeft | 0.021308 |
CropRight | 0.978692 |
CropTop | 0 |
CustomRendered | Normal |
DateCreated (1) | 2010:09:15 |
DateCreated | 2010:09:15 00:50:19 |
DateTimeOriginal | 2010:09:15 00:50:19 |
Defringe | 0 |
DigitalZoomRatio | 1 |
DOF | inf (3.44 m - inf) |
ExifImageHeight | 1200 |
ExifImageWidth | 799 |
Exposure | +0.30 |
ExposureCompensation | 0 |
ExposureMode | Manual |
ExposureProgram | Manual |
ExposureTime | 13 |
FillLight | 19 |
Flash | No Flash |
FNumber | 2.8 |
FocalLength | 17.0 mm |
FocalLength35efl | 17.0 mm (35 mm equivalent: 17.0 mm) |
FocalLengthIn35mmFormat | 17 mm |
Format | image/jpeg |
FOV | 93.3 deg |
GainControl | High gain up |
GrainAmount | 0 |
GreenHue | 0 |
GreenSaturation | 0 |
HasCrop | True |
HasSettings | True |
HighlightRecovery | 100 |
HueAdjustmentAqua | 0 |
HueAdjustmentBlue | 0 |
HueAdjustmentGreen | 0 |
HueAdjustmentMagenta | 0 |
HueAdjustmentOrange | 0 |
HueAdjustmentPurple | 0 |
HueAdjustmentRed | 0 |
HueAdjustmentYellow | 0 |
HyperfocalDistance | 3.44 m |
ICCProfileName | Adobe RGB (1998) |
ImageHeight (1) | 4131 |
ImageHeight | 1200 |
ImageNumber | 5782 |
ImageSize | 799x1200 |
ImageWidth (1) | 2749 |
ImageWidth | 799 |
ISO | 1600 |
Lens | 17.0-35.0 mm f/2.8 |
LensID (1) | 99 |
LensID | AF-S Nikkor 17-35mm f/2.8D IF-ED |
LensInfo | 17-35mm f/2.8 |
LensManualDistortionAmount | 0 |
LensModel | 17.0-35.0 mm f/2.8 |
LensProfileEnable | 0 |
LensProfileSetup | LensDefaults |
LightSource | Unknown |
LightValue | -4.7 |
LuminanceAdjustmentAqua | 0 |
LuminanceAdjustmentBlue | 0 |
LuminanceAdjustmentGreen | 0 |
LuminanceAdjustmentMagenta | 0 |
LuminanceAdjustmentOrange | 0 |
LuminanceAdjustmentPurple | 0 |
LuminanceAdjustmentRed | 0 |
LuminanceAdjustmentYellow | 0 |
LuminanceNoiseReductionContrast | 0 |
LuminanceNoiseReductionDetail | 50 |
LuminanceSmoothing | 24 |
Make | NIKON CORPORATION |
MaxApertureValue | 2.8 |
Megapixels | 0.959 |
MeteringMode | Multi-segment |
Model | NIKON D700 |
ModifyDate (1) | 2010:10:20 14:56:49+02:00 |
ModifyDate | 2010:10:20 14:56:49 |
Orientation | Horizontal (normal) |
ParametricDarks | 0 |
ParametricHighlights | -7 |
ParametricHighlightSplit | 75 |
ParametricLights | 0 |
ParametricMidtoneSplit | 50 |
ParametricShadows | 0 |
ParametricShadowSplit | 25 |
PerspectiveHorizontal | 0 |
PerspectiveRotate | 0.0 |
PerspectiveScale | 100 |
PerspectiveVertical | 0 |
PhotometricInterpretation | RGB |
PlanarConfiguration | Chunky |
PostCropVignetteAmount | 0 |
ProcessVersion | 5.7 |
ProfileDescription | Adobe RGB (1998) |
Rating | 0 |
RawFileName | _DSC6302.NEF |
RedHue | 0 |
RedSaturation | 0 |
Saturation (1) | +3 |
Saturation | Normal |
SaturationAdjustmentAqua | 0 |
SaturationAdjustmentBlue | 0 |
SaturationAdjustmentGreen | 0 |
SaturationAdjustmentMagenta | 0 |
SaturationAdjustmentOrange | 0 |
SaturationAdjustmentPurple | 0 |
SaturationAdjustmentRed | 0 |
SaturationAdjustmentYellow | 0 |
ScaleFactor35efl | 1.0 |
SceneCaptureType | Standard |
SceneType | Directly photographed |
SensingMethod | One-chip color area |
SensitivityType | Unknown |
SerialNumber | 2005718 |
Shadows | 10 |
ShadowTint | 0 |
SharpenDetail | 25 |
SharpenEdgeMasking | 0 |
SharpenRadius | +1.0 |
Sharpness (1) | 25 |
Sharpness | Hard |
ShutterSpeed | 13 |
ShutterSpeedValue | 13 |
Software | Adobe Photoshop CS5 Windows |
SplitToningBalance | 0 |
SplitToningHighlightHue | 0 |
SplitToningHighlightSaturation | 0 |
SplitToningShadowHue | 0 |
SplitToningShadowSaturation | 0 |
SubjectDistance | 4294967295 m |
SubjectDistanceRange | Unknown |
Tint | +66 |
ToneCurve | 0, 0, 32, 22, 64, 56, 128, 128, 192, 196, 255, 255 |
ToneCurveName | Medium Contrast |
URL_List | |
Version | 6.2 |
Vibrance | +13 |
VignetteAmount | 0 |
WhiteBalance (1) | Custom |
WhiteBalance | Auto |