Felt | Verdi |
AlreadyApplied | True |
Aperture | 18.0 |
ApertureValue | 18.0 |
ApproximateFocusDistance | 1.5 |
BitsPerSample | 8 |
BlueHue | 0 |
BlueSaturation | 0 |
Brightness | +63 |
CameraProfile | Adobe Standard |
CFAPattern | [Red,Green][Green,Blue] |
ChromaticAberrationB | +1 |
ChromaticAberrationR | -4 |
CircleOfConfusion | 0.020 mm |
Clarity | -100 |
ColorComponents | 3 |
ColorMode | RGB |
ColorNoiseReduction | 25 |
ColorNoiseReductionDetail | 50 |
ColorSpace | sRGB |
ColorTemperature | 5500 |
Contrast (1) | +36 |
Contrast | Normal |
ConvertToGrayscale | False |
CreateDate (1) | 2010:10:01 22:07:47.41+02:00 |
CreateDate | 2010:10:01 22:07:47 |
CreatorTool | Ver.2.00 |
CropAngle | 0 |
CropBottom | 0.950271 |
CropConstrainToWarp | 1 |
CropLeft | 0.47464 |
CropRight | 0.94199 |
CropTop | 0.148391 |
CustomRendered | Normal |
DateCreated (1) | 2010:10:01 |
DateCreated | 2010:10:01 22:07:47.041 |
DateTimeOriginal | 2010:10:01 22:07:47 |
Defringe | 2 |
DigitalZoomRatio | 1 |
DOF | 0.04 m (1.48 - 1.52 m) |
ExifImageHeight | 2004 |
ExifImageWidth | 2284 |
Exposure | 0.00 |
ExposureCompensation | 0 |
ExposureMode | Manual |
ExposureProgram | Manual |
ExposureTime | 1/250 |
FillLight | 0 |
Flash | No Flash |
FNumber | 18.0 |
FocalLength | 200.0 mm |
FocalLength35efl | 200.0 mm (35 mm equivalent: 300.0 mm) |
FocalLengthIn35mmFormat | 300 mm |
Format | image/jpeg |
FOV | 6.9 deg |
GainControl | None |
GrainAmount | 0 |
GreenHue | 0 |
GreenSaturation | 0 |
HasCrop | True |
HasSettings | True |
HighlightRecovery | 46 |
HueAdjustmentAqua | 0 |
HueAdjustmentBlue | 0 |
HueAdjustmentGreen | 0 |
HueAdjustmentMagenta | 0 |
HueAdjustmentOrange | 0 |
HueAdjustmentPurple | 0 |
HueAdjustmentRed | 0 |
HueAdjustmentYellow | 0 |
HyperfocalDistance | 110.94 m |
ICCProfileName | sRGB IEC61966-2.1 |
ImageHeight | 2004 |
ImageNumber | 31890 |
ImageSize | 2284x2004 |
ImageWidth | 2284 |
ISO | 100 |
Lens | 80.0-200.0 mm f/2.8 |
LensID (1) | 83 |
LensID | AF Zoom-Nikkor 80-200mm f/2.8D ED |
LensInfo | 80-200mm f/2.8 |
LensManualDistortionAmount | 0 |
LensModel | 80.0-200.0 mm f/2.8 |
LensProfileEnable | 0 |
LensProfileSetup | LensDefaults |
LightSource | Unknown |
LightValue | 16.3 |
LuminanceAdjustmentAqua | 0 |
LuminanceAdjustmentBlue | 0 |
LuminanceAdjustmentGreen | 0 |
LuminanceAdjustmentMagenta | 0 |
LuminanceAdjustmentOrange | 0 |
LuminanceAdjustmentPurple | 0 |
LuminanceAdjustmentRed | 0 |
LuminanceAdjustmentYellow | 0 |
LuminanceSmoothing | 0 |
Make | NIKON CORPORATION |
MaxApertureValue | 2.8 |
Megapixels | 4.6 |
MeteringMode | Multi-segment |
Model | NIKON D2X |
ModifyDate (1) | 2010:10:01 22:16:41+02:00 |
ModifyDate | 2010:10:01 22:16:41 |
Orientation | Horizontal (normal) |
PaintCorrectionActive | true |
PaintCorrectionAmount | 1.000000 |
PaintCorrectionBrightness | 0.250000 |
PaintCorrectionClarity | 1.000000 |
PaintCorrectionContrast | 0.180000 |
PaintCorrectionExposure | 0.112500 |
PaintCorrectionHue | 0.000000 |
PaintCorrectionMaskCenterWeight | 0.000000 |
PaintCorrectionMaskFlow | 0.888889 |
PaintCorrectionMaskRadius | 0.100260 |
PaintCorrectionMaskValue | 1.000000 |
PaintCorrectionMaskWhat | Mask/Paint |
PaintCorrectionSaturation (1) | -0.110000 |
PaintCorrectionSaturation | 0.000000 |
PaintCorrectionSharpness | 0.050000 |
PaintCorrectionWhat | Correction |
ParametricDarks | 0 |
ParametricHighlights | 0 |
ParametricHighlightSplit | 75 |
ParametricLights | 0 |
ParametricMidtoneSplit | 50 |
ParametricShadows | 0 |
ParametricShadowSplit | 25 |
PerspectiveHorizontal | 0 |
PerspectiveRotate | 0.0 |
PerspectiveScale | 100 |
PerspectiveVertical | 0 |
PostCropVignetteAmount | 0 |
ProcessVersion | 5.7 |
ProfileDescription | sRGB IEC61966-2.1 |
Rating | 0 |
RawFileName | _D2X7706.NEF |
RedHue | 0 |
RedSaturation | 0 |
Saturation (1) | 0 |
Saturation | Normal |
SaturationAdjustmentAqua | 0 |
SaturationAdjustmentBlue | 0 |
SaturationAdjustmentGreen | 0 |
SaturationAdjustmentMagenta | 0 |
SaturationAdjustmentOrange | 0 |
SaturationAdjustmentPurple | 0 |
SaturationAdjustmentRed | 0 |
SaturationAdjustmentYellow | 0 |
ScaleFactor35efl | 1.5 |
SceneCaptureType | Standard |
SceneType | Directly photographed |
SensingMethod | One-chip color area |
SensitivityType | Unknown |
SerialNumber | 5030059 |
Shadows | 5 |
ShadowTint | 0 |
SharpenDetail | 40 |
SharpenEdgeMasking | 30 |
SharpenRadius | +0.9 |
Sharpness (1) | 64 |
Sharpness | Soft |
ShutterSpeed | 1/250 |
ShutterSpeedValue | 1/250 |
SidecarForExtension | NEF |
Software | Adobe Photoshop CS5 Windows |
SplitToningBalance | 0 |
SplitToningHighlightHue | 0 |
SplitToningHighlightSaturation | 0 |
SplitToningShadowHue | 0 |
SplitToningShadowSaturation | 0 |
SubjectDistance | 1.5 m |
SubjectDistanceRange | Unknown |
Tint | +2 |
ToneCurve | 0, 0, 32, 22, 64, 56, 128, 128, 192, 196, 255, 255 |
ToneCurveName | Medium Contrast |
URL_List | |
UserComment | Copyright (c) Endre W.Johannesen |
Version | 6.2 |
Vibrance | 0 |
VignetteAmount | 0 |
WhiteBalance (1) | Custom |
WhiteBalance | Auto |