Felt | Verdi |
AlreadyApplied | True |
Aperture | 2.8 |
ApertureValue | 2.8 |
Artist | Torbjørn Nilsen |
BitsPerSample | 8 |
BlueHue | 0 |
BlueSaturation | 0 |
Brightness | -25 |
By-line | Torbj¿rn Nilsen |
CameraProfile | Embedded |
ChromaticAberrationB | 0 |
ChromaticAberrationR | 0 |
CircleOfConfusion | 0.030 mm |
City | Arendal |
Clarity | +60 |
ColorComponents | 3 |
ColorMode | RGB |
ColorNoiseReduction | 0 |
ColorSpace | Uncalibrated |
Contrast (2) | -6 |
Contrast | Normal |
ConvertToGrayscale | False |
Copyright | Torbjørn Nilsen |
CopyrightNotice | Torbj¿rn Nilsen |
Country | Norway |
Country-PrimaryLocationName | Norway |
CreateDate (1) | 2010:05:22 21:23:44.25+02:00 |
CreateDate | 2010:05:22 21:23:44 |
Creator | Torbjørn Nilsen |
CreatorAddress | Ulveveien 12 A |
CreatorCity | Lakselv |
CreatorCountry | Norge |
CreatorPostalCode | 9711 |
CreatorRegion | Finnmark |
CreatorTool | Aperture 3.0.3 |
CreatorWorkEmail | t-nilsen@live.no |
CreatorWorkTelephone | 47 99554722 |
CreatorWorkURL | web.me.com/t.nilsen |
CropAngle | 0 |
CropBottom | 0.934236 |
CropLeft | 0.063953 |
CropRight | 0.959304 |
CropTop | 0.0735 |
CustomRendered | Normal |
DateTimeDigitized | 2010:05:22 21:23:44.25+02:00 |
DateTimeOriginal (1) | 2010:05:22 21:23:44.25+02:00 |
DateTimeOriginal | 2010:05:22 21:23:44 |
Defringe | 0 |
DigitalZoomRatio | 1 |
ExifImageHeight | 1832 |
ExifImageWidth | 1268 |
Exposure | -0.66 |
ExposureCompensation | 0 |
ExposureMode | Manual |
ExposureProgram | Manual |
ExposureTime | 1/8000 |
FillLight | 0 |
Flash | No Flash |
FlashFired | False |
FlashFunction | False |
FlashMode | Unknown |
FlashRedEyeMode | False |
FlashReturn | No return detection |
FNumber | 2.8 |
FocalLength | 105.0 mm |
FocalLength35efl | 105.0 mm (35 mm equivalent: 105.0 mm) |
FocalLengthIn35mmFormat | 105 mm |
Format | image/jpeg |
FOV | 19.5 deg |
GainControl | None |
GreenHue | 0 |
GreenSaturation | 0 |
HasCrop | True |
HasSettings | True |
HierarchicalSubject | Hove, Randi |
HighlightRecovery | 0 |
HueAdjustmentAqua | 0 |
HueAdjustmentBlue | 0 |
HueAdjustmentGreen | 0 |
HueAdjustmentMagenta | 0 |
HueAdjustmentOrange | 0 |
HueAdjustmentPurple | 0 |
HueAdjustmentRed | 0 |
HueAdjustmentYellow | 0 |
HyperfocalDistance | 131.05 m |
ICCProfileName | ProPhoto RGB |
ImageHeight | 1832 |
ImageSize | 1268x1832 |
ImageWidth | 1268 |
IncrementalTemperature | +10 |
IncrementalTint | 0 |
Instructions | bQ5Mi%X1RA2Vv81x5%W2jA |
ISO | 200 |
Keywords | Hove, Randi |
LightSource | Unknown |
LightValue | 14.9 |
Location | Hove |
LuminanceAdjustmentAqua | 0 |
LuminanceAdjustmentBlue | 0 |
LuminanceAdjustmentGreen | 0 |
LuminanceAdjustmentMagenta | 0 |
LuminanceAdjustmentOrange | 0 |
LuminanceAdjustmentPurple | 0 |
LuminanceAdjustmentRed | 0 |
LuminanceAdjustmentYellow | 0 |
LuminanceSmoothing | 100 |
Make | NIKON CORPORATION |
MaxApertureValue | 2.8 |
Megapixels | 2.3 |
MeteringMode | Spot |
Model | NIKON D700 |
ModifyDate (1) | 2010:06:23 11:08:45+02:00 |
ModifyDate | 2010:06:23 11:08:45 |
Orientation | Horizontal (normal) |
ParametricDarks | +56 |
ParametricHighlights | 0 |
ParametricHighlightSplit | 75 |
ParametricLights | +96 |
ParametricMidtoneSplit | 50 |
ParametricShadows | +35 |
ParametricShadowSplit | 25 |
PostCropVignetteAmount | 0 |
ProfileDescription | ProPhoto RGB |
Province-State | Aust Agder |
Rating | 0 |
RawFileName | Randi # 2010-05-22 5637-4.jpg |
RedHue | 0 |
RedSaturation | 0 |
Rights | Torbjørn Nilsen |
Saturation (2) | 0 |
Saturation | Normal |
SaturationAdjustmentAqua | 0 |
SaturationAdjustmentBlue | 0 |
SaturationAdjustmentGreen | 0 |
SaturationAdjustmentMagenta | 0 |
SaturationAdjustmentOrange | 0 |
SaturationAdjustmentPurple | 0 |
SaturationAdjustmentRed | 0 |
SaturationAdjustmentYellow | 0 |
ScaleFactor35efl | 1.0 |
SceneCaptureType | Standard |
SensingMethod | One-chip color area |
Shadows | 10 |
ShadowTint | 0 |
SharpenDetail | 25 |
SharpenEdgeMasking | 0 |
SharpenRadius | +1.0 |
Sharpness (2) | 0 |
Sharpness | Normal |
ShutterSpeed | 1/8000 |
ShutterSpeedValue | 1/8000 |
Software | Adobe Photoshop CS4 Macintosh |
SpecialInstructions | bQ5Mi%X1RA2Vv81x5%W2jA |
SplitToningBalance | 0 |
SplitToningHighlightHue | 0 |
SplitToningHighlightSaturation | 0 |
SplitToningShadowHue | 0 |
SplitToningShadowSaturation | 0 |
State | Aust Agder |
Subject | Hove, Randi |
SubjectDistanceRange | Unknown |
ToneCurve | 0, 0, 255, 255 |
ToneCurveName | Linear |
URL_List | |
Version | 5.5 |
Vibrance | +20 |
VignetteAmount | -71 |
VignetteMidpoint | 50 |
WhiteBalance (2) | Custom |
WhiteBalance | Auto |