Felt | Verdi |
AlreadyApplied | True |
Aperture | 5.7 |
ApertureValue | 5.7 |
BitsPerSample | 8 |
BlackClip | 0.024200 |
BlueHue | -58 |
BlueSaturation | -45 |
Brightness | +45 |
CameraProfile | Embedded |
ChromaticAberrationB | 0 |
ChromaticAberrationR | 0 |
Clarity | 0 |
ColorComponents | 3 |
ColorNoiseReduction | 25 |
ColorSaturation | 46.0 |
ColorTemperature | 0.0 |
Contrast | +24 |
ConvertToGrayscale | False |
CreateDate | 2010:05:04 10:14:05+02:00 |
CreatorTool | Adobe Photoshop Lightroom |
CropAngle | 0 |
CropBottom | 0.910387 |
CropHeight | 490 |
CropLeft | 0 |
CropRight | 0.758573 |
CropTop | 0.219959 |
CropUnit | pixels |
CropWidth | 800 |
DateTimeOriginal (1) | 2010:05:04 10:14:05+02:00 |
DateTimeOriginal | 2010:05:04 10:14:05 |
Defringe | 0 |
ExifImageHeight | 490 |
ExifImageWidth | 800 |
Exposure | -0.22 |
ExposureTime | 1/90 |
FillLight | 0 |
FNumber | 5.7 |
Gamma | 1.2 |
GreenHue | 0 |
GreenSaturation | +80 |
HasCrop | True |
HasSettings | True |
HighlightRecovery | 36 |
HighlightsSmoothing | 0.0 |
HueAdjustmentAqua | 0 |
HueAdjustmentBlue | 0 |
HueAdjustmentGreen | 0 |
HueAdjustmentMagenta | 0 |
HueAdjustmentOrange | 0 |
HueAdjustmentPurple | 0 |
HueAdjustmentRed | 0 |
HueAdjustmentYellow | 0 |
ImageHeight | 490 |
ImageSize | 800x490 |
ImageWidth | 800 |
IncrementalTemperature | +9 |
IncrementalTint | +2 |
ISO | 160 |
LightValue | 10.8 |
LuminanceAdjustmentAqua | 0 |
LuminanceAdjustmentBlue | 0 |
LuminanceAdjustmentGreen | 0 |
LuminanceAdjustmentMagenta | 0 |
LuminanceAdjustmentOrange | 0 |
LuminanceAdjustmentPurple | 0 |
LuminanceAdjustmentRed | 0 |
LuminanceAdjustmentYellow | 0 |
LuminanceSmoothing | 0 |
Luminosity | -1.9 |
Megapixels | 0.392 |
Method | Details Enhancer |
Microcontrast | 0.3 |
Microsmoothing | 2.0 |
Model | M8 Digital Camera |
ModifyDate (1) | 2010:05:09 13:08:09+02:00 |
ModifyDate | 2010:05:09 13:08:09 |
ParametricDarks | -11 |
ParametricHighlights | +18 |
ParametricHighlightSplit | 75 |
ParametricLights | +7 |
ParametricMidtoneSplit | 50 |
ParametricShadows | 0 |
ParametricShadowSplit | 25 |
PostCropVignetteAmount | -38 |
PostCropVignetteFeather | 78 |
PostCropVignetteMidpoint | 32 |
PostCropVignetteRoundness | +60 |
ProfileDescription | sRGB IEC61966-2.1 |
RedHue | +2 |
RedSaturation | 0 |
Saturation | +9 |
SaturationAdjustmentAqua | 0 |
SaturationAdjustmentBlue | 0 |
SaturationAdjustmentGreen | 0 |
SaturationAdjustmentMagenta | 0 |
SaturationAdjustmentOrange | 0 |
SaturationAdjustmentPurple | 0 |
SaturationAdjustmentRed | 0 |
SaturationAdjustmentYellow | 0 |
SaturationHighlights | 0.0 |
SaturationShadows | 0.0 |
Shadows | 0 |
ShadowsClipping | 0.0 |
ShadowsSmoothing | 0.0 |
ShadowTint | +64 |
SharpenDetail | 25 |
SharpenEdgeMasking | 0 |
SharpenRadius | +1.0 |
Sharpness | 25 |
ShutterSpeed | 1/90 |
ShutterSpeedValue | 1/90 |
Smoothing | 0.0 |
SmoothingMode | Slider |
SplitToningBalance | 0 |
SplitToningHighlightHue | 68 |
SplitToningHighlightSaturation | 42 |
SplitToningShadowHue | 228 |
SplitToningShadowSaturation | 66 |
Strength | 70.0 |
ToneCurve | 0, 0, 32, 22, 64, 56, 128, 128, 192, 196, 255, 255 |
ToneCurveName | Medium Contrast |
Version (1) | 3.2 |
Version | 5.7 |
Vibrance | 0 |
VignetteAmount | +45 |
VignetteMidpoint | 70 |
WhiteBalance | Custom |
WhiteClip | 0.250000 |