Felt | Verdi |
AlreadyApplied | True |
Aperture | 2.8 |
ApertureValue | 2.8 |
BitsPerSample | 8 |
BlueHue | 0 |
BlueSaturation | 0 |
Brightness | 0 |
CameraProfile | Embedded |
CFAPattern | [Red,Green][Green,Blue] |
ChromaticAberrationB | 0 |
ChromaticAberrationR | 0 |
CircleOfConfusion | 0.020 mm |
Clarity | +40 |
ColorComponents | 1 |
ColorNoiseReduction | 0 |
Contrast (2) | +38 |
Contrast | Normal |
ConvertToGrayscale | False |
CreateDate (1) | 2010:05:04 14:31:40.45+02:00 |
CreateDate | 2010:05:04 14:31:40 |
CreatorTool | Ver.1.00 |
CustomRendered | Normal |
DateTimeDigitized | 2010:05:04 14:31:40.45+02:00 |
DateTimeOriginal (1) | 2010:05:04 14:31:40.45+02:00 |
DateTimeOriginal | 2010:05:04 14:31:40 |
Defringe | 0 |
DigitalZoomRatio | 1 |
DOF | 0.11 m (1.07 - 1.18 m) |
ExifImageHeight | 740 |
ExifImageWidth | 1000 |
Exposure | 0.00 |
ExposureCompensation | -1 |
ExposureMode | Manual |
ExposureProgram | Manual |
ExposureTime | 1/60 |
FillLight | 13 |
Flash | No Flash |
FlashFired | False |
FlashFunction | False |
FlashMode | Unknown |
FlashRedEyeMode | False |
FlashReturn | No return detection |
FNumber | 2.8 |
FocalLength | 35.0 mm |
FocalLength35efl | 35.0 mm (35 mm equivalent: 52.0 mm) |
FocalLengthIn35mmFormat | 52 mm |
FOV | 38.2 deg |
GainControl | Low gain up |
GrainAmount | 0 |
GreenHue | 0 |
GreenSaturation | 0 |
HasCrop | False |
HasSettings | True |
HighlightRecovery | 22 |
HueAdjustmentAqua | 0 |
HueAdjustmentBlue | 0 |
HueAdjustmentGreen | 0 |
HueAdjustmentMagenta | 0 |
HueAdjustmentOrange | 0 |
HueAdjustmentPurple | 0 |
HueAdjustmentRed | 0 |
HueAdjustmentYellow | 0 |
HyperfocalDistance | 21.63 m |
ImageHeight | 740 |
ImageNumber | 7114 |
ImageSize | 1000x740 |
ImageWidth | 1000 |
IncrementalTemperature | 0 |
IncrementalTint | 0 |
ISO | 800 |
Lens | 35.0 mm f/2.0 |
LensID (1) | 66 |
LensID | AF Nikkor 35mm f/2D |
LensInfo | 35mm f/2 |
LightSource | Unknown |
LightValue | 5.9 |
LuminanceAdjustmentAqua | 0 |
LuminanceAdjustmentBlue | 0 |
LuminanceAdjustmentGreen | 0 |
LuminanceAdjustmentMagenta | 0 |
LuminanceAdjustmentOrange | 0 |
LuminanceAdjustmentPurple | 0 |
LuminanceAdjustmentRed | 0 |
LuminanceAdjustmentYellow | 0 |
LuminanceNoiseReductionContrast | 0 |
LuminanceNoiseReductionDetail | 50 |
LuminanceSmoothing | 25 |
Make | NIKON CORPORATION |
MaxApertureValue | 2.0 |
Megapixels | 0.740 |
MeteringMode | Spot |
Model | NIKON D300 |
ModifyDate (1) | 2010:05:04 23:01:28+02:00 |
ModifyDate | 2010:05:04 23:01:28 |
ParametricDarks | +17 |
ParametricHighlights | +36 |
ParametricHighlightSplit | 75 |
ParametricLights | +40 |
ParametricMidtoneSplit | 50 |
ParametricShadows | 0 |
ParametricShadowSplit | 25 |
PostCropVignetteAmount | 0 |
ProcessVersion | 5.7 |
ProfileDescription | sRGB IEC61966-2.1 |
RedHue | 0 |
RedSaturation | 0 |
Saturation (2) | 0 |
Saturation | High |
SaturationAdjustmentAqua | 0 |
SaturationAdjustmentBlue | 0 |
SaturationAdjustmentGreen | 0 |
SaturationAdjustmentMagenta | 0 |
SaturationAdjustmentOrange | 0 |
SaturationAdjustmentPurple | 0 |
SaturationAdjustmentRed | 0 |
SaturationAdjustmentYellow | 0 |
ScaleFactor35efl | 1.5 |
SceneCaptureType | Standard |
SceneType | Directly photographed |
SensingMethod | One-chip color area |
SerialNumber | 4020049 |
Shadows | 5 |
ShadowTint | 0 |
SharpenDetail | 25 |
SharpenEdgeMasking | 0 |
SharpenRadius | +1.3 |
Sharpness (2) | 67 |
Sharpness | Hard |
ShutterSpeed | 1/60 |
ShutterSpeedValue | 1/60 |
Software | Ver.1.00 |
SplitToningBalance | 0 |
SplitToningHighlightHue | 0 |
SplitToningHighlightSaturation | 0 |
SplitToningShadowHue | 0 |
SplitToningShadowSaturation | 0 |
SubjectDistance | 1.12 m |
SubjectDistanceRange | Unknown |
ToneCurve | 0, 0, 255, 255 |
ToneCurveName | Linear |
Version | 6.0 |
Vibrance | 0 |
VignetteAmount | -45 |
VignetteMidpoint | 50 |
WhiteBalance (2) | As Shot |
WhiteBalance | Auto |