Felt | Verdi |
AlreadyApplied | True |
Aperture | 4.0 |
ApertureValue | 4.0 |
BitsPerSample | 8 |
BlueHue | 0 |
BlueSaturation | 0 |
Brightness | 0 |
CameraProfile | ACR 3.3 |
CFAPattern | [Green,Red][Blue,Green] |
ChromaticAberrationB | 0 |
ChromaticAberrationR | 0 |
CircleOfConfusion | 0.020 mm |
ColorComponents | 3 |
ColorMode | RGB |
ColorNoiseReduction | 25 |
ColorSpace (1) | Unknown (-1) |
ColorSpace | Uncalibrated |
ColorTemperature | 3400 |
Contrast (2) | +63 |
Contrast | Normal |
ConvertToGrayscale | False |
CopyrightFlag | False |
CreateDate (1) | 2009:11:28 16:16:03+01:00 |
CreateDate | 2009:11:08 17:49:40 |
CreatorTool | Adobe Photoshop CS3 Windows |
CustomRendered | Custom |
DateTimeDigitized | 2009:11:08 17:49:40.82+01:00 |
DateTimeOriginal (1) | 2009:11:08 17:49:40.82+01:00 |
DateTimeOriginal | 2009:11:08 17:49:40 |
DerivedFrom | |
DigitalZoomRatio | 1 |
ExifImageHeight | 730 |
ExifImageWidth | 489 |
Exposure | +0.60 |
ExposureCompensation | +1/3 |
ExposureMode | Auto |
ExposureProgram | Aperture-priority AE |
ExposureTime | 10 |
FillLight | 0 |
Flash | No Flash |
FlashFired | False |
FlashFunction | False |
FlashMode | Unknown |
FlashRedEyeMode | False |
FlashReturn | No return detection |
FNumber | 4.0 |
FocalLength | 12.0 mm |
FocalLength35efl | 12.0 mm (35 mm equivalent: 18.0 mm) |
FocalLengthIn35mmFormat | 18 mm |
Format | image/jpeg |
FOV | 90.0 deg |
GainControl | Low gain up |
GreenHue | 0 |
GreenSaturation | 0 |
HasCrop | False |
HasSettings | True |
HighlightRecovery | 42 |
HueAdjustmentAqua | 0 |
HueAdjustmentBlue | 0 |
HueAdjustmentGreen | 0 |
HueAdjustmentMagenta | 0 |
HueAdjustmentOrange | 0 |
HueAdjustmentPurple | 0 |
HueAdjustmentRed | 0 |
HueAdjustmentYellow | 0 |
HyperfocalDistance | 1.80 m |
ICCProfileName | Adobe RGB (1998) |
ImageHeight (1) | 3872 |
ImageHeight | 730 |
ImageNumber | 38630 |
ImageSize | 489x730 |
ImageWidth (1) | 2592 |
ImageWidth | 489 |
ISO | 560 |
Lens | 12.0-24.0 mm f/4.0 |
LensInfo | 12-24mm f/4 |
LightSource | Unknown |
LightValue | -1.8 |
LuminanceAdjustmentAqua | 0 |
LuminanceAdjustmentBlue | 0 |
LuminanceAdjustmentGreen | 0 |
LuminanceAdjustmentMagenta | 0 |
LuminanceAdjustmentOrange | 0 |
LuminanceAdjustmentPurple | 0 |
LuminanceAdjustmentRed | 0 |
LuminanceAdjustmentYellow | 0 |
LuminanceSmoothing | 0 |
Make | NIKON CORPORATION |
MaxApertureValue | 4.0 |
Megapixels | 0.357 |
MeteringMode | Multi-segment |
Model | NIKON D200 |
ModifyDate (1) | 2009:11:28 16:16:03+01:00 |
ModifyDate | 2009:11:28 16:16:03 |
Orientation | Horizontal (normal) |
ParametricDarks | -100 |
ParametricHighlights | +100 |
ParametricHighlightSplit | 75 |
ParametricLights | +9 |
ParametricMidtoneSplit | 50 |
ParametricShadows | -52 |
ParametricShadowSplit | 25 |
ProfileDescription | Adobe RGB (1998) |
RawFileName | MAR_0279.NEF |
RedHue | 0 |
RedSaturation | 0 |
Saturation (2) | -25 |
Saturation | High |
SaturationAdjustmentAqua | -100 |
SaturationAdjustmentBlue | -100 |
SaturationAdjustmentGreen | 0 |
SaturationAdjustmentMagenta | 0 |
SaturationAdjustmentOrange | 0 |
SaturationAdjustmentPurple | 0 |
SaturationAdjustmentRed | 0 |
SaturationAdjustmentYellow | 0 |
ScaleFactor35efl | 1.5 |
SceneCaptureType | Standard |
SceneType | Directly photographed |
SensingMethod | One-chip color area |
Shadows | 32 |
ShadowTint | 0 |
Sharpness (2) | 25 |
Sharpness | Hard |
ShutterSpeed | 10 |
ShutterSpeedValue | 10 |
Software | Adobe Photoshop CS3 Windows |
SplitToningBalance | 0 |
SplitToningHighlightHue | 0 |
SplitToningHighlightSaturation | 0 |
SplitToningShadowHue | 0 |
SplitToningShadowSaturation | 0 |
SubjectDistanceRange | Unknown |
TimeZoneOffset | 1 1 |
Tint | +150 |
ToneCurve | 0, 0, 32, 22, 64, 56, 128, 128, 192, 196, 255, 255 |
ToneCurveName | Medium Contrast |
URL_List | |
UserComment | Martin Minde +4790833705 |
Version | 4.0 |
Vibrance | +48 |
VignetteAmount | 0 |
WhiteBalance (2) | Custom |
WhiteBalance | Auto |