Felt | Verdi |
AlreadyApplied | True |
Aperture | 2.8 |
ApertureValue | 2.8 |
BitsPerSample | 8 |
BlueHue | 0 |
BlueSaturation | 0 |
Brightness | 0 |
CameraProfile | Camera Faithful |
ChromaticAberrationB | 0 |
ChromaticAberrationR | 0 |
CircleOfConfusion | 0.031 mm |
Clarity | +100 |
ColorComponents | 3 |
ColorNoiseReduction | 100 |
ColorTemperature | 5500 |
Contrast | +100 |
ConvertToGrayscale | False |
CreateDate (1) | 2009:09:24 18:19:00.10+02:00 |
CreateDate | 2009:09:24 18:19:00 |
CreatorTool | Adobe Photoshop Lightroom |
CustomRendered | Normal |
DateTimeDigitized | 2009:09:24 18:19:00.10+02:00 |
DateTimeOriginal (1) | 2009:09:24 18:19:00.10+02:00 |
DateTimeOriginal | 2009:09:24 18:19:00 |
Defringe | 0 |
ExifImageHeight | 3744 |
ExifImageWidth | 5616 |
Exposure | +2.25 |
ExposureCompensation | -2/3 |
ExposureMode | Auto |
ExposureProgram | Aperture-priority AE |
ExposureTime | 1/160 |
FillLight | 0 |
Firmware | 1.1.0 |
Flash | Off, Did not fire |
FlashCompensation | 0 |
FlashFired | False |
FlashFunction | False |
FlashMode | Off |
FlashRedEyeMode | False |
FlashReturn | No return detection |
FNumber | 2.8 |
FocalLength | 35.0 mm |
FocalLength35efl | 35.0 mm (35 mm equivalent: 34.2 mm) |
FOV | 55.6 deg |
GreenHue | 0 |
GreenSaturation | 0 |
HasCrop | False |
HasSettings | True |
HighlightRecovery | 100 |
HueAdjustmentAqua | 0 |
HueAdjustmentBlue | 0 |
HueAdjustmentGreen | 0 |
HueAdjustmentMagenta | 0 |
HueAdjustmentOrange | 0 |
HueAdjustmentPurple | 0 |
HueAdjustmentRed | 0 |
HueAdjustmentYellow | 0 |
HyperfocalDistance | 14.21 m |
ImageHeight | 3744 |
ImageNumber | 0 |
ImageSize | 5616x3744 |
ImageWidth | 5616 |
ISO | 100 |
Lens | EF16-35mm f/2.8L II USM |
LensInfo | 16-35mm f/? |
LightValue | 10.3 |
LuminanceAdjustmentAqua | 0 |
LuminanceAdjustmentBlue | 0 |
LuminanceAdjustmentGreen | 0 |
LuminanceAdjustmentMagenta | 0 |
LuminanceAdjustmentOrange | 0 |
LuminanceAdjustmentPurple | 0 |
LuminanceAdjustmentRed | 0 |
LuminanceAdjustmentYellow | 0 |
LuminanceSmoothing | 100 |
Make | Canon |
MaxApertureValue | 2.8 |
Megapixels | 21.0 |
MeteringMode | Multi-segment |
Model | Canon EOS 5D Mark II |
ModifyDate (1) | 2009:09:23 20:07:29+02:00 |
ModifyDate | 2009:09:23 20:07:29 |
ParametricDarks | -13 |
ParametricHighlights | +67 |
ParametricHighlightSplit | 75 |
ParametricLights | -8 |
ParametricMidtoneSplit | 50 |
ParametricShadows | -17 |
ParametricShadowSplit | 25 |
PostCropVignetteAmount | 0 |
ProfileDescription | Adobe RGB (1998) |
RedHue | 0 |
RedSaturation | 0 |
Saturation | -25 |
SaturationAdjustmentAqua | 0 |
SaturationAdjustmentBlue | 0 |
SaturationAdjustmentGreen | 0 |
SaturationAdjustmentMagenta | 0 |
SaturationAdjustmentOrange | 0 |
SaturationAdjustmentPurple | 0 |
SaturationAdjustmentRed | 0 |
SaturationAdjustmentYellow | 0 |
ScaleFactor35efl | 1.0 |
SceneCaptureType | Standard |
SerialNumber | 530320145 |
Shadows | 7 |
ShadowTint | 0 |
SharpenDetail | 46 |
SharpenEdgeMasking | 55 |
SharpenRadius | +1.8 |
Sharpness | 139 |
ShutterSpeed | 1/160 |
ShutterSpeedValue | 1/160 |
SplitToningBalance | 0 |
SplitToningHighlightHue | 0 |
SplitToningHighlightSaturation | 0 |
SplitToningShadowHue | 0 |
SplitToningShadowSaturation | 0 |
Tint | 0 |
ToneCurve | 0, 0, 32, 22, 64, 56, 128, 128, 192, 196, 255, 255 |
ToneCurveName | Medium Contrast |
Version | 5.5 |
Vibrance | +60 |
VignetteAmount | -52 |
VignetteMidpoint | 34 |
WhiteBalance (2) | As Shot |
WhiteBalance | Manual |