Felt | Verdi |
AlreadyApplied | True |
Aperture | 22.0 |
ApertureValue | 22.0 |
Artist | unknown |
BitsPerSample | 8 |
BlueHue | 0 |
BlueSaturation | 0 |
Brightness | +50 |
By-line | unknown |
CameraProfile | ACR 4.4 |
ChromaticAberrationB | 0 |
ChromaticAberrationR | 0 |
CircleOfConfusion | 0.019 mm |
Clarity | +100 |
ColorComponents | 3 |
ColorMode | RGB |
ColorNoiseReduction | 22 |
ColorSpace | Uncalibrated |
ColorTemperature | 7200 |
Contrast | +23 |
ConvertToGrayscale | False |
CreateDate (1) | 2009:07:09 19:38:55+02:00 |
CreateDate | 2009:07:09 19:38:55 |
Creator | unknown |
CustomRendered | Normal |
DateTimeDigitized | 2009:07:09 19:38:55+02:00 |
DateTimeOriginal (1) | 2009:07:09 19:38:55+02:00 |
DateTimeOriginal | 2009:07:09 19:38:55 |
Defringe | 0 |
ExifImageHeight | 2304 |
ExifImageWidth | 3456 |
Exposure | -0.55 |
ExposureCompensation | 0 |
ExposureMode | Manual |
ExposureProgram | Manual |
ExposureTime | 1.3 |
FillLight | 18 |
Firmware | 1.0.3 |
Flash | Off, Did not fire |
FlashCompensation | -0.666666666666667 |
FlashFired | False |
FlashFunction | False |
FlashMode | Off |
FlashRedEyeMode | False |
FlashReturn | No return detection |
FNumber | 22.0 |
FocalLength | 18.0 mm |
FocalLength35efl | 18.0 mm (35 mm equivalent: 29.2 mm) |
Format | image/jpeg |
FOV | 63.3 deg |
GreenHue | 0 |
GreenSaturation | 0 |
HasCrop | False |
HasSettings | True |
HighlightRecovery | 0 |
HueAdjustmentAqua | 0 |
HueAdjustmentBlue | 0 |
HueAdjustmentGreen | 0 |
HueAdjustmentMagenta | 0 |
HueAdjustmentOrange | 0 |
HueAdjustmentPurple | 0 |
HueAdjustmentRed | 0 |
HueAdjustmentYellow | 0 |
HyperfocalDistance | 0.80 m |
ICCProfileName | Adobe RGB (1998) |
ImageHeight | 2304 |
ImageNumber | 52 |
ImageSize | 3456x2304 |
ImageWidth | 3456 |
ISO | 100 |
Lens | 18.0-55.0 mm |
LensInfo | 18-55mm f/? |
LightValue | 8.5 |
LuminanceAdjustmentAqua | 0 |
LuminanceAdjustmentBlue | 0 |
LuminanceAdjustmentGreen | 0 |
LuminanceAdjustmentMagenta | 0 |
LuminanceAdjustmentOrange | 0 |
LuminanceAdjustmentPurple | 0 |
LuminanceAdjustmentRed | 0 |
LuminanceAdjustmentYellow | 0 |
LuminanceSmoothing | 100 |
Make | Canon |
MaxApertureValue | 3.5 |
Megapixels | 8.0 |
MeteringMode | Partial |
Model | Canon EOS 350D DIGITAL |
ModifyDate (1) | 2009:07:08 22:41:02+02:00 |
ModifyDate | 2009:07:08 22:41:02 |
Orientation | Horizontal (normal) |
OwnerName | unknown |
ParametricDarks | 0 |
ParametricHighlights | 0 |
ParametricHighlightSplit | 75 |
ParametricLights | 0 |
ParametricMidtoneSplit | 50 |
ParametricShadows | 0 |
ParametricShadowSplit | 25 |
PostCropVignetteAmount | +8 |
PostCropVignetteFeather | 50 |
PostCropVignetteMidpoint | 50 |
PostCropVignetteRoundness | 0 |
ProfileDescription | Adobe RGB (1998) |
RawFileName | foss 008.CR2 |
RedHue | +9 |
RedSaturation | 0 |
Saturation | +3 |
SaturationAdjustmentAqua | 0 |
SaturationAdjustmentBlue | 0 |
SaturationAdjustmentGreen | 0 |
SaturationAdjustmentMagenta | 0 |
SaturationAdjustmentOrange | 0 |
SaturationAdjustmentPurple | 0 |
SaturationAdjustmentRed | 0 |
SaturationAdjustmentYellow | 0 |
ScaleFactor35efl | 1.6 |
SceneCaptureType | Standard |
SerialNumber | 2530706971 |
Shadows | 22 |
ShadowTint | +1 |
SharpenDetail | 62 |
SharpenEdgeMasking | 39 |
SharpenRadius | +1.5 |
Sharpness | 150 |
ShutterSpeed | 1.3 |
ShutterSpeedValue | 1.3 |
Software | Adobe Photoshop CS4 Windows |
SplitToningBalance | 0 |
SplitToningHighlightHue | 0 |
SplitToningHighlightSaturation | 0 |
SplitToningShadowHue | 0 |
SplitToningShadowSaturation | 0 |
Tint | +25 |
ToneCurve | 0, 0, 32, 22, 64, 56, 128, 128, 192, 196, 255, 255 |
ToneCurveName | Medium Contrast |
URL_List | |
Version | 5.0 |
Vibrance | +4 |
VignetteAmount | +76 |
VignetteMidpoint | 90 |
WhiteBalance (2) | As Shot |
WhiteBalance | Manual |