Felt | Verdi |
AlreadyApplied | True |
Aperture | 4.5 |
ApertureValue | 4.5 |
Artist | unknown |
BitsPerSample | 8 |
BlueHue | 0 |
BlueSaturation | 0 |
Brightness | 0 |
By-line | Tor Atle H. Kleven |
CameraProfile | Embedded |
ChromaticAberrationB | 0 |
ChromaticAberrationR | 0 |
CircleOfConfusion | 0.019 mm |
Clarity | +50 |
ColorComponents | 3 |
ColorNoiseReduction | 0 |
Contrast | 0 |
ConvertToGrayscale | False |
Copyright | Tor Atle H. Kleven |
CopyrightFlag | True |
CopyrightNotice | Tor Atle H. Kleven |
CreateDate (1) | 2008:10:04 15:31:54+02:00 |
CreateDate | 2008:10:04 15:31:54 |
Creator | Tor Atle H. Kleven |
CreatorTool | Adobe Photoshop Lightroom |
CropAngle | 2.04368 |
CropBottom | 0.896298 |
CropHeight | 683 |
CropLeft | 0.201573 |
CropRight | 0.900842 |
CropTop | 0.141653 |
CropUnit | pixels |
CropWidth | 1024 |
CustomRendered | Normal |
DateTimeDigitized | 2008:10:04 15:31:54+02:00 |
DateTimeOriginal (1) | 2008:10:04 15:31:54+02:00 |
DateTimeOriginal | 2008:10:04 15:31:54 |
Defringe | 0 |
ExifImageHeight | 683 |
ExifImageWidth | 1024 |
Exposure | 0.00 |
ExposureCompensation | 0 |
ExposureMode | Auto |
ExposureProgram | Shutter speed priority AE |
ExposureTime | 1/1000 |
FillLight | 0 |
Firmware | 1.0.5 |
Flash | Off, Did not fire |
FlashCompensation | 0 |
FlashFired | False |
FlashFunction | False |
FlashMode | Off |
FlashRedEyeMode | False |
FlashReturn | No return detection |
FNumber | 4.5 |
FocalLength | 70.0 mm |
FocalLength35efl | 70.0 mm (35 mm equivalent: 112.1 mm) |
FOV | 18.2 deg |
GreenHue | 0 |
GreenSaturation | 0 |
HasCrop | True |
HasSettings | True |
HierarchicalSubject | 2. divisjon, Idrett/sport|Herrefotball, Leangen, Strindheim kunstgressbane, Strindheim mot Skeid 1-3 |
HighlightRecovery | 0 |
HueAdjustmentAqua | 0 |
HueAdjustmentBlue | 0 |
HueAdjustmentGreen | 0 |
HueAdjustmentMagenta | 0 |
HueAdjustmentOrange | 0 |
HueAdjustmentPurple | 0 |
HueAdjustmentRed | 0 |
HueAdjustmentYellow | 0 |
HyperfocalDistance | 58.04 m |
ImageHeight | 683 |
ImageNumber | 240 |
ImageSize | 1024x683 |
ImageWidth | 1024 |
IncrementalTemperature | -1 |
IncrementalTint | -4 |
ISO | 800 |
Keywords | 2. divisjon, Herrefotball, Leangen, Strindheim kunstgressbane, Strindheim mot Skeid 1-3 |
Lens | EF70-200mm f/4L USM |
LensInfo | 70-200mm f/? |
LightValue | 11.3 |
LuminanceAdjustmentAqua | 0 |
LuminanceAdjustmentBlue | 0 |
LuminanceAdjustmentGreen | 0 |
LuminanceAdjustmentMagenta | 0 |
LuminanceAdjustmentOrange | 0 |
LuminanceAdjustmentPurple | 0 |
LuminanceAdjustmentRed | 0 |
LuminanceAdjustmentYellow | 0 |
LuminanceSmoothing | 0 |
Make | Canon |
Marked | True |
MaxApertureValue | 4.0 |
Megapixels | 0.699 |
MeteringMode | Multi-segment |
Model | Canon EOS 30D |
ModifyDate (1) | 2009:01:19 19:02:50+01:00 |
ModifyDate | 2009:01:19 19:02:50 |
OwnerName | unknown |
ParametricDarks | 0 |
ParametricHighlights | 0 |
ParametricHighlightSplit | 75 |
ParametricLights | 0 |
ParametricMidtoneSplit | 50 |
ParametricShadows | 0 |
ParametricShadowSplit | 25 |
PostCropVignetteAmount | 0 |
ProfileDescription | sRGB IEC61966-2.1 |
Rating | 4 |
RedHue | 0 |
RedSaturation | 0 |
Rights | Tor Atle H. Kleven |
Saturation | 0 |
SaturationAdjustmentAqua | 0 |
SaturationAdjustmentBlue | 0 |
SaturationAdjustmentGreen | 0 |
SaturationAdjustmentMagenta | 0 |
SaturationAdjustmentOrange | 0 |
SaturationAdjustmentPurple | 0 |
SaturationAdjustmentRed | 0 |
SaturationAdjustmentYellow | 0 |
ScaleFactor35efl | 1.6 |
SceneCaptureType | Standard |
SerialNumber | 1730907394 |
Shadows | 0 |
ShadowTint | 0 |
SharpenDetail | 35 |
SharpenEdgeMasking | 87 |
SharpenRadius | +1.8 |
Sharpness | 48 |
ShutterSpeed | 1/1000 |
ShutterSpeedValue | 1/1000 |
SplitToningBalance | 0 |
SplitToningHighlightHue | 0 |
SplitToningHighlightSaturation | 0 |
SplitToningShadowHue | 0 |
SplitToningShadowSaturation | 0 |
Subject | 2. divisjon, Herrefotball, Leangen, Strindheim kunstgressbane, Strindheim mot Skeid 1-3 |
ToneCurve | 0, 0, 255, 255 |
ToneCurveName | Linear |
Version | 5.2 |
Vibrance | +25 |
VignetteAmount | 0 |
WhiteBalance (2) | Custom |
WhiteBalance | Auto |