Felt | Verdi |
AlreadyApplied | True |
Aperture | 16.0 |
ApertureValue | 16.0 |
BitsPerSample | 8 |
BlueHue | 0 |
BlueSaturation | 0 |
Brightness | +150 |
CameraProfile | Camera Standard beta 1 |
Caption-Abstract | Pictures from Scott Kelbys photowalk in Oslo |
CFAPattern | [Red,Green][Green,Blue] |
ChromaticAberrationB | 0 |
ChromaticAberrationR | 0 |
CircleOfConfusion | 0.030 mm |
Clarity | +100 |
ColorComponents | 3 |
ColorNoiseReduction | 25 |
ColorTemperature | 5750 |
Contrast (2) | +100 |
Contrast | Normal |
ConvertToGrayscale | False |
CreateDate (1) | 2008:08:23 16:14:40.73+02:00 |
CreateDate | 2008:08:23 16:14:40 |
CreatorTool | Adobe Photoshop Lightroom |
CustomRendered | Normal |
DateTimeDigitized | 2008:08:23 16:14:40.73+02:00 |
DateTimeOriginal (1) | 2008:08:23 16:14:40.73+02:00 |
DateTimeOriginal | 2008:08:23 16:14:40 |
Defringe | 0 |
Description | Pictures from Scott Kelbys photowalk in Oslo |
DigitalZoomRatio | 1 |
ExifImageHeight | 998 |
ExifImageWidth | 1500 |
Exposure | -2.00 |
ExposureCompensation | 0 |
ExposureMode | Auto |
ExposureProgram | Aperture-priority AE |
ExposureTime | 1/40 |
FillLight | 100 |
Flash | No Flash |
FlashFired | False |
FlashFunction | False |
FlashMode | Unknown |
FlashRedEyeMode | False |
FlashReturn | No return detection |
FNumber | 16.0 |
FocalLength | 14.0 mm |
FocalLength35efl | 14.0 mm (35 mm equivalent: 14.0 mm) |
FocalLengthIn35mmFormat | 14 mm |
FOV | 104.3 deg |
GainControl | None |
GPSAltitude (1) | 16 m |
GPSAltitude | 16 m Above Sea Level |
GPSAltitudeRef | Above Sea Level |
GPSDateStamp | 2008:08:23 |
GPSDateTime | 2008:08:23 14:14:01Z |
GPSLatitude (2) | 59 deg 54' 24.80" |
GPSLatitude | 59 deg 54' 24.80" N |
GPSLatitudeRef | North |
GPSLongitude (2) | 10 deg 44' 16.46" |
GPSLongitude | 10 deg 44' 16.46" E |
GPSLongitudeRef | East |
GPSPosition | 59 deg 54' 24.80" N, 10 deg 44' 16.46" E |
GPSSatellites | 08 |
GPSTimeStamp | 14:14:01 |
GPSVersionID | 2.2.0.0 |
GreenHue | 0 |
GreenSaturation | 0 |
HasCrop | False |
HasSettings | True |
HighlightRecovery | 100 |
HueAdjustmentAqua | 0 |
HueAdjustmentBlue | 0 |
HueAdjustmentGreen | 0 |
HueAdjustmentMagenta | 0 |
HueAdjustmentOrange | 0 |
HueAdjustmentPurple | 0 |
HueAdjustmentRed | 0 |
HueAdjustmentYellow | 0 |
HyperfocalDistance | 0.41 m |
ImageDescription | Pictures from Scott Kelbys photowalk in Oslo |
ImageHeight | 998 |
ImageNumber | 1790 |
ImageSize | 1500x998 |
ImageWidth | 1500 |
ISO | 200 |
Keywords | "Scott Kelby", Oslo, d700, photowalk |
Lens | 14.0-24.0 mm f/2.8 |
LensInfo | 14-24mm f/2.8 |
LightSource | Unknown |
LightValue | 12.3 |
LuminanceAdjustmentAqua | 0 |
LuminanceAdjustmentBlue | 0 |
LuminanceAdjustmentGreen | 0 |
LuminanceAdjustmentMagenta | 0 |
LuminanceAdjustmentOrange | 0 |
LuminanceAdjustmentPurple | 0 |
LuminanceAdjustmentRed | 0 |
LuminanceAdjustmentYellow | 0 |
LuminanceSmoothing | 0 |
Make | NIKON CORPORATION |
MaxApertureValue | 2.8 |
Megapixels | 1.5 |
MeteringMode | Multi-segment |
Model | NIKON D700 |
ModifyDate (1) | 2008:09:02 23:09:01+02:00 |
ModifyDate | 2008:09:02 23:09:01 |
ObjectName | Akershus |
ParametricDarks | 0 |
ParametricHighlights | -100 |
ParametricHighlightSplit | 75 |
ParametricLights | -64 |
ParametricMidtoneSplit | 50 |
ParametricShadows | 0 |
ParametricShadowSplit | 25 |
PostCropVignetteAmount | 0 |
ProfileDescription | sRGB IEC61966-2.1 |
RedHue | 0 |
RedSaturation | 0 |
Saturation (2) | -69 |
Saturation | Normal |
SaturationAdjustmentAqua | 0 |
SaturationAdjustmentBlue | 0 |
SaturationAdjustmentGreen | 0 |
SaturationAdjustmentMagenta | 0 |
SaturationAdjustmentOrange | 0 |
SaturationAdjustmentPurple | 0 |
SaturationAdjustmentRed | 0 |
SaturationAdjustmentYellow | 0 |
ScaleFactor35efl | 1.0 |
SceneCaptureType | Standard |
SceneType | Directly photographed |
SensingMethod | One-chip color area |
SerialNumber | 2005085 |
Shadows | 100 |
ShadowTint | 0 |
SharpenDetail | 25 |
SharpenEdgeMasking | 0 |
SharpenRadius | +1.0 |
Sharpness (2) | 25 |
Sharpness | Normal |
ShutterSpeed | 1/40 |
ShutterSpeedValue | 1/40 |
Software | Ver.1.00 |
SplitToningBalance | 0 |
SplitToningHighlightHue | 0 |
SplitToningHighlightSaturation | 0 |
SplitToningShadowHue | 0 |
SplitToningShadowSaturation | 0 |
Subject | "Scott Kelby", Oslo, d700, photowalk |
SubjectDistanceRange | Unknown |
Tint | -4 |
Title | Akershus |
ToneCurve | 0, 0, 32, 22, 64, 56, 128, 128, 192, 196, 255, 255 |
ToneCurveName | Medium Contrast |
Version | 4.5 |
Vibrance | +100 |
VignetteAmount | 0 |
WhiteBalance (2) | As Shot |
WhiteBalance | Auto |