Felt | Verdi |
AlreadyApplied | True |
Aperture | 8.0 |
ApertureValue | 8.0 |
Artist | Sverre Edin |
BitsPerSample | 8 |
BlueHue | 0 |
BlueSaturation | 0 |
Brightness | +50 |
By-line | Sverre Edin |
CameraProfile | ACR 4.3 |
Caption-Abstract | Antillean Crested Hummingbird |
CaptionWriter | Sverre Edin |
CFAPattern | [Red,Green][Green,Blue] |
ChromaticAberrationB | 0 |
ChromaticAberrationR | 0 |
CircleOfConfusion | 0.020 mm |
Clarity | 34 |
ColorComponents | 3 |
ColorNoiseReduction | 25 |
ColorTemperature | 4353 |
Contrast (2) | +25 |
Contrast | Normal |
ConvertToGrayscale | False |
Copyright | (C) Sverre Edin |
CopyrightNotice | © Sverre Edin |
CreateDate | 2008:02:17 11:57:06 |
Creator | Sverre Edin |
CreatorAddress | Damkroken 22 |
CreatorCity | Oslo |
CreatorCountry | Norway |
CreatorPostalCode | N-0373 |
CreatorTool | Adobe Photoshop Lightroom |
CreatorWorkEmail | s@4e.no |
CreatorWorkURL | www.4e.no |
CropAngle | 0 |
CropBottom | 0.806713 |
CropHeight | 531 |
CropLeft | 0.1162 |
CropRight | 0.65092 |
CropTop | 0.271993 |
CropUnit | pixels |
CropWidth | 800 |
CustomRendered | Normal |
DateTimeDigitized | 2008:02:17 11:57:06.50+01:00 |
DateTimeOriginal (1) | 2008:02:17 11:57:06.50+01:00 |
DateTimeOriginal | 2008:02:17 11:57:06 |
Defringe | 0 |
Description | Antillean Crested Hummingbird |
DigitalZoomRatio | 1 |
Exposure | +0.28 |
ExposureCompensation | -1/3 |
ExposureMode | Manual |
ExposureProgram | Manual |
ExposureTime | 1/800 |
FillLight | 25 |
Flash | No Flash |
FlashFired | False |
FlashFunction | False |
FlashMode | Unknown |
FlashRedEyeMode | False |
FlashReturn | No return detection |
FNumber | 8.0 |
FocalLength | 500.0 mm |
FocalLength35efl | 500.0 mm (35 mm equivalent: 750.0 mm) |
FocalLengthIn35mmFormat | 750 mm |
FOV | 2.7 deg |
GainControl | Low gain up |
GreenHue | 0 |
GreenSaturation | 0 |
HasCrop | True |
HasSettings | True |
HighlightRecovery | 0 |
HueAdjustmentAqua | 0 |
HueAdjustmentBlue | 0 |
HueAdjustmentGreen | 0 |
HueAdjustmentMagenta | 0 |
HueAdjustmentOrange | 0 |
HueAdjustmentPurple | 0 |
HueAdjustmentRed | 0 |
HueAdjustmentYellow | 0 |
HyperfocalDistance | 1560.09 m |
ImageDescription | Antillean Crested Hummingbird |
ImageHeight | 531 |
ImageNumber | 916 |
ImageSize | 800x531 |
ImageWidth | 800 |
ISO | 720 |
Keywords | Amerikanske fugler, Antillean Crested Hummingbird - Orthorhyncus cristatus, Fugler, Natur, St. Croix, Steder, USA |
Label | Keyworded and processed |
Lens | 300.0 mm f/4.0 |
LensInfo | 300mm f/4 |
LightSource | Unknown |
LightValue | 12.8 |
LuminanceAdjustmentAqua | 0 |
LuminanceAdjustmentBlue | 0 |
LuminanceAdjustmentGreen | 0 |
LuminanceAdjustmentMagenta | 0 |
LuminanceAdjustmentOrange | 0 |
LuminanceAdjustmentPurple | 0 |
LuminanceAdjustmentRed | 0 |
LuminanceAdjustmentYellow | 0 |
LuminanceSmoothing | 0 |
Make | NIKON CORPORATION |
Marked | True |
MaxApertureValue | 6.7 |
Megapixels | 0.425 |
MeteringMode | Multi-segment |
Model | NIKON D300 |
ModifyDate (1) | 2008:03:30 19:57:58+02:00 |
ModifyDate | 2008:03:30 19:57:58 |
ObjectName | St. Croix |
ParametricDarks | 0 |
ParametricHighlights | 0 |
ParametricHighlightSplit | 75 |
ParametricLights | 0 |
ParametricMidtoneSplit | 50 |
ParametricShadows | 0 |
ParametricShadowSplit | 25 |
ProfileDescription | sRGB IEC61966-2.1 |
Rating | 3 |
RedHue | 0 |
RedSaturation | 0 |
Rights | © Sverre Edin |
Saturation (2) | 0 |
Saturation | Normal |
SaturationAdjustmentAqua | 0 |
SaturationAdjustmentBlue | 0 |
SaturationAdjustmentGreen | 0 |
SaturationAdjustmentMagenta | 0 |
SaturationAdjustmentOrange | 0 |
SaturationAdjustmentPurple | 0 |
SaturationAdjustmentRed | 0 |
SaturationAdjustmentYellow | 0 |
ScaleFactor35efl | 1.5 |
SceneCaptureType | Standard |
SceneType | Directly photographed |
SensingMethod | One-chip color area |
Shadows | 5 |
ShadowTint | 0 |
SharpenDetail | 50 |
SharpenEdgeMasking | 0 |
SharpenRadius | +0.8 |
Sharpness (2) | 89 |
Sharpness | Normal |
ShutterSpeed | 1/800 |
ShutterSpeedValue | 1/800 |
Software | Ver.1.00 |
SplitToningBalance | 0 |
SplitToningHighlightHue | 0 |
SplitToningHighlightSaturation | 0 |
SplitToningShadowHue | 0 |
SplitToningShadowSaturation | 0 |
Subject | Amerikanske fugler, Antillean Crested Hummingbird - Orthorhyncus cristatus, Fugler, Natur, St. Croix, Steder, USA |
SubjectDistanceRange | Unknown |
Tint | +6 |
Title | St. Croix |
ToneCurve | 0, 0, 32, 22, 64, 56, 128, 128, 192, 196, 255, 255 |
ToneCurveName | Medium Contrast |
Version | 1.0 |
Vibrance | +10 |
VignetteAmount | 0 |
WebStatement | www.4e.no/copyright |
WhiteBalance (2) | Custom |
WhiteBalance | Auto |
Writer-Editor | Sverre Edin |