Felt | Verdi |
AlreadyApplied | True |
Aperture | 1.4 |
ApertureValue | 1.4 |
BitsPerSample | 8 |
BlueHue | 0 |
BlueSaturation | 0 |
Brightness | +50 |
CameraProfile | ACR 2.4 |
ChromaticAberrationB | 0 |
ChromaticAberrationR | 0 |
Clarity | 0 |
ColorComponents | 3 |
ColorTemperature | 4600 |
Contrast | 0 |
ConvertToGrayscale | True |
Copyright | Aleksander M. Stensby |
CopyrightNotice | Aleksander M. Stensby |
CreateDate | 2008:02:07 22:43:56 |
CreatorTool | Adobe Photoshop Lightroom |
DateTimeDigitized | 2008:02:07 22:43:56+01:00 |
DateTimeOriginal (1) | 2008:02:07 22:43:56+01:00 |
DateTimeOriginal | 2008:02:07 22:43:56 |
Defringe | 0 |
Exposure | 0.00 |
ExposureCompensation | -1 |
ExposureProgram | Aperture-priority AE |
ExposureTime | 1/4000 |
FillLight | 0 |
Firmware | 1.1.1 |
Flash | No Flash |
FlashFired | False |
FNumber | 1.4 |
FocalLength | 50.0 mm |
FocalLength35efl | 50.0 mm |
GrayMixerAqua | -19 |
GrayMixerBlue | +7 |
GrayMixerGreen | -25 |
GrayMixerMagenta | +5 |
GrayMixerOrange | -16 |
GrayMixerPurple | +14 |
GrayMixerRed | -7 |
GrayMixerYellow | -19 |
GreenHue | 0 |
GreenSaturation | 0 |
HasCrop | False |
HasSettings | True |
HighlightRecovery | 0 |
ImageHeight | 700 |
ImageSize | 467x700 |
ImageWidth | 467 |
ISO | 800 |
Keywords | animal alpha, concert, luftslottet |
Lens | 50.0 mm |
LensInfo | 50mm f/? |
LightValue | 9.9 |
LuminanceSmoothing | 0 |
Make | Canon |
MaxApertureValue | 1.4 |
Megapixels | 0.327 |
MeteringMode | Multi-segment |
Model | Canon EOS 300D DIGITAL |
ModifyDate (1) | 2008:02:12 20:07:21+01:00 |
ModifyDate | 2008:02:12 20:07:21 |
ParametricDarks | -8 |
ParametricHighlights | 0 |
ParametricHighlightSplit | 75 |
ParametricLights | +8 |
ParametricMidtoneSplit | 50 |
ParametricShadows | -20 |
ParametricShadowSplit | 25 |
ProfileDescription | sRGB IEC61966-2.1 |
RedHue | 0 |
RedSaturation | 0 |
Rights | Aleksander M. Stensby |
Shadows | 5 |
ShadowTint | 0 |
SharpenDetail | 25 |
SharpenEdgeMasking | 0 |
SharpenRadius | +1.0 |
Sharpness | 54 |
ShutterSpeed | 1/4000 |
ShutterSpeedValue | 1/4000 |
SplitToningBalance | 0 |
SplitToningHighlightHue | 50 |
SplitToningHighlightSaturation | 100 |
SplitToningShadowHue | 30 |
SplitToningShadowSaturation | 28 |
Subject | animal alpha, concert, luftslottet |
Tint | +12 |
ToneCurve | 0, 0, 255, 255 |
ToneCurveName | Linear |
Version | 1.0 |
VignetteAmount | 0 |
WhiteBalance | As Shot |