Felt | Verdi |
AlreadyApplied | True |
Aperture | 3.2 |
ApertureValue | 3.2 |
Artist | unknown |
BitsPerSample | 8 |
BlueHue | 0 |
BlueSaturation | 0 |
Brightness | +31 |
By-line | unknown |
CameraProfile | ACR 2.4 |
ChromaticAberrationB | 0 |
ChromaticAberrationR | -63 |
CircleOfConfusion | 0.019 mm |
Clarity | 0 |
ColorComponents | 3 |
ColorMode | RGB |
ColorNoiseReduction | 25 |
ColorSpace | sRGB |
ColorTemperature | 4950 |
Contrast | +25 |
ConvertToGrayscale | False |
CopyrightFlag | False |
CreateDate (1) | 2008:01:13 01:41:11+01:00 |
CreateDate | 2007:11:05 12:21:13 |
Creator | unknown |
CreatorTool | Adobe Photoshop CS3 Windows |
CustomRendered | Normal |
DateTimeDigitized | 2007:11:05 12:21:13+01:00 |
DateTimeOriginal (1) | 2007:11:05 12:21:13+01:00 |
DateTimeOriginal | 2007:11:05 12:21:13 |
Defringe | 0 |
ExifImageHeight | 750 |
ExifImageWidth | 465 |
Exposure | 0.00 |
ExposureCompensation | 0 |
ExposureMode | Auto |
ExposureProgram | Aperture-priority AE |
ExposureTime | 1/500 |
FillLight | 0 |
Firmware | 2.0.3 |
Flash | Off, Did not fire |
FlashCompensation | 0 |
FlashFired | False |
FlashFunction | False |
FlashMode | Off |
FlashRedEyeMode | False |
FlashReturn | No return detection |
FNumber | 3.2 |
FocalLength | 24.0 mm |
FocalLength35efl | 24.0 mm (35 mm equivalent: 38.4 mm) |
Format | image/jpeg |
FOV | 50.2 deg |
GreenHue | 0 |
GreenSaturation | 0 |
HasCrop | False |
HasSettings | True |
HighlightRecovery | 12 |
HueAdjustmentAqua | -8 |
HueAdjustmentBlue | -9 |
HueAdjustmentGreen | -13 |
HueAdjustmentMagenta | +13 |
HueAdjustmentOrange | 0 |
HueAdjustmentPurple | -8 |
HueAdjustmentRed | 0 |
HueAdjustmentYellow | +14 |
HyperfocalDistance | 9.59 m |
ICCProfileName | sRGB IEC61966-2.1 |
ImageHeight | 750 |
ImageNumber | 147 |
ImageSize | 465x750 |
ImageWidth | 465 |
ISO | 800 |
Lens | 24.0-70.0 mm |
LensInfo | 24-70mm f/? |
LightValue | 9.3 |
LuminanceAdjustmentAqua | -53 |
LuminanceAdjustmentBlue | 0 |
LuminanceAdjustmentGreen | +4 |
LuminanceAdjustmentMagenta | +7 |
LuminanceAdjustmentOrange | +5 |
LuminanceAdjustmentPurple | -3 |
LuminanceAdjustmentRed | -17 |
LuminanceAdjustmentYellow | +6 |
LuminanceSmoothing | 0 |
Make | Canon |
MaxApertureValue | 2.8 |
Megapixels | 0.349 |
MeteringMode | Multi-segment |
Model | Canon EOS 20D |
ModifyDate (1) | 2008:01:13 01:41:11+01:00 |
ModifyDate | 2008:01:13 01:41:11 |
Orientation | Horizontal (normal) |
OwnerName | unknown |
ParametricDarks | -8 |
ParametricHighlights | 0 |
ParametricHighlightSplit | 75 |
ParametricLights | +8 |
ParametricMidtoneSplit | 50 |
ParametricShadows | 0 |
ParametricShadowSplit | 25 |
ProfileDescription | sRGB IEC61966-2.1 |
Rating | 0 |
RawFileName | _MG_1939.CR2 |
RedHue | 0 |
RedSaturation | 0 |
Saturation | 0 |
SaturationAdjustmentAqua | 0 |
SaturationAdjustmentBlue | 0 |
SaturationAdjustmentGreen | 0 |
SaturationAdjustmentMagenta | -76 |
SaturationAdjustmentOrange | 0 |
SaturationAdjustmentPurple | -78 |
SaturationAdjustmentRed | -19 |
SaturationAdjustmentYellow | 0 |
ScaleFactor35efl | 1.6 |
SceneCaptureType | Standard |
SerialNumber | 520310510 |
Shadows | 5 |
ShadowTint | 0 |
SharpenDetail | 50 |
SharpenEdgeMasking | 59 |
SharpenRadius | +0.7 |
Sharpness | 59 |
ShutterSpeed | 1/500 |
ShutterSpeedValue | 1/500 |
SidecarForExtension | CR2 |
Software | Adobe Photoshop CS3 Windows |
SplitToningBalance | 0 |
SplitToningHighlightHue | 0 |
SplitToningHighlightSaturation | 0 |
SplitToningShadowHue | 0 |
SplitToningShadowSaturation | 0 |
Tint | +30 |
ToneCurve | 0, 0, 32, 22, 64, 56, 128, 128, 192, 196, 255, 255 |
ToneCurveName | Medium Contrast |
URL_List | |
Version | 4.3.1 |
Vibrance | 0 |
VignetteAmount | 0 |
WhiteBalance | Auto |