Felt | Verdi |
2007-12-12T19:25:37+01:00 Fil IMG_3426 kopi åpnet
2007-12-12T19:33:06+01:00 Filen C:\Mariah Eimhjellen\Bildekommunikasjon\Oppgaver\2007-12-12 Onsdag\mariah_rocks1.psd er lagret
2007-12-12T19:38:03+01:00 Filen C:\Mariah Eimhjellen\Bildekommunikasjon\Oppgaver\2007-12-12 Onsdag\mariah_rocks1bubble.psd er lagret
2007-12-12T19:38:32+01:00 Fil mariah_rocks1bubble kopi åpnet
2007-12-12T19:42:45+01:00 Filen C:\Mariah Eimhjellen\Bildekommunikasjon\Oppgaver\2007-12-12 Onsdag\mariah_rocks1bubble kopi.psd er lagret
2007-12-12T19:43:36+01:00 Filen C:\Mariah Eimhjellen\Bildekommunikasjon\Oppgaver\2007-12-12 Onsdag\mariah_rocks1bubble.jpg er lagret
2007-12-12T19:47:47+01:00 Filen C:\Mariah Eimhjellen\Bildekommunikasjon\Oppgaver\2007-12-12 Onsdag\mariah_rocks1bubble2.jpg er lagret
AlreadyApplied | True |
Aperture | 5.6 |
ApertureValue | 5.6 |
BitsPerSample | 8 |
BlueHue | 0 |
BlueSaturation | 0 |
Brightness | +21 |
CameraProfile | ACR 4.2 |
ChromaticAberrationB | 0 |
ChromaticAberrationR | 0 |
CircleOfConfusion | 0.019 mm |
Clarity | 100 |
ColorComponents | 3 |
ColorMode | RGB |
ColorNoiseReduction | 25 |
ColorSpace (1) | Unknown (-1) |
ColorSpace | Uncalibrated |
ColorTemperature | 4150 |
Contrast | +93 |
ConvertToGrayscale | False |
CopyrightFlag | False |
CreateDate (1) | 2007:12:12 19:47:47+01:00 |
CreateDate | 2007:12:12 18:39:32 |
CreatorTool | Adobe Photoshop CS3 Windows |
CustomRendered | Normal |
DateTimeDigitized | 2007:12:12 18:39:32.00+01:00 |
DateTimeOriginal (1) | 2007:12:12 18:39:32.00+01:00 |
DateTimeOriginal | 2007:12:12 18:39:32 |
Defringe | 0 |
ExifImageHeight | 650 |
ExifImageWidth | 415 |
Exposure | +0.50 |
ExposureCompensation | 0 |
ExposureMode | Auto |
ExposureProgram | Aperture-priority AE |
ExposureTime | 1/100 |
FillLight | 0 |
Firmware | 1.0.3 |
Flash | On, Fired |
FlashCompensation | 0 |
FlashFired | True |
FlashFunction | False |
FlashMode | On |
FlashRedEyeMode | False |
FlashReturn | No return detection |
FNumber | 5.6 |
FocalLength | 144.0 mm |
FocalLength35efl | 144.0 mm (35 mm equivalent: 233.1 mm) |
Format | image/jpeg |
FOV | 8.8 deg |
GreenHue | 0 |
GreenSaturation | 0 |
HasCrop | False |
HasSettings | True |
HighlightRecovery | 0 |
HueAdjustmentAqua | 0 |
HueAdjustmentBlue | 0 |
HueAdjustmentGreen | 0 |
HueAdjustmentMagenta | 0 |
HueAdjustmentOrange | 0 |
HueAdjustmentPurple | 0 |
HueAdjustmentRed | 0 |
HueAdjustmentYellow | 0 |
HyperfocalDistance | 199.50 m |
ICCProfileName | Adobe RGB (1998) |
ImageHeight | 650 |
ImageNumber | 0 |
ImageSize | 415x650 |
ImageWidth | 415 |
ISO | 800 |
Lens | 18-200mm |
LensInfo | 18-200mm f/? |
LightValue | 8.6 |
LuminanceAdjustmentAqua | 0 |
LuminanceAdjustmentBlue | 0 |
LuminanceAdjustmentGreen | 0 |
LuminanceAdjustmentMagenta | 0 |
LuminanceAdjustmentOrange | 0 |
LuminanceAdjustmentPurple | 0 |
LuminanceAdjustmentRed | 0 |
LuminanceAdjustmentYellow | 0 |
LuminanceSmoothing | 0 |
Make | Canon |
MaxApertureValue | 5.9 |
Megapixels | 0.270 |
MeteringMode | Multi-segment |
Model | Canon EOS 40D |
ModifyDate (1) | 2007:12:12 19:47:47+01:00 |
ModifyDate | 2007:12:12 19:47:47 |
Orientation | Horizontal (normal) |
ParametricDarks | 0 |
ParametricHighlights | 0 |
ParametricHighlightSplit | 75 |
ParametricLights | 0 |
ParametricMidtoneSplit | 50 |
ParametricShadows | 0 |
ParametricShadowSplit | 25 |
ProfileDescription | Adobe RGB (1998) |
Rating | 0 |
RawFileName | IMG_3426.CR2 |
RedHue | 0 |
RedSaturation | 0 |
Saturation | -12 |
SaturationAdjustmentAqua | 0 |
SaturationAdjustmentBlue | 0 |
SaturationAdjustmentGreen | 0 |
SaturationAdjustmentMagenta | 0 |
SaturationAdjustmentOrange | 0 |
SaturationAdjustmentPurple | 0 |
SaturationAdjustmentRed | 0 |
SaturationAdjustmentYellow | 0 |
ScaleFactor35efl | 1.6 |
SceneCaptureType | Standard |
SerialNumber | 530216470 |
Shadows | 38 |
ShadowTint | 0 |
SharpenDetail | 25 |
SharpenEdgeMasking | 0 |
SharpenRadius | +1.0 |
Sharpness | 25 |
ShutterSpeed | 1/100 |
ShutterSpeedValue | 1/100 |
SidecarForExtension | CR2 |
Software | Adobe Photoshop CS3 Windows |
SplitToningBalance | 0 |
SplitToningHighlightHue | 0 |
SplitToningHighlightSaturation | 0 |
SplitToningShadowHue | 0 |
SplitToningShadowSaturation | 0 |
Tint | +62 |
ToneCurve | 0, 0, 32, 22, 64, 56, 128, 128, 192, 196, 255, 255 |
ToneCurveName | Medium Contrast |
URL_List | |
Version | 4.3 |
Vibrance | +71 |
VignetteAmount | 0 |
WhiteBalance (2) | Custom |
WhiteBalance | Auto |