Felt | Verdi |
AELock | Off |
AFAreas | (111,106)-(144,149) |
AFPoint | Center (horizontal) |
AFPointSelected | (50%,50%) (50%,50%) |
AFSearch | Ready |
AlreadyApplied | True |
Aperture | 5.6 |
ApertureValue | 5.6 |
Artist | Torstein Hall |
AutoLateralCA | 0 |
AutoWhiteVersion | 134348800 |
BitsPerSample | 8 |
BlackLevel2 | 69 70 69 69 |
Blacks2012 | -14 |
BlueBalance | 1.445313 |
BlueHue | 0 |
BlueSaturation | 0 |
BodyFirmwareVersion | 1.004 |
CameraID | OLYMPUS DIGITAL CAMERA |
CameraProfile | Adobe Standard |
CameraSettingsVersion | 0100 |
CameraType2 | E-420 |
CFAPattern | [Red,Green][Green,Blue] |
CircleOfConfusion | 0.015 mm |
Clarity2012 | 0 |
ColorComponents | 3 |
ColorMatrix | 350 -72 -22 -40 344 -48 -8 -80 344 |
ColorNoiseReduction | 25 |
ColorNoiseReductionDetail | 50 |
ColorNoiseReductionSmoothness | 50 |
ColorSpace | sRGB |
ColorTemperature | 5200 |
Contrast | Normal |
Contrast2012 | +33 |
ContrastSetting | 0 (min -5, max 5) |
ConvertToGrayscale | False |
Copyright | Torstein Hall |
CreateDate (1) | 2011:02:19 15:19:29+01:00 |
CreateDate | 2011:02:19 15:19:29 |
Creator | Torstein Hall |
CreatorTool | DxO PhotoLab 5.5 |
CropHeight | 2736 |
CropLeft | 46 0 |
CropTop | 28 0 |
CropWidth | 3648 |
CustomRendered | Normal |
CustomSaturation | 0 (min -5, max 5) |
DateTimeOriginal (1) | 2011:02:19 15:19:29+01:00 |
DateTimeOriginal | 2011:02:19 15:19:29 |
DefringeGreenAmount | 0 |
DefringeGreenHueHi | 60 |
DefringeGreenHueLo | 40 |
DefringePurpleAmount | 0 |
DefringePurpleHueHi | 70 |
DefringePurpleHueLo | 30 |
Dehaze | 0 |
Description | OLYMPUS DIGITAL CAMERA |
DigitalZoomRatio | 1 |
DistortionCorrection | Off |
DistortionCorrection2 | Off |
DOF | 1.14 m (11.85 - 12.98 m) |
DriveMode | Single Shot |
EquipmentVersion | 0100 |
ExifImageHeight (1) | 2736 |
ExifImageHeight | 1500 |
ExifImageWidth (1) | 3648 |
ExifImageWidth | 2000 |
Exposure2012 | +1.07 |
ExposureCompensation | 0 |
ExposureMode (1) | Program |
ExposureMode | Auto |
ExposureProgram | Program AE |
ExposureTime | 1/250 |
ExtendedWBDetect | On |
Extender | None |
ExtenderFirmwareVersion | 0 |
ExtenderModel | |
ExtenderSerialNumber | |
ExtenderStatus | Not attached |
ExternalFlash | Off |
ExternalFlashBounce | Bounce or Off |
ExternalFlashZoom | 0 |
FacesDetected | 0 0 0 |
Flash | On, Did not fire |
FlashCompensation | 0 |
FlashControlMode | Off; 0; 0 |
FlashExposureComp | 0 |
FlashFired | False |
FlashFirmwareVersion | 0 |
FlashFunction | False |
FlashIntensity | n/a |
FlashMode (1) | On |
FlashMode | Fill-in |
FlashModel | None |
FlashRedEyeMode | False |
FlashRemoteControl | Off |
FlashReturn | No return detection |
FlashSerialNumber | |
FlashType | None |
FNumber | 5.6 |
FocalLength | 150.0 mm |
FocalLength35efl | 150.0 mm (35 mm equivalent: 300.0 mm) |
FocalLengthIn35mmFormat | 300 mm |
FocusDistance | 12.39 m |
FocusInfoVersion | 0100 |
FocusMode | Single AF; S-AF, AF sensor |
FocusProcess | AF Used; 256 |
FocusStepCount | 279 |
Format | image/x-olympus-orf |
FOV | 6.8 deg (1.47 m) |
GainBase | 256 |
GainControl | High gain up |
Gradation | Normal; User-Selected |
GrainAmount | 0 |
GreenHue | 0 |
GreenSaturation | 0 |
HasSettings | True |
HierarchicalSubject | Dortmund, Tyskland, fotballtur |
Highlights2012 | 0 |
HueAdjustmentAqua | 0 |
HueAdjustmentBlue | 0 |
HueAdjustmentGreen | 0 |
HueAdjustmentMagenta | 0 |
HueAdjustmentOrange | 0 |
HueAdjustmentPurple | 0 |
HueAdjustmentRed | 0 |
HueAdjustmentYellow | 0 |
HyperfocalDistance | 267.44 m |
ImageCreatorImageCreatorName | Torstein Hall |
ImageDescription | OLYMPUS DIGITAL CAMERA |
ImageHeight (1) | 2736 |
ImageHeight | 1500 |
ImageProcessingVersion | 0112 |
ImageSize | 2000x1500 |
ImageStabilization | Off |
ImageWidth (1) | 3648 |
ImageWidth | 2000 |
InternalFlash | Off |
InternalSerialNumber | 4060809003945001 |
ISO | 800 |
Lens | OLYMPUS 40-150mm Lens |
LensFirmwareVersion | 1.304 |
LensID | Olympus Zuiko Digital ED 40-150mm F4.0-5.6 |
LensInfo | 40-150mm f/4-5.6 |
LensManualDistortionAmount | 0 |
LensModel | OLYMPUS 40-150mm Lens |
LensProfileEnable | 0 |
LensProfileSetup | LensDefaults |
LensProperties | 0xc047 |
LensSerialNumber | 222157018 |
LensType | Olympus Zuiko Digital ED 40-150mm F4.0-5.6 |
LightSource | Unknown |
LightValue | 9.9 |
LuminanceAdjustmentAqua | 0 |
LuminanceAdjustmentBlue | 0 |
LuminanceAdjustmentGreen | 0 |
LuminanceAdjustmentMagenta | 0 |
LuminanceAdjustmentOrange | 0 |
LuminanceAdjustmentPurple | 0 |
LuminanceAdjustmentRed | 0 |
LuminanceAdjustmentYellow | 0 |
LuminanceSmoothing | 0 |
MacroLED | Off |
MacroMode | Off |
Make | OLYMPUS IMAGING CORP. |
ManometerPressure | 0 kPa |
ManometerReading | 0 m, 0 ft |
ManualFlash | Off |
ManualFlashStrength | n/a |
Marked | True |
MaxAperture | 5.8 |
MaxApertureAtMaxFocal | 5.6 |
MaxApertureAtMinFocal | 4.0 |
MaxApertureValue | 4.0 |
MaxFocalLength | 150 |
Megapixels | 3.0 |
MeteringMode (2) | Multi-segment |
MeteringMode | ESP |
MinFocalLength | 40 |
Model | E-420 |
ModifiedSaturation | Off |
ModifyDate (1) | 2022:09:23 10:50:47+02:00 |
ModifyDate | 2022:09:23 10:50:47 |
MultipleExposureMode | Off; 1 |
NoiseFilter | Standard |
NoiseReduction | Auto |
NoiseReduction2 | (none) |
Orientation | Horizontal (normal) |
PanoramaMode | Off |
ParametricDarks | 0 |
ParametricHighlights | 0 |
ParametricHighlightSplit | 75 |
ParametricLights | 0 |
ParametricMidtoneSplit | 50 |
ParametricShadows | 0 |
ParametricShadowSplit | 25 |
PerspectiveAspect | 0 |
PerspectiveHorizontal | 0 |
PerspectiveRotate | 0.0 |
PerspectiveScale | 100 |
PerspectiveUpright | 0 |
PerspectiveVertical | 0 |
PerspectiveX | 0.00 |
PerspectiveY | 0.00 |
PictureMode | Natural; 2 |
PictureModeBWFilter | n/a |
PictureModeContrast | 0 (min -2, max 2) |
PictureModeSaturation | 0 (min -2, max 2) |
PictureModeSharpness | 1 (min -2, max 2) |
PictureModeTone | n/a |
PostCropVignetteAmount | 0 |
PrintIMVersion | 0300 |
ProcessVersion | 6.7 |
Rating | 0 |
RatingPercent | 0 |
RawDevColorSpace | sRGB |
RawDevContrastValue | 0 0 0 |
RawDevEditStatus | Original |
RawDevEngine | High Speed |
RawDevExposureBiasValue | 0 |
RawDevGrayPoint | 0 0 0 |
RawDevMemoryColorEmphasis | 0 |
RawDevNoiseReduction | (none) |
RawDevSaturationEmphasis | 0 0 0 |
RawDevSettings | (none) |
RawDevSharpnessValue | 0 0 0 |
RawDevVersion | 0100 |
RawDevWBFineAdjustment | 0 |
RawDevWhiteBalanceValue | 0 |
RawFileName | P2191380.ORF |
RedBalance | 1.851563 |
RedHue | 0 |
RedSaturation | 0 |
Rights | Torstein Hall |
Saturation (2) | 0 |
Saturation | Normal |
SaturationAdjustmentAqua | 0 |
SaturationAdjustmentBlue | 0 |
SaturationAdjustmentGreen | 0 |
SaturationAdjustmentMagenta | 0 |
SaturationAdjustmentOrange | 0 |
SaturationAdjustmentPurple | 0 |
SaturationAdjustmentRed | 0 |
SaturationAdjustmentYellow | 0 |
ScaleFactor35efl | 2.0 |
SceneCaptureType | Standard |
SceneDetect | 0 |
SceneMode | Standard |
SensorTemperature | 14.1 C |
SerialNumber | G21555197 |
ShadingCompensation | Off |
ShadingCompensation2 | Off |
Shadows2012 | 0 |
ShadowTint | 0 |
SharpenDetail | 25 |
SharpenEdgeMasking | 0 |
SharpenRadius | +1.0 |
Sharpness (2) | 25 |
Sharpness | Hard |
SharpnessSetting | 1 (min -5, max 5) |
ShutterSpeed | 1/250 |
ShutterSpeedValue | 1/250 |
SidecarForExtension | ORF |
Software | DxO PhotoLab 5.5 |
SpecialMode | Normal, Sequence: 0, Panorama: (none) |
SplitToningBalance | 0 |
SplitToningHighlightHue | 0 |
SplitToningHighlightSaturation | 0 |
SplitToningShadowHue | 0 |
SplitToningShadowSaturation | 0 |
Subject | Dortmund, Tyskland, fotballtur |
SubjectDistance | 12.39 m |
Tint | +11 |
ToneCurve | 0, 0, 32, 22, 64, 56, 128, 128, 192, 196, 255, 255 |
ToneCurveBlue | 0, 0, 255, 255 |
ToneCurveGreen | 0, 0, 255, 255 |
ToneCurveName | Medium Contrast |
ToneCurveName2012 | Linear |
ToneCurvePV2012 | 0, 0, 255, 255 |
ToneCurvePV2012Blue | 0, 0, 255, 255 |
ToneCurvePV2012Green | 0, 0, 255, 255 |
ToneCurvePV2012Red | 0, 0, 255, 255 |
ToneCurveRed | 0, 0, 255, 255 |
ToneMapStrength | 0 |
UsageTerms | Contact photografer |
UserComment | |
ValidBits | 12 0 |
Version | 9.12 |
Vibrance | 0 |
VignetteAmount | 0 |
WB_RBLevels | 474 370 256 256 |
WB_RBLevels3000K | 261 707 256 256 |
WB_RBLevels3300K | 321 541 256 256 |
WB_RBLevels3600K | 348 491 256 256 |
WB_RBLevels3900K | 370 453 256 256 |
WB_RBLevels4000K | 429 542 256 256 |
WB_RBLevels4300K | 393 443 256 256 |
WB_RBLevels4500K | 429 455 256 256 |
WB_RBLevels4800K | 427 402 256 256 |
WB_RBLevels5300K | 456 372 256 256 |
WB_RBLevels6000K | 501 332 256 256 |
WB_RBLevels6600K | 522 353 256 256 |
WB_RBLevels7500K | 547 292 256 256 |
WB_RBLevelsCWB1 | 384 384 256 256 |
WB_RBLevelsCWB2 | 384 384 256 256 |
WB_RBLevelsCWB3 | 384 384 256 256 |
WB_RBLevelsCWB4 | 384 384 256 256 |
WebStatement | www.ohb.no |
WhiteBalance (2) | As Shot |
WhiteBalance | Auto |
WhiteBalance2 | Auto |
WhiteBalanceBracket | 0 0 |
WhiteBalanceTemperature | Auto |
Whites2012 | 0 |
ZoomStepCount | 30 |