Felt | Verdi |
AlreadyApplied | True |
Aperture | 18.0 |
ApertureValue | 18.0 |
AutoLateralCA | 0 |
AutoWhiteVersion | 134348800 |
BitsPerSample | 8 |
Blacks2012 | 0 |
BlueHue | 0 |
BlueSaturation | 0 |
BrightnessValue | -6.07 |
CameraProfile | Embedded |
CircleOfConfusion | 0.038 mm |
Clarity2012 | +60 |
ColorComponents | 3 |
ColorNoiseReduction | 0 |
ColorTransform | YCbCr |
Contrast2012 | +13 |
ConvertToGrayscale | True |
Copyright | Roger Hansson |
CopyrightNotice | Roger Hansson |
CreateDate | 2018:11:21 07:58:08 |
CreatorTool | Adobe Photoshop Lightroom 5.7.1 (Macintosh) |
CustomRendered | Normal |
DateCreated (1) | 2018:11:21 |
DateCreated | 2018:11:21 07:58:08 |
DateTimeOriginal | 2018:11:21 07:58:08 |
Exposure2012 | 0.00 |
ExposureCompensation | 0 |
ExposureMode | Manual |
ExposureProgram | Manual |
ExposureTime | 240 |
Flash | No Flash |
FNumber | 18.0 |
FocalLength | 24.0 mm |
FocalLength35efl | 24.0 mm (35 mm equivalent: 19.0 mm) |
FocalLengthIn35mmFormat | 19 mm |
Format | image/jpeg |
FOV | 86.9 deg |
GradientBasedCorrActive | true |
GradientBasedCorrAmount | 1.000000 |
GradientBasedCorrBrightness | 0.000000 |
GradientBasedCorrClarity2012 | 0.407934 |
GradientBasedCorrContrast2012 | 0.043710 |
GradientBasedCorrDefringe | 0.000000 |
GradientBasedCorrExposure2012 | 0.111934 |
GradientBasedCorrHighlights2012 | 0.000000 |
GradientBasedCorrHue | 186.296997 |
GradientBasedCorrLuminanceNoise | 0.000000 |
GradientBasedCorrMaskFullX | 0.500302 |
GradientBasedCorrMaskFullY | 0.234095 |
GradientBasedCorrMaskValue | 1.000000 |
GradientBasedCorrMaskWhat | Mask/Gradient |
GradientBasedCorrMaskZeroX | 0.509189 |
GradientBasedCorrMaskZeroY | -0.103018 |
GradientBasedCorrMoire | 0.000000 |
GradientBasedCorrSaturation (1) | 0.012662 |
GradientBasedCorrSaturation | 0.000000 |
GradientBasedCorrShadows2012 | 0.031317 |
GradientBasedCorrSharpness | 0.000000 |
GradientBasedCorrTemperature | 0.208850 |
GradientBasedCorrTint | -0.193696 |
GradientBasedCorrWhat | Correction |
GrainAmount | 0 |
GrayMixerAqua | -5 |
GrayMixerBlue | -19 |
GrayMixerGreen | +1 |
GrayMixerMagenta | +53 |
GrayMixerOrange | -1 |
GrayMixerPurple | +48 |
GrayMixerRed | +3 |
GrayMixerYellow | -1 |
GreenHue | 0 |
GreenSaturation | 0 |
HasCrop | False |
HasSettings | True |
Highlights2012 | -13 |
HyperfocalDistance | 0.84 m |
ImageHeight | 768 |
ImageSize | 1024x768 |
ImageWidth | 1024 |
IncrementalTemperature | 0 |
IncrementalTint | 0 |
ISO | 100 |
Lens | 24.0 mm f/3.5 |
LensInfo | 24mm f/3.5 |
LensMake | FUJIFILM |
LensManualDistortionAmount | 0 |
LensModel | 24.0 mm f/3.5 |
LensProfileEnable | 0 |
LensProfileSetup | LensDefaults |
LensSerialNumber | 75A00127 |
LightSource | Unknown |
LightValue | 0.4 |
LuminanceSmoothing | 0 |
Make | FUJIFILM |
MaxApertureValue | 3.5 |
Megapixels | 0.786 |
MeteringMode | Multi-segment |
Model | GFX 50S |
ModifyDate (1) | 2018:11:21 08:54:40+01:00 |
ModifyDate | 2018:11:21 08:54:40 |
ParametricDarks | 0 |
ParametricHighlights | 0 |
ParametricHighlightSplit | 75 |
ParametricLights | 0 |
ParametricMidtoneSplit | 50 |
ParametricShadows | 0 |
ParametricShadowSplit | 25 |
PerspectiveAspect | 0 |
PerspectiveHorizontal | 0 |
PerspectiveRotate | 0.0 |
PerspectiveScale | 100 |
PerspectiveUpright | 0 |
PerspectiveVertical | 0 |
PostCropVignetteAmount | 0 |
ProcessVersion | 6.7 |
ProfileDescription | sRGB IEC61966-2.1 |
RedHue | 0 |
RedSaturation | 0 |
Rights | Roger Hansson |
ScaleFactor35efl | 0.8 |
SceneCaptureType | Standard |
SceneType | Directly photographed |
SensingMethod | One-chip color area |
SensitivityType | Standard Output Sensitivity |
SerialNumber | 71011147 |
Shadows2012 | 0 |
ShadowTint | 0 |
SharpenDetail | 69 |
SharpenEdgeMasking | 0 |
SharpenRadius | +1.2 |
Sharpness (1) | 36 |
Sharpness | Normal |
ShutterSpeed | 240 |
ShutterSpeedValue | 240 |
Software | Adobe Photoshop Lightroom 5.7.1 (Macintosh) |
SplitToningBalance | 0 |
SplitToningHighlightHue | 0 |
SplitToningHighlightSaturation | 0 |
SplitToningShadowHue | 0 |
SplitToningShadowSaturation | 0 |
StandardOutputSensitivity | 100 |
SubjectDistanceRange | Unknown |
ToneCurve | 0, 0, 255, 255 |
ToneCurveBlue | 0, 0, 255, 255 |
ToneCurveGreen | 0, 0, 255, 255 |
ToneCurveName | Linear |
ToneCurveName2012 | Custom |
ToneCurvePV2012 | 0, 0, 25, 51, 60, 97, 168, 205, 229, 252 |
ToneCurvePV2012Blue | 0, 0, 255, 255 |
ToneCurvePV2012Green | 0, 0, 255, 255 |
ToneCurvePV2012Red | 0, 0, 255, 255 |
ToneCurveRed | 0, 0, 255, 255 |
Version | 8.7.1 |
VignetteAmount | 0 |
WhiteBalance (1) | As Shot |
WhiteBalance | Auto |
Whites2012 | 0 |