Felt | Verdi |
AlreadyApplied | True |
Aperture | 8.0 |
ApertureValue | 8.0 |
ApproximateFocusDistance | 4294967295 |
Artist | Asbjorn Horn horn.asbjorn@gmail.com |
AutoLateralCA | 1 |
BitsPerSample (1) | 8 8 8 |
BitsPerSample | 8 |
Blacks2012 | -50 |
BlueHue | 0 |
BlueSaturation | 0 |
By-line | Asbjorn Horn horn.asbjorn@gmail. |
CameraProfile | Adobe Standard |
CFAPattern | [Red,Green][Green,Blue] |
CircleOfConfusion | 0.020 mm |
Clarity2012 | +5 |
ColorComponents | 3 |
ColorMode | RGB |
ColorNoiseReduction | 25 |
ColorNoiseReductionDetail | 50 |
ColorNoiseReductionSmoothness | 50 |
ColorSpace | sRGB |
ColorTemperature | 7050 |
ColorTransform | YCbCr |
Contrast | Normal |
Contrast2012 | -30 |
ConvertToGrayscale | False |
Copyright | Asbjorn Horn |
CopyrightNotice | Asbjorn Horn |
CreateDate | 2018:08:21 20:37:01 |
Creator | Asbjorn Horn horn.asbjorn@gmail.com |
CreatorTool | Adobe Photoshop Lightroom Classic 7.5 (Windows) |
CropAngle | 0.405685 |
CropBottom | 0.960974 |
CropConstrainToWarp | 0 |
CropLeft | 0.006079 |
CropRight | 0.990317 |
CropTop | 0.02365 |
CustomRendered | Normal |
DateCreated (1) | 2018:08:21 |
DateCreated | 2018:08:21 20:37:01.008 |
DateTimeOriginal | 2018:08:21 20:37:01 |
DefringeGreenAmount | 0 |
DefringeGreenHueHi | 60 |
DefringeGreenHueLo | 40 |
DefringePurpleAmount | 0 |
DefringePurpleHueHi | 70 |
DefringePurpleHueLo | 30 |
Dehaze | +10 |
DigitalZoomRatio | 1 |
DistortionCorrectionAlreadyApplied | True |
DOF | inf (2.50 m - inf) |
ExifImageHeight | 1668 |
ExifImageWidth | 2669 |
Exposure2012 | -0.16 |
ExposureCompensation | -2/3 |
ExposureMode | Auto |
ExposureProgram | Aperture-priority AE |
ExposureTime | 1/4 |
Flash | Off, Did not fire |
FNumber | 8.0 |
FocalLength | 20.0 mm |
FocalLength35efl | 20.0 mm (35 mm equivalent: 30.0 mm) |
FocalLengthIn35mmFormat | 30 mm |
Format | image/jpeg |
FOV | 61.9 deg |
GainControl | None |
GrainAmount | 0 |
GreenHue | 0 |
GreenSaturation | 0 |
HasCrop | True |
HasSettings | True |
Highlights2012 | -100 |
HueAdjustmentAqua | 0 |
HueAdjustmentBlue | 0 |
HueAdjustmentGreen | 0 |
HueAdjustmentMagenta | 0 |
HueAdjustmentOrange | 0 |
HueAdjustmentPurple | 0 |
HueAdjustmentRed | 0 |
HueAdjustmentYellow | 0 |
HyperfocalDistance | 2.50 m |
ICCProfileName | sRGB IEC61966-2.1 |
ImageHeight (1) | 3707 |
ImageHeight | 1668 |
ImageNumber | 13959 |
ImageSize | 2669x1668 |
ImageWidth (1) | 5931 |
ImageWidth | 2669 |
ISO | 100 |
Keywords | Brønnøy, Hav, Helgeland, Slåttøya, Sommer18 |
LateralChromaticAberrationCorrectionAlreadyApplied | True |
Lens | Tokina AT-X 11-20mm F2.8 PRO DX |
LensID (1) | 122 |
LensID | Tokina AT-X 11-20 F2.8 PRO DX (AF 11-20mm f/2.8) |
LensInfo | 11-20mm f/2.8 |
LensManualDistortionAmount | 0 |
LensModel | Tokina AT-X 11-20mm F2.8 PRO DX |
LensProfileChromaticAberrationScale | 100 |
LensProfileDistortionScale | 100 |
LensProfileEnable | 1 |
LensProfileFilename | NIKON CORPORATION (Tokina AT-X 11-20mm F2.8 PRO DX) - RAW.lcp |
LensProfileName | Adobe (Tokina AT-X 11-20mm F2.8 PRO DX, NIKON CORPORATION) |
LensProfileSetup | LensDefaults |
LensProfileVignettingScale | 100 |
LightSource | Unknown |
LightValue | 8.0 |
LookAmount | 1.000000 |
LookGroup | Profiles |
LookName | Adobe Landscape |
LookParametersCameraProfile | Adobe Standard |
LookParametersClarity2012 | +10 |
LookParametersConvertToGrayscale | False |
LookParametersHighlights2012 | -12 |
LookParametersLookTable | 0B3BFB5CFB7DBF7FF175E98F24D316B0 |
LookParametersProcessVersion | 10.0 |
LookParametersShadows2012 | +12 |
LookParametersToneCurvePV2012 | 0, 0, 64, 60, 128, 128, 192, 196, 255, 255 |
LookParametersVersion | 10.5 |
LookSupportsAmount | false |
LookSupportsMonochrome | false |
LookSupportsOutputReferred | false |
LuminanceAdjustmentAqua | 0 |
LuminanceAdjustmentBlue | 0 |
LuminanceAdjustmentGreen | 0 |
LuminanceAdjustmentMagenta | 0 |
LuminanceAdjustmentOrange | 0 |
LuminanceAdjustmentPurple | 0 |
LuminanceAdjustmentRed | 0 |
LuminanceAdjustmentYellow | 0 |
LuminanceNoiseReductionContrast | 0 |
LuminanceNoiseReductionDetail | 50 |
LuminanceSmoothing | 15 |
Make | NIKON CORPORATION |
MaxApertureValue | 2.8 |
Megapixels | 4.5 |
MeteringMode | Multi-segment |
Model | NIKON D7100 |
ModifyDate (1) | 2018:10:20 11:25:14+02:00 |
ModifyDate | 2018:10:20 11:25:14 |
Orientation | Horizontal (normal) |
OverrideLookVignette | False |
ParametricDarks | -6 |
ParametricHighlights | +25 |
ParametricHighlightSplit | 75 |
ParametricLights | -16 |
ParametricMidtoneSplit | 50 |
ParametricShadows | +2 |
ParametricShadowSplit | 25 |
PerspectiveAspect | 0 |
PerspectiveHorizontal | 0 |
PerspectiveRotate | 0.0 |
PerspectiveScale | 100 |
PerspectiveUpright | 0 |
PerspectiveVertical | 0 |
PerspectiveX | 0.00 |
PerspectiveY | 0.00 |
PhotometricInterpretation | RGB |
PostCropVignetteAmount | 0 |
ProcessVersion | 10.0 |
ProfileDescription | sRGB IEC61966-2.1 |
RawFileName | _D712833.NEF |
RedHue | 0 |
RedSaturation | 0 |
Rights | Asbjorn Horn |
SamplesPerPixel | 3 |
Saturation (1) | -1 |
Saturation | Normal |
SaturationAdjustmentAqua | 0 |
SaturationAdjustmentBlue | 0 |
SaturationAdjustmentGreen | 0 |
SaturationAdjustmentMagenta | 0 |
SaturationAdjustmentOrange | 0 |
SaturationAdjustmentPurple | 0 |
SaturationAdjustmentRed | 0 |
SaturationAdjustmentYellow | 0 |
ScaleFactor35efl | 1.5 |
SceneCaptureType | Standard |
SceneType | Directly photographed |
SensingMethod | One-chip color area |
SensitivityType | Recommended Exposure Index |
SerialNumber | 4460481 |
Shadows2012 | +35 |
ShadowTint | 0 |
SharpenDetail | 50 |
SharpenEdgeMasking | 36 |
SharpenRadius | +0.6 |
Sharpness (1) | 65 |
Sharpness | Normal |
ShutterSpeed | 1/4 |
ShutterSpeedValue | 1/4 |
Software | Adobe Photoshop CC 2018 (Windows) |
SplitToningBalance | 0 |
SplitToningHighlightHue | 0 |
SplitToningHighlightSaturation | 0 |
SplitToningShadowHue | 0 |
SplitToningShadowSaturation | 0 |
Subject | Brønnøy, Hav, Helgeland, Slåttøya, Sommer18 |
SubjectDistanceRange | Unknown |
Tint | +7 |
ToneCurve | 0, 0, 255, 255 |
ToneCurveBlue | 0, 0, 255, 255 |
ToneCurveGreen | 0, 0, 255, 255 |
ToneCurveName | Linear |
ToneCurveName2012 | Linear |
ToneCurvePV2012 | 0, 0, 255, 255 |
ToneCurvePV2012Blue | 0, 0, 255, 255 |
ToneCurvePV2012Green | 0, 0, 255, 255 |
ToneCurvePV2012Red | 0, 0, 255, 255 |
ToneCurveRed | 0, 0, 255, 255 |
ToneMapStrength | 0 |
URL_List | |
UserComment | Asbjorn Horn |
Version | 10.5 |
Vibrance | +13 |
VignetteAmount | 0 |
VignetteCorrectionAlreadyApplied | True |
WhiteBalance (1) | Custom |
WhiteBalance | Auto |
Whites2012 | +5 |