Felt | Verdi |
AlreadyApplied | True |
Artist | Igor Kostin |
AutoLateralCA | 1 |
BitsPerSample | 8 |
Blacks2012 | +42 |
BlueHue | 0 |
BlueSaturation | -24 |
By-line | Igor Kostin |
CameraProfile | Adobe Standard |
CircGradBasedCorrActive | true |
CircGradBasedCorrAmount | 1.000000 |
CircGradBasedCorrBrightness | 0.000000 |
CircGradBasedCorrClarity2012 (1) | 0.000000 |
CircGradBasedCorrClarity2012 | 0.350998 |
CircGradBasedCorrContrast2012 | 0.000000 |
CircGradBasedCorrCorrectionRangeMaskColorAmount | 0.500000 |
CircGradBasedCorrCorrectionRangeMaskLumFeather | 0.500000 |
CircGradBasedCorrCorrectionRangeMaskLumMax | 1.000000 |
CircGradBasedCorrCorrectionRangeMaskLumMin | 0.000000 |
CircGradBasedCorrCorrectionRangeMaskType | 0 |
CircGradBasedCorrCorrectionRangeMaskVersion | +2 |
CircGradBasedCorrDefringe | 0.000000 |
CircGradBasedCorrExposure2012 (1) | -0.408180 |
CircGradBasedCorrExposure2012 | 0.000000 |
CircGradBasedCorrHighlights2012 | 0.000000 |
CircGradBasedCorrHue (1) | 25.000000 |
CircGradBasedCorrHue | 0.000000 |
CircGradBasedCorrLocalBlacks2012 | 0.000000 |
CircGradBasedCorrLocalDehaze | 0.000000 |
CircGradBasedCorrLocalWhites2012 | -0.288971 |
CircGradBasedCorrLuminanceNoise | 0.000000 |
CircGradBasedCorrMaskAngle (1) | -14.594400 |
CircGradBasedCorrMaskAngle | -4.079970 |
CircGradBasedCorrMaskBottom (1) | 0.887991 |
CircGradBasedCorrMaskBottom | 0.843134 |
CircGradBasedCorrMaskFeather (1) | +63 |
CircGradBasedCorrMaskFeather | +53 |
CircGradBasedCorrMaskFlipped (1) | false |
CircGradBasedCorrMaskFlipped | true |
CircGradBasedCorrMaskLeft (1) | -0.183685 |
CircGradBasedCorrMaskLeft | 0.408328 |
CircGradBasedCorrMaskMidpoint | +50 |
CircGradBasedCorrMaskRight (1) | 1.084770 |
CircGradBasedCorrMaskRight | 0.693995 |
CircGradBasedCorrMaskRoundness | 0 |
CircGradBasedCorrMaskTop (1) | 0.272092 |
CircGradBasedCorrMaskTop | 0.763520 |
CircGradBasedCorrMaskValue | 1.000000 |
CircGradBasedCorrMaskVersion | +2 |
CircGradBasedCorrMaskWhat | Mask/CircularGradient |
CircGradBasedCorrMoire | 0.000000 |
CircGradBasedCorrSaturation (1) | 0.063879 |
CircGradBasedCorrSaturation (2) | 0.090000 |
CircGradBasedCorrSaturation | 0.000000 |
CircGradBasedCorrShadows2012 (1) | 0.312500 |
CircGradBasedCorrShadows2012 | 0.070218 |
CircGradBasedCorrSharpness (1) | 0.000000 |
CircGradBasedCorrSharpness | 0.596480 |
CircGradBasedCorrTemperature (1) | 0.084099 |
CircGradBasedCorrTemperature | 0.000000 |
CircGradBasedCorrTint | 0.000000 |
CircGradBasedCorrWhat | Correction |
CircleOfConfusion | 0.007 mm |
Clarity2012 | +23 |
ColorComponents | 3 |
ColorNoiseReduction | 25 |
ColorNoiseReductionDetail | 50 |
ColorNoiseReductionSmoothness | 50 |
ColorSpace | sRGB |
ColorTemperature | 12250 |
ColorTransform | YCbCr |
Contrast2012 | +10 |
ConvertToGrayscale | False |
Copyright | All rights reserved |
CopyrightFlag | True |
CopyrightNotice | All rights reserved |
CreateDate (1) | 2018:06:13 01:17:07.98 |
CreateDate | 2018:06:13 01:17:07 |
Creator | Igor Kostin |
CreatorTool | Adobe Photoshop Lightroom Classic 7.4 (Macintosh) |
CropAngle | 0 |
CropBottom | 0.979538 |
CropConstrainToWarp | 0 |
CropLeft | 0.190279 |
CropRight | 0.814323 |
CropTop | 0.043473 |
CustomRendered | Normal |
DateCreated (1) | 2018:06:13 |
DateCreated | 2018:06:13 01:17:07.98 |
DateTimeOriginal | 2018:06:13 01:17:07 |
DefringeGreenAmount | 0 |
DefringeGreenHueHi | 60 |
DefringeGreenHueLo | 40 |
DefringePurpleAmount | 0 |
DefringePurpleHueHi | 70 |
DefringePurpleHueLo | 30 |
Dehaze | +15 |
DistortionCorrectionAlreadyApplied | True |
Exposure2012 | 0.00 |
ExposureCompensation | 0 |
ExposureMode | Manual |
ExposureProgram | Manual |
ExposureTime | 1.3 |
Firmware | 1.0.2 |
Flash | Off, Did not fire |
FlashCompensation | 0 |
Format | image/jpeg |
GradientBasedCorrActive | true |
GradientBasedCorrAmount | 1.000000 |
GradientBasedCorrBrightness | 0.000000 |
GradientBasedCorrClarity2012 | 0.000000 |
GradientBasedCorrContrast2012 | 0.000000 |
GradientBasedCorrCorrectionRangeMaskColorAmount | 0.500000 |
GradientBasedCorrCorrectionRangeMaskLumFeather | 0.500000 |
GradientBasedCorrCorrectionRangeMaskLumMax | 1.000000 |
GradientBasedCorrCorrectionRangeMaskLumMin | 0.000000 |
GradientBasedCorrCorrectionRangeMaskType | 0 |
GradientBasedCorrCorrectionRangeMaskVersion | +2 |
GradientBasedCorrDefringe | 0.000000 |
GradientBasedCorrExposure2012 (1) | -0.236571 |
GradientBasedCorrExposure2012 (2) | -0.326644 |
GradientBasedCorrExposure2012 (3) | -0.304585 |
GradientBasedCorrExposure2012 | -0.333384 |
GradientBasedCorrHighlights2012 (1) | 0.013327 |
GradientBasedCorrHighlights2012 (2) | 0.003983 |
GradientBasedCorrHighlights2012 | 0.000000 |
GradientBasedCorrHue (1) | 25.152300 |
GradientBasedCorrHue | 25.000000 |
GradientBasedCorrLuminanceNoise | 0.000000 |
GradientBasedCorrMaskFullX (1) | 0.463662 |
GradientBasedCorrMaskFullX (2) | -0.000617 |
GradientBasedCorrMaskFullX (3) | 0.483921 |
GradientBasedCorrMaskFullX | 1.005920 |
GradientBasedCorrMaskFullY (1) | -0.004934 |
GradientBasedCorrMaskFullY (2) | 0.378906 |
GradientBasedCorrMaskFullY (3) | 1.002260 |
GradientBasedCorrMaskFullY | 0.493455 |
GradientBasedCorrMaskValue | 1.000000 |
GradientBasedCorrMaskWhat | Mask/Gradient |
GradientBasedCorrMaskZeroX (1) | 0.463662 |
GradientBasedCorrMaskZeroX (2) | 0.023830 |
GradientBasedCorrMaskZeroX (3) | 0.484132 |
GradientBasedCorrMaskZeroX | 0.969569 |
GradientBasedCorrMaskZeroY (1) | 0.034414 |
GradientBasedCorrMaskZeroY (2) | 0.378906 |
GradientBasedCorrMaskZeroY (3) | 0.964355 |
GradientBasedCorrMaskZeroY | 0.493455 |
GradientBasedCorrMoire | 0.000000 |
GradientBasedCorrSaturation (2) | 0.086797 |
GradientBasedCorrSaturation (3) | 0.000000 |
GradientBasedCorrSaturation | 0.090000 |
GradientBasedCorrShadows2012 | 0.000000 |
GradientBasedCorrSharpness | 0.000000 |
GradientBasedCorrTemperature | 0.000000 |
GradientBasedCorrTint | 0.000000 |
GradientBasedCorrWhat | Correction |
GrainAmount | 0 |
GreenHue | 0 |
GreenSaturation | +42 |
HasCrop | True |
HasSettings | True |
Highlights2012 | -55 |
HueAdjustmentAqua | 0 |
HueAdjustmentBlue | 0 |
HueAdjustmentGreen | 0 |
HueAdjustmentMagenta | 0 |
HueAdjustmentOrange | 0 |
HueAdjustmentPurple | 0 |
HueAdjustmentRed | 0 |
HueAdjustmentYellow | 0 |
ImageHeight | 1200 |
ImageNumber | 0 |
ImageSize | 1200x1200 |
ImageWidth | 1200 |
ISO | 100 |
Keywords | 2018, BOFK, Bodø, IgorKostin, Island, Norway |
LateralChromaticAberrationCorrectionAlreadyApplied | True |
LensManualDistortionAmount | 0 |
LensProfileChromaticAberrationScale | 100 |
LensProfileDistortionScale | 200 |
LensProfileEnable | 1 |
LensProfileFilename | Canon (Lensbaby Velvet 56mm f1.6).lcp |
LensProfileName | Adobe (Lensbaby Velvet 56mm f/1.6, Canon) |
LensProfileSetup | Custom |
LensProfileVignettingScale | 100 |
LensSerialNumber | 0000000000 |
LookAmount | 1.000000 |
LookGroup | Profiles |
LookName | Adobe Color |
LookParametersCameraProfile | Adobe Standard |
LookParametersConvertToGrayscale | False |
LookParametersLookTable | E1095149FDB39D7A057BAB208837E2E1 |
LookParametersProcessVersion | 10.0 |
LookParametersToneCurvePV2012 | 0, 0, 22, 16, 40, 35, 127, 127, 224, 230, 240, 246, 255, 255 |
LookParametersToneCurvePV2012Blue | 0, 0, 255, 255 |
LookParametersToneCurvePV2012Green | 0, 0, 255, 255 |
LookParametersToneCurvePV2012Red | 0, 0, 255, 255 |
LookParametersVersion | 10.4 |
LookSupportsAmount | false |
LookSupportsMonochrome | false |
LookSupportsOutputReferred | false |
LuminanceAdjustmentAqua | 0 |
LuminanceAdjustmentBlue | 0 |
LuminanceAdjustmentGreen | +66 |
LuminanceAdjustmentMagenta | 0 |
LuminanceAdjustmentOrange | 0 |
LuminanceAdjustmentPurple | 0 |
LuminanceAdjustmentRed | 0 |
LuminanceAdjustmentYellow | 0 |
LuminanceSmoothing | 0 |
Make | Canon |
Marked | True |
Megapixels | 1.4 |
MeteringMode | Multi-segment |
Model | Canon EOS 6D Mark II |
ModifyDate (1) | 2018:06:28 22:44:37+02:00 |
ModifyDate | 2018:06:28 22:44:37 |
OverrideLookVignette | True |
ParametricDarks | 0 |
ParametricHighlights | 0 |
ParametricHighlightSplit | 75 |
ParametricLights | 0 |
ParametricMidtoneSplit | 50 |
ParametricShadows | 0 |
ParametricShadowSplit | 25 |
PerspectiveAspect | 0 |
PerspectiveHorizontal | 0 |
PerspectiveRotate | 0.0 |
PerspectiveScale | 100 |
PerspectiveUpright | 0 |
PerspectiveVertical | 0 |
PerspectiveX | 0.00 |
PerspectiveY | 0.00 |
PostCropVignetteAmount | -1 |
PostCropVignetteFeather | 50 |
PostCropVignetteHighlightContrast | 0 |
PostCropVignetteMidpoint | 50 |
PostCropVignetteRoundness | 0 |
PostCropVignetteStyle | 1 |
ProcessVersion | 10.0 |
ProfileDescription | sRGB IEC61966-2.1 |
Rating | 5 |
RawFileName | 20180612_Island-144.CR2 |
RecommendedExposureIndex | 100 |
RedHue | 0 |
RedSaturation | +35 |
Rights | All rights reserved |
Saturation | 0 |
SaturationAdjustmentAqua | 0 |
SaturationAdjustmentBlue | 0 |
SaturationAdjustmentGreen | +56 |
SaturationAdjustmentMagenta | 0 |
SaturationAdjustmentOrange | +72 |
SaturationAdjustmentPurple | 0 |
SaturationAdjustmentRed | 0 |
SaturationAdjustmentYellow | +53 |
ScaleFactor35efl | 4.4 |
SceneCaptureType | Standard |
SensitivityType | Recommended Exposure Index |
SerialNumber | 063051006686 |
Shadows2012 | +95 |
ShadowTint | 0 |
SharpenDetail | 25 |
SharpenEdgeMasking | 0 |
SharpenRadius | +1.0 |
Sharpness | 40 |
ShutterSpeed | 1.3 |
ShutterSpeedValue | 1.3 |
Software | Adobe Photoshop Lightroom Classic 7.4 (Macintosh) |
SplitToningBalance | +49 |
SplitToningHighlightHue | 41 |
SplitToningHighlightSaturation | 10 |
SplitToningShadowHue | 235 |
SplitToningShadowSaturation | 43 |
Subject | 2018, BOFK, Bodø, IgorKostin, Island, Norway |
Tint | +18 |
ToneCurve | 0, 0, 255, 255 |
ToneCurveBlue | 0, 0, 255, 255 |
ToneCurveGreen | 0, 0, 255, 255 |
ToneCurveName | Linear |
ToneCurveName2012 | Custom |
ToneCurvePV2012 | 0, 43, 41, 48, 77, 73, 126, 124, 217, 223, 255, 252 |
ToneCurvePV2012Blue | 0, 16, 62, 61, 255, 230 |
ToneCurvePV2012Green | 0, 6, 255, 238 |
ToneCurvePV2012Red | 6, 1, 250, 251 |
ToneCurveRed | 0, 0, 255, 255 |
ToneMapStrength | 0 |
UsageTerms | Please contact |
Version | 10.4 |
Vibrance | +31 |
VignetteAmount | 0 |
VignetteCorrectionAlreadyApplied | True |
WhiteBalance (1) | Custom |
WhiteBalance | Auto |
Whites2012 | +51 |