Felt | Verdi |
AlreadyApplied | True |
Aperture | 16.0 |
ApertureValue | 16.0 |
AutoLateralCA | 1 |
AutoWhiteVersion | 134348800 |
BitsPerSample | 8 |
Blacks2012 | -4 |
BlueHue | 0 |
BlueSaturation | 0 |
CameraProfile | Adobe Standard |
CircGradBasedCorrActive | true |
CircGradBasedCorrAmount | 1.000000 |
CircGradBasedCorrBrightness | 0.000000 |
CircGradBasedCorrClarity2012 | 0.000000 |
CircGradBasedCorrContrast2012 | 0.000000 |
CircGradBasedCorrDefringe | 0.000000 |
CircGradBasedCorrExposure2012 (2) | 0.125000 |
CircGradBasedCorrExposure2012 (3) | 0.100000 |
CircGradBasedCorrExposure2012 (5) | 0.050000 |
CircGradBasedCorrExposure2012 (6) | 0.108333 |
CircGradBasedCorrExposure2012 (7) | 0.109250 |
CircGradBasedCorrExposure2012 (9) | 0.133333 |
CircGradBasedCorrExposure2012 | -0.075000 |
CircGradBasedCorrHighlights2012 | 0.000000 |
CircGradBasedCorrHue | 240.000000 |
CircGradBasedCorrLocalBlacks2012 | 0.000000 |
CircGradBasedCorrLocalDehaze | 0.000000 |
CircGradBasedCorrLocalWhites2012 | 0.000000 |
CircGradBasedCorrLuminanceNoise | 0.000000 |
CircGradBasedCorrMaskAngle (8) | 0.000000 |
CircGradBasedCorrMaskAngle | -0.500851 |
CircGradBasedCorrMaskBottom (1) | 0.564526 |
CircGradBasedCorrMaskBottom (2) | 0.427462 |
CircGradBasedCorrMaskBottom (3) | 0.587109 |
CircGradBasedCorrMaskBottom (4) | 0.571676 |
CircGradBasedCorrMaskBottom (5) | 0.353389 |
CircGradBasedCorrMaskBottom (6) | 0.567332 |
CircGradBasedCorrMaskBottom (7) | 0.577612 |
CircGradBasedCorrMaskBottom (8) | 0.587259 |
CircGradBasedCorrMaskBottom (9) | 0.579144 |
CircGradBasedCorrMaskBottom | 0.804193 |
CircGradBasedCorrMaskCenterWeight | 0.000000 |
CircGradBasedCorrMaskFeather | +50 |
CircGradBasedCorrMaskFlipped (5) | true |
CircGradBasedCorrMaskFlipped | false |
CircGradBasedCorrMaskFlow | 1.000000 |
CircGradBasedCorrMaskLeft (1) | 0.517415 |
CircGradBasedCorrMaskLeft (2) | 0.727144 |
CircGradBasedCorrMaskLeft (3) | 0.365295 |
CircGradBasedCorrMaskLeft (4) | 0.427301 |
CircGradBasedCorrMaskLeft (5) | 0.224583 |
CircGradBasedCorrMaskLeft (6) | 0.630228 |
CircGradBasedCorrMaskLeft (7) | 0.686329 |
CircGradBasedCorrMaskLeft (8) | 0.489165 |
CircGradBasedCorrMaskLeft (9) | 0.392404 |
CircGradBasedCorrMaskLeft | 0.016120 |
CircGradBasedCorrMaskMidpoint | +50 |
CircGradBasedCorrMaskRadius (1) | 0.051095 |
CircGradBasedCorrMaskRadius (2) | 0.063432 |
CircGradBasedCorrMaskRadius | 0.063416 |
CircGradBasedCorrMaskRight (1) | 0.586028 |
CircGradBasedCorrMaskRight (2) | 0.786771 |
CircGradBasedCorrMaskRight (3) | 0.424656 |
CircGradBasedCorrMaskRight (4) | 0.486639 |
CircGradBasedCorrMaskRight (5) | 0.245102 |
CircGradBasedCorrMaskRight (6) | 0.698924 |
CircGradBasedCorrMaskRight (7) | 0.755141 |
CircGradBasedCorrMaskRight (8) | 0.557774 |
CircGradBasedCorrMaskRight (9) | 0.461024 |
CircGradBasedCorrMaskRight | 0.968475 |
CircGradBasedCorrMaskRoundness | 0 |
CircGradBasedCorrMaskTop (1) | 0.508891 |
CircGradBasedCorrMaskTop (2) | 0.380876 |
CircGradBasedCorrMaskTop (3) | 0.540730 |
CircGradBasedCorrMaskTop (4) | 0.525315 |
CircGradBasedCorrMaskTop (5) | 0.324473 |
CircGradBasedCorrMaskTop (6) | 0.511629 |
CircGradBasedCorrMaskTop (7) | 0.521814 |
CircGradBasedCorrMaskTop (8) | 0.531626 |
CircGradBasedCorrMaskTop (9) | 0.523502 |
CircGradBasedCorrMaskTop | 0.074557 |
CircGradBasedCorrMaskValue (10) | 1.000000 |
CircGradBasedCorrMaskValue | 0.000000 |
CircGradBasedCorrMaskVersion | +2 |
CircGradBasedCorrMaskWhat (10) | Mask/CircularGradient |
CircGradBasedCorrMaskWhat | Mask/Paint |
CircGradBasedCorrMoire | 0.000000 |
CircGradBasedCorrSaturation | 0.000000 |
CircGradBasedCorrShadows2012 | 0.000000 |
CircGradBasedCorrSharpness | 0.000000 |
CircGradBasedCorrTemperature | 0.000000 |
CircGradBasedCorrTint | 0.000000 |
CircGradBasedCorrWhat | Correction |
CircleOfConfusion | 0.020 mm |
Clarity2012 | 0 |
ColorComponents | 3 |
ColorNoiseReduction | 25 |
ColorNoiseReductionDetail | 50 |
ColorNoiseReductionSmoothness | 50 |
ColorSpace | sRGB |
ColorTemperature | 11000 |
ColorTransform | YCbCr |
Contrast | Normal |
Contrast2012 | 0 |
ConvertToGrayscale | False |
CreatorTool | Adobe Photoshop Lightroom 6.14 (Windows) |
CropAngle | 0 |
CropBottom | 0.909191 |
CropConstrainToWarp | 0 |
CropLeft | 0.014028 |
CropRight | 0.959395 |
CropTop | 0.032115 |
DateCreated (1) | 2017:07:11 |
DateCreated | 2017:07:11 20:59:02 |
DateTimeOriginal | 2017:07:11 20:59:02 |
DefringeGreenAmount | 0 |
DefringeGreenHueHi | 60 |
DefringeGreenHueLo | 40 |
DefringePurpleAmount | 0 |
DefringePurpleHueHi | 70 |
DefringePurpleHueLo | 30 |
Dehaze | 0 |
DigitalZoomRatio | 1 |
DistortionCorrectionAlreadyApplied | True |
Exposure2012 | 0.00 |
ExposureCompensation | 0 |
ExposureMode | Manual |
ExposureProgram | Manual |
ExposureTime | 2 |
Firmware | 1.12 |
Flash | No Flash |
FNumber | 16.0 |
FocalLength | 35.0 mm |
FocalLength35efl | 35.0 mm (35 mm equivalent: 53.0 mm) |
FocalLengthIn35mmFormat | 53 mm |
Format | image/jpeg |
FOV | 37.5 deg |
GradientBasedCorrActive | true |
GradientBasedCorrAmount | 1.000000 |
GradientBasedCorrBrightness | 0.000000 |
GradientBasedCorrClarity2012 | 0.000000 |
GradientBasedCorrContrast2012 | 0.000000 |
GradientBasedCorrDefringe | 0.000000 |
GradientBasedCorrExposure2012 (1) | -0.100000 |
GradientBasedCorrExposure2012 | -0.225000 |
GradientBasedCorrHighlights2012 | -0.414410 |
GradientBasedCorrHue | 240.000000 |
GradientBasedCorrLocalBlacks2012 | 0.000000 |
GradientBasedCorrLocalDehaze | 0.000000 |
GradientBasedCorrLocalWhites2012 | 0.000000 |
GradientBasedCorrLuminanceNoise | 0.000000 |
GradientBasedCorrMaskCenterWeight | 0.000000 |
GradientBasedCorrMaskFlow | 1.000000 |
GradientBasedCorrMaskFullX (1) | 0.532382 |
GradientBasedCorrMaskFullX | 0.505671 |
GradientBasedCorrMaskFullY (1) | -0.029089 |
GradientBasedCorrMaskFullY | 0.178376 |
GradientBasedCorrMaskRadius (1) | 0.081872 |
GradientBasedCorrMaskRadius (3) | 0.052981 |
GradientBasedCorrMaskRadius | 0.032576 |
GradientBasedCorrMaskValue (2) | 1.000000 |
GradientBasedCorrMaskValue | 0.000000 |
GradientBasedCorrMaskWhat (1) | Mask/Gradient |
GradientBasedCorrMaskWhat | Mask/Paint |
GradientBasedCorrMaskZeroX (1) | 0.531650 |
GradientBasedCorrMaskZeroX | 0.506037 |
GradientBasedCorrMaskZeroY (1) | 0.258507 |
GradientBasedCorrMaskZeroY | 0.480791 |
GradientBasedCorrMoire | 0.000000 |
GradientBasedCorrSaturation | 0.000000 |
GradientBasedCorrShadows2012 | 0.000000 |
GradientBasedCorrSharpness | 0.000000 |
GradientBasedCorrTemperature | 0.000000 |
GradientBasedCorrTint | 0.000000 |
GradientBasedCorrWhat | Correction |
GrainAmount | 0 |
GreenHue | 0 |
GreenSaturation | 0 |
HasCrop | True |
HasExtendedXMP | C934C2C546240A586699EC00932CE3C0 |
HasSettings | True |
Highlights2012 | -100 |
HueAdjustmentAqua | 0 |
HueAdjustmentBlue | 0 |
HueAdjustmentGreen | 0 |
HueAdjustmentMagenta | 0 |
HueAdjustmentOrange | 0 |
HueAdjustmentPurple | 0 |
HueAdjustmentRed | 0 |
HueAdjustmentYellow | 0 |
HyperfocalDistance | 3.86 m |
ImageHeight | 1267 |
ImageSize | 2048x1267 |
ImageWidth | 2048 |
ISO | 100 |
LateralChromaticAberrationCorrectionAlreadyApplied | True |
Lens | NX 18-200mm F3.5-6.3 |
LensID (1) | 6 |
LensID | Samsung NX 18-200mm F3.5-6.3 ED OIS |
LensInfo | 18-200mm f/3.5-6.3 |
LensManualDistortionAmount | 0 |
LensModel | NX 18-200mm F3.5-6.3 |
LensProfileChromaticAberrationScale | 100 |
LensProfileDistortionScale | 100 |
LensProfileEnable | 1 |
LensProfileFilename | Samsung NX10 (Samsung 18-55 f3.5-5.6 OIS) - RAW.lcp |
LensProfileName | Adobe (Samsung 18-55 f/3.5-5.6 OIS) |
LensProfileSetup | Custom |
LensProfileVignettingScale | 100 |
LensSerialNumber | 312900013870 |
LightSource | Unknown |
LightValue | 7.0 |
LuminanceAdjustmentAqua | 0 |
LuminanceAdjustmentBlue | 0 |
LuminanceAdjustmentGreen | +33 |
LuminanceAdjustmentMagenta | 0 |
LuminanceAdjustmentOrange | 0 |
LuminanceAdjustmentPurple | 0 |
LuminanceAdjustmentRed | 0 |
LuminanceAdjustmentYellow | +50 |
LuminanceNoiseReductionContrast | 0 |
LuminanceNoiseReductionDetail | 50 |
LuminanceSmoothing | 40 |
Make | SAMSUNG |
Megapixels | 2.6 |
MeteringMode | Spot |
Model | NX500 |
ModifyDate (1) | 2018:03:07 21:29:11+01:00 |
ModifyDate | 2018:03:07 21:29:11 |
ParametricDarks | 0 |
ParametricHighlights | 0 |
ParametricHighlightSplit | 75 |
ParametricLights | 0 |
ParametricMidtoneSplit | 50 |
ParametricShadows | 0 |
ParametricShadowSplit | 25 |
PerspectiveAspect | 0 |
PerspectiveHorizontal | 0 |
PerspectiveRotate | 0.0 |
PerspectiveScale | 100 |
PerspectiveUpright | 1 |
PerspectiveVertical | 0 |
PerspectiveX | 0.00 |
PerspectiveY | 0.00 |
PostCropVignetteAmount | 0 |
ProcessVersion | 6.7 |
ProfileDescription | sRGB IEC61966-2.1 |
RedHue | 0 |
RedSaturation | 0 |
Saturation (1) | +23 |
Saturation | Normal |
SaturationAdjustmentAqua | 0 |
SaturationAdjustmentBlue | 0 |
SaturationAdjustmentGreen | +24 |
SaturationAdjustmentMagenta | 0 |
SaturationAdjustmentOrange | 0 |
SaturationAdjustmentPurple | 0 |
SaturationAdjustmentRed | 0 |
SaturationAdjustmentYellow | 0 |
ScaleFactor35efl | 1.5 |
SceneCaptureType | Standard |
SerialNumber | 0 |
Shadows2012 | +67 |
ShadowTint | +10 |
SharpenDetail | 25 |
SharpenEdgeMasking | 60 |
SharpenRadius | +1.0 |
Sharpness (1) | 45 |
Sharpness | Normal |
ShutterSpeed | 2 |
ShutterSpeedValue | 2 |
Software | Adobe Photoshop Lightroom 6.14 (Windows) |
SplitToningBalance | 0 |
SplitToningHighlightHue | 8 |
SplitToningHighlightSaturation | 21 |
SplitToningShadowHue | 276 |
SplitToningShadowSaturation | 9 |
Tint | -6 |
ToneCurve | 0, 0, 255, 255 |
ToneCurveBlue | 0, 0, 255, 255 |
ToneCurveGreen | 0, 0, 255, 255 |
ToneCurveName | Linear |
ToneCurveName2012 | Custom |
ToneCurvePV2012 | 0, 0, 45, 35, 134, 173, 255, 255 |
ToneCurvePV2012Blue | 0, 0, 255, 255 |
ToneCurvePV2012Green | 0, 0, 255, 255 |
ToneCurvePV2012Red | 0, 0, 255, 255 |
ToneCurveRed | 0, 0, 255, 255 |
ToneMapStrength | 0 |
Version | 10.1 |
Vibrance | 0 |
VignetteAmount | 0 |
VignetteCorrectionAlreadyApplied | True |
WhiteBalance (1) | As Shot |
WhiteBalance | Auto |
Whites2012 | -57 |