Felt | Verdi |
AlreadyApplied | True |
Aperture | 6.3 |
ApertureValue | 6.3 |
AutoLateralCA | 1 |
AutoWhiteVersion | 134348800 |
BitsPerSample | 8 |
Blacks2012 | 0 |
BlueHue | 0 |
BlueSaturation | 0 |
CameraProfile | Adobe Standard |
CircleOfConfusion | 0.020 mm |
Clarity2012 | 0 |
ColorComponents | 3 |
ColorNoiseReduction | 25 |
ColorNoiseReductionDetail | 50 |
ColorNoiseReductionSmoothness | 50 |
ColorSpace | Uncalibrated |
ColorTemperature | 5000 |
ColorTransform | YCbCr |
Contrast | Normal |
Contrast2012 | 0 |
ConvertToGrayscale | True |
CreatorTool | Adobe Photoshop Lightroom 6.13 (Windows) |
CropAngle | 0 |
CropBottom | 1 |
CropConstrainToWarp | 0 |
CropLeft | 0.025151 |
CropRight | 0.809967 |
CropTop | 0.086652 |
DateCreated (1) | 2017:12:10 |
DateCreated | 2017:12:10 13:16:02 |
DateTimeOriginal | 2017:12:10 13:16:02 |
Dehaze | 0 |
DigitalZoomRatio | 1 |
DistortionCorrectionAlreadyApplied | True |
Exposure2012 | 0.00 |
ExposureCompensation | 0 |
ExposureMode | Manual |
ExposureProgram | Manual |
ExposureTime | 1/100 |
Firmware | 1.41 |
Flash | No Flash |
FNumber | 6.3 |
FocalLength | 45.0 mm |
FocalLength35efl | 45.0 mm (35 mm equivalent: 69.0 mm) |
FocalLengthIn35mmFormat | 69 mm |
Format | image/jpeg |
FOV | 29.2 deg |
GrainAmount | 0 |
GrayMixerAqua | 0 |
GrayMixerBlue | 0 |
GrayMixerGreen | 0 |
GrayMixerMagenta | 0 |
GrayMixerOrange | 0 |
GrayMixerPurple | 0 |
GrayMixerRed | 0 |
GrayMixerYellow | 0 |
GreenHue | 0 |
GreenSaturation | 0 |
HasCrop | True |
HasExtendedXMP | 47BB7030E1250D03CE85C6EE774E579B |
HasSettings | True |
Highlights2012 | 0 |
HyperfocalDistance | 16.40 m |
ImageHeight | 3946 |
ImageSize | 5086x3946 |
ImageWidth | 5086 |
ISO | 100 |
LateralChromaticAberrationCorrectionAlreadyApplied | True |
Lens | NX 45mm F1.8 |
LensID (1) | 10 |
LensID | Samsung NX 45mm F1.8 |
LensInfo | 45mm f/1.8 |
LensManualDistortionAmount | 0 |
LensModel | NX 45mm F1.8 |
LensProfileChromaticAberrationScale | 100 |
LensProfileDistortionScale | 100 |
LensProfileEnable | 1 |
LensProfileFilename | Samsung NX10 (Samsung 18-55 f3.5-5.6 OIS) - RAW.lcp |
LensProfileName | Adobe (Samsung 18-55 f/3.5-5.6 OIS) |
LensProfileSetup | Custom |
LensProfileVignettingScale | 100 |
LensSerialNumber | 355900171247 |
LightSource | Unknown |
LightValue | 12.0 |
LuminanceSmoothing | 0 |
Make | SAMSUNG |
Megapixels | 20.1 |
MeteringMode | Spot |
Model | NX1 |
ModifyDate (1) | 2017:12:11 19:26:46+01:00 |
ModifyDate | 2017:12:11 19:26:46 |
PaintCorrectionActive | true |
PaintCorrectionAmount | 1.000000 |
PaintCorrectionBrightness | 0.000000 |
PaintCorrectionClarity2012 (1) | 0.254900 |
PaintCorrectionClarity2012 (3) | 0.000000 |
PaintCorrectionClarity2012 (5) | -0.950980 |
PaintCorrectionClarity2012 | -0.352940 |
PaintCorrectionContrast2012 | 0.000000 |
PaintCorrectionDefringe | 0.000000 |
PaintCorrectionExposure2012 (1) | -0.053000 |
PaintCorrectionExposure2012 (2) | 0.050000 |
PaintCorrectionExposure2012 (3) | 0.101500 |
PaintCorrectionExposure2012 (4) | 0.085250 |
PaintCorrectionExposure2012 | 0.000000 |
PaintCorrectionHighlights2012 (3) | 0.333330 |
PaintCorrectionHighlights2012 | 0.000000 |
PaintCorrectionHue | 240.000000 |
PaintCorrectionLocalBlacks2012 | 0.000000 |
PaintCorrectionLocalDehaze | 0.000000 |
PaintCorrectionLocalWhites2012 | 0.000000 |
PaintCorrectionLuminanceNoise | 0.000000 |
PaintCorrectionMaskCenterWeight (21) | 0.041212 |
PaintCorrectionMaskCenterWeight | 0.000000 |
PaintCorrectionMaskFlow (21) | 0.753000 |
PaintCorrectionMaskFlow | 1.000000 |
PaintCorrectionMaskRadius (1) | 0.279793 |
PaintCorrectionMaskRadius (11) | 0.004922 |
PaintCorrectionMaskRadius (12) | 0.004925 |
PaintCorrectionMaskRadius (13) | 0.080961 |
PaintCorrectionMaskRadius (14) | 0.103620 |
PaintCorrectionMaskRadius (15) | 0.103603 |
PaintCorrectionMaskRadius (16) | 0.103640 |
PaintCorrectionMaskRadius (17) | 0.103600 |
PaintCorrectionMaskRadius (18) | 0.115391 |
PaintCorrectionMaskRadius (19) | 0.107429 |
PaintCorrectionMaskRadius (2) | 0.280274 |
PaintCorrectionMaskRadius (20) | 0.080734 |
PaintCorrectionMaskRadius (21) | 0.080763 |
PaintCorrectionMaskRadius (22) | 0.074903 |
PaintCorrectionMaskRadius (23) | 0.074949 |
PaintCorrectionMaskRadius (24) | 0.060417 |
PaintCorrectionMaskRadius (25) | 0.046372 |
PaintCorrectionMaskRadius (26) | 0.026241 |
PaintCorrectionMaskRadius (27) | 0.026252 |
PaintCorrectionMaskRadius (28) | 0.023853 |
PaintCorrectionMaskRadius (29) | 0.035888 |
PaintCorrectionMaskRadius (3) | 0.001943 |
PaintCorrectionMaskRadius (4) | 0.169767 |
PaintCorrectionMaskRadius (5) | 0.002640 |
PaintCorrectionMaskRadius (7) | 0.002639 |
PaintCorrectionMaskRadius (8) | 0.002641 |
PaintCorrectionMaskRadius (9) | 0.002642 |
PaintCorrectionMaskRadius | 0.048403 |
PaintCorrectionMaskValue (18) | 0.000000 |
PaintCorrectionMaskValue | 1.000000 |
PaintCorrectionMaskWhat | Mask/Paint |
PaintCorrectionMoire | 0.000000 |
PaintCorrectionSaturation (1) | 0.392160 |
PaintCorrectionSaturation | 0.000000 |
PaintCorrectionShadows2012 (3) | -0.039220 |
PaintCorrectionShadows2012 | 0.000000 |
PaintCorrectionSharpness | 0.000000 |
PaintCorrectionTemperature (1) | -0.068630 |
PaintCorrectionTemperature | 0.000000 |
PaintCorrectionTint (1) | -0.274510 |
PaintCorrectionTint | 0.000000 |
PaintCorrectionWhat | Correction |
ParametricDarks | -15 |
ParametricHighlights | 0 |
ParametricHighlightSplit | 75 |
ParametricLights | 0 |
ParametricMidtoneSplit | 50 |
ParametricShadows | 0 |
ParametricShadowSplit | 25 |
PerspectiveAspect | 0 |
PerspectiveHorizontal | 0 |
PerspectiveRotate | 0.0 |
PerspectiveScale | 100 |
PerspectiveUpright | 0 |
PerspectiveVertical | 0 |
PerspectiveX | 0.00 |
PerspectiveY | 0.00 |
PostCropVignetteAmount | 0 |
ProcessVersion | 6.7 |
ProfileDescription | Adobe RGB (1998) |
RedHue | 0 |
RedSaturation | 0 |
Saturation | Normal |
ScaleFactor35efl | 1.5 |
SceneCaptureType | Standard |
SerialNumber | 0 |
Shadows2012 | 0 |
ShadowTint | 0 |
SharpenDetail | 25 |
SharpenEdgeMasking | 0 |
SharpenRadius | +1.0 |
Sharpness (1) | 25 |
Sharpness | Normal |
ShutterSpeed | 1/100 |
ShutterSpeedValue | 1/100 |
Software | Adobe Photoshop Lightroom 6.13 (Windows) |
SplitToningBalance | +85 |
SplitToningHighlightHue | 37 |
SplitToningHighlightSaturation | 34 |
SplitToningShadowHue | 246 |
SplitToningShadowSaturation | 60 |
Tint | 0 |
ToneCurve | 0, 0, 255, 255 |
ToneCurveBlue | 0, 0, 255, 255 |
ToneCurveGreen | 0, 0, 255, 255 |
ToneCurveName | Linear |
ToneCurveName2012 | Linear |
ToneCurvePV2012 | 0, 0, 255, 255 |
ToneCurvePV2012Blue | 0, 0, 255, 255 |
ToneCurvePV2012Green | 0, 0, 255, 255 |
ToneCurvePV2012Red | 0, 0, 255, 255 |
ToneCurveRed | 0, 0, 255, 255 |
ToneMapStrength | 0 |
Version | 10.0 |
VignetteAmount | 0 |
VignetteCorrectionAlreadyApplied | True |
WhiteBalance (1) | As Shot |
WhiteBalance | Auto |
Whites2012 | 0 |