Felt | Verdi |
AELock | Off |
AFAreas | (161,117)-(184,137) |
AFFineTune | Off |
AFFineTuneAdj | 0 0 0 |
AFPoint | Left (or n/a) |
AFPointSelected | (67%,49%) (67%,49%) |
AFSearch | Ready |
AlreadyApplied | False |
Aperture | 7.1 |
ApertureValue | 7.1 |
ApproximateFocusDistance | 4294967295 |
ArtFilter | Dramatic Tone; 4352; 0; 0 |
ArtFilterEffect | Dramatic Tone; 4352; 0; Partial Color 0; No Effect; 0; No Color Filter; 0; 0; 0; 0; 0; 0; 0; 0; 0; 0; 0; 0; 0 |
AspectFrame | 0 0 4607 3455 |
AspectRatio | 4:3 |
AutoLateralCA | 0 |
AutoWhiteVersion | 134348800 |
BitsPerSample | 8 |
BlackLevel2 | 254 254 254 254 |
Blacks2012 | 0 |
BlueBalance | 1.53125 |
BlueHue | 0 |
BlueSaturation | 0 |
BodyFirmwareVersion | 1.010 |
CameraID | OLYMPUS DIGITAL CAMERA |
CameraProfile | Embedded |
CameraSettingsVersion | 0100 |
CameraTemperature | 4 |
CameraType2 | E-M10 |
Caption-Abstract | OLYMPUS DIGITAL CAMERA |
CircleOfConfusion | 0.015 mm |
Clarity2012 | 0 |
ColorComponents | 3 |
ColorCreatorEffect | Color 0; 0; 29; Strength 0; -4; 3 |
ColorMatrix | 404 -132 -16 -68 364 -40 14 -116 358 |
ColorNoiseReduction | 0 |
ColorSpace | sRGB |
Contrast | Normal |
Contrast2012 | 0 |
ContrastSetting | 0 (min -5, max 5) |
ConversionLens | |
ConvertToGrayscale | False |
CreateDate | 2015:11:02 15:36:37 |
CreatorTool | Version 1.0 |
CropHeight | 3456 |
CropLeft | 8 0 |
CropTop | 8 0 |
CropWidth | 4608 |
CustomRendered | Custom |
CustomSaturation | 0 (min -5, max 5) |
DateCreated (1) | 2015:11:02 15:36:37 |
DateCreated | 2015:11:02 |
DateTimeOriginal | 2015:11:02 15:36:37 |
DateTimeUTC | 2015:11:02 13:36:37 |
DefringeGreenAmount | 0 |
DefringeGreenHueHi | 60 |
DefringeGreenHueLo | 40 |
DefringePurpleAmount | 0 |
DefringePurpleHueHi | 70 |
DefringePurpleHueLo | 30 |
Dehaze | 0 |
Description | OLYMPUS DIGITAL CAMERA |
DigitalZoomRatio | 1 |
DistortionCorrection | Off |
DistortionCorrection2 | Off |
DOF | inf (3.04 m - inf) |
DriveMode | Single Shot |
EquipmentVersion | 0100 |
ExifImageHeight | 3456 |
ExifImageWidth | 4608 |
Exposure2012 | 0.00 |
ExposureCompensation | +0.3 |
ExposureMode (1) | Program |
ExposureMode | Manual |
ExposureProgram | Creative (Slow speed) |
ExposureShift | 0 |
ExposureTime | 1/80 |
ExtendedWBDetect | Off |
Extender | None |
ExtenderFirmwareVersion | 0 |
ExtenderModel | |
ExtenderSerialNumber | |
ExtenderStatus | Not attached |
ExternalFlash | Off |
ExternalFlashBounce | Bounce or Off |
ExternalFlashZoom | 0 |
FaceDetectFrameCrop | 0 0 0 0 0 0 0 0 0 0 0 0 |
FaceDetectFrameSize | 0 0 0 0 0 0 |
FacesDetected | 0 0 0 |
Flash | Auto, Did not fire, Red-eye reduction |
FlashCompensation | 0 |
FlashControlMode | Off; 0; 0; 0 |
FlashExposureComp | 0 |
FlashFirmwareVersion | 0 |
FlashIntensity | n/a (x4) |
FlashMode | Red-eye, Slow-sync |
FlashModel | None |
FlashRemoteControl | Off |
FlashSerialNumber | |
FlashType | None |
FNumber | 7.1 |
FocalLength | 18.0 mm |
FocalLength35efl | 18.0 mm (35 mm equivalent: 36.0 mm) |
FocalLengthIn35mmFormat | 36 mm |
FocusDistance | inf |
FocusInfoVersion | 0100 |
FocusMode | Single AF; S-AF, Imager AF |
FocusProcess | AF Used; 64 |
FocusStepCount | 39 |
FocusStepInfinity | 0 |
FocusStepNear | 0 |
Format | image/jpeg |
FOV | 53.1 deg |
GainBase | 256 |
GainControl | High gain up |
GPSVersionID | 2.3.0.0 |
Gradation | Normal; User-Selected |
GrainAmount | 0 |
GreenHue | 0 |
GreenSaturation | 0 |
HasSettings | True |
HierarchicalSubject | Trysil |
Highlights2012 | 0 |
HueAdjustmentAqua | 0 |
HueAdjustmentBlue | 0 |
HueAdjustmentGreen | 0 |
HueAdjustmentMagenta | 0 |
HueAdjustmentOrange | 0 |
HueAdjustmentPurple | 0 |
HueAdjustmentRed | 0 |
HueAdjustmentYellow | 0 |
HyperfocalDistance | 3.04 m |
ImageDescription | OLYMPUS DIGITAL CAMERA |
ImageHeight | 3456 |
ImageProcessingVersion | 0112 |
ImageSize | 4608x3456 |
ImageStabilization | On, Mode 1 |
ImageWidth | 4608 |
IncrementalTemperature | 0 |
IncrementalTint | 0 |
InternalFlash | Off |
InternalSerialNumber | 4158404001192001 |
ISO | 320 |
Keywords | Trysil |
Lens | OLYMPUS M.9-18mm F4.0-5.6 |
LensFirmwareVersion | 1.100 |
LensID | Olympus M.Zuiko Digital ED 9-18mm F4.0-5.6 |
LensInfo | 9-18mm f/4-5.6 |
LensManualDistortionAmount | 0 |
LensModel | OLYMPUS M.9-18mm F4.0-5.6 |
LensProfileEnable | 0 |
LensProfileSetup | LensDefaults |
LensProperties | 0xc140 |
LensSerialNumber | AAJ263540 |
LensType | Olympus M.Zuiko Digital ED 9-18mm F4.0-5.6 |
LightSource | Unknown |
LightValue | 10.3 |
LuminanceAdjustmentAqua | 0 |
LuminanceAdjustmentBlue | 0 |
LuminanceAdjustmentGreen | 0 |
LuminanceAdjustmentMagenta | 0 |
LuminanceAdjustmentOrange | 0 |
LuminanceAdjustmentPurple | 0 |
LuminanceAdjustmentRed | 0 |
LuminanceAdjustmentYellow | 0 |
LuminanceSmoothing | 0 |
MacroLED | Off |
MacroMode | Off |
Make | OLYMPUS IMAGING CORP. |
ManometerPressure | 0 kPa |
ManometerReading | 0 m, 0 ft |
ManualFlash | Off |
ManualFlashStrength | n/a (x4) |
MaxAperture | 5.2 |
MaxApertureAtMaxFocal | 5.6 |
MaxApertureAtMinFocal | 4.0 |
MaxApertureValue | 4.0 |
MaxFaces | 8 8 0 |
MaxFocalLength | 18 |
Megapixels | 15.9 |
MeteringMode (1) | Multi-segment |
MeteringMode | ESP |
MinFocalLength | 9 |
Model | E-M10 |
ModifiedSaturation | Off |
ModifyDate | 2015:11:02 15:36:37 |
MultipleExposureMode | Off; 1 |
NoiseFilter | Standard |
NoiseReduction | Auto |
NoiseReduction2 | (none) |
Orientation | Horizontal (normal) |
PanoramaMode | Off |
ParametricDarks | 0 |
ParametricHighlights | 0 |
ParametricHighlightSplit | 75 |
ParametricLights | 0 |
ParametricMidtoneSplit | 50 |
ParametricShadows | 0 |
ParametricShadowSplit | 25 |
PerspectiveAspect | 0 |
PerspectiveHorizontal | 0 |
PerspectiveRotate | 0.0 |
PerspectiveScale | 100 |
PerspectiveUpright | 0 |
PerspectiveVertical | 0 |
PictureMode | Natural; 2 |
PictureModeBWFilter | n/a |
PictureModeContrast | 0 (min -2, max 2) |
PictureModeEffect | Standard |
PictureModeSaturation | 0 (min -2, max 2) |
PictureModeSharpness | 0 (min -2, max 2) |
PictureModeTone | n/a |
PostCropVignetteAmount | 0 |
PrintIMVersion | 0300 |
ProcessVersion | 6.7 |
RawDevColorSpace | sRGB |
RawDevContrastValue | 0 0 0 |
RawDevEditStatus | Original |
RawDevEngine | High Speed |
RawDevExposureBiasValue | 0 |
RawDevGrayPoint | 0 0 0 |
RawDevMemoryColorEmphasis | 0 |
RawDevNoiseReduction | (none) |
RawDevSaturationEmphasis | 0 0 0 |
RawDevSettings | (none) |
RawDevSharpnessValue | 0 0 0 |
RawDevVersion | 0100 |
RawDevWBFineAdjustment | 0 |
RawDevWhiteBalanceValue | 0 |
RawFileName | PB020027.JPG |
RedBalance | 2.203125 |
RedHue | 0 |
RedSaturation | 0 |
Saturation (1) | 0 |
Saturation | High |
SaturationAdjustmentAqua | 0 |
SaturationAdjustmentBlue | 0 |
SaturationAdjustmentGreen | 0 |
SaturationAdjustmentMagenta | 0 |
SaturationAdjustmentOrange | 0 |
SaturationAdjustmentPurple | 0 |
SaturationAdjustmentRed | 0 |
SaturationAdjustmentYellow | 0 |
ScaleFactor35efl | 2.0 |
SceneCaptureType | Standard |
SceneDetect | 0 |
SceneMode | Standard |
SensitivityType | Standard Output Sensitivity |
SensorCalibration | 4094 256 |
SensorTemperature | 22 22 0 C |
SerialNumber | V5NF56351 |
ShadingCompensation | Off |
ShadingCompensation2 | Off |
Shadows2012 | +25 |
ShadowTint | 0 |
SharpenDetail | 25 |
SharpenEdgeMasking | 0 |
SharpenRadius | +1.0 |
Sharpness (1) | 73 |
Sharpness | Normal |
SharpnessSetting | 0 (min -5, max 5) |
ShutterSpeed | 1/80 |
ShutterSpeedValue | 1/80 |
Software | Version 1.0 |
SpecialMode | Normal, Sequence: 0, Panorama: (none) |
SplitToningBalance | 0 |
SplitToningHighlightHue | 0 |
SplitToningHighlightSaturation | 0 |
SplitToningShadowHue | 0 |
SplitToningShadowSaturation | 0 |
Subject | Trysil |
ToneCurve | 0, 0, 255, 255 |
ToneCurveBlue | 0, 0, 255, 255 |
ToneCurveGreen | 0, 0, 255, 255 |
ToneCurveName | Linear |
ToneCurveName2012 | Linear |
ToneCurvePV2012 | 0, 0, 255, 255 |
ToneCurvePV2012Blue | 0, 0, 255, 255 |
ToneCurvePV2012Green | 0, 0, 255, 255 |
ToneCurvePV2012Red | 0, 0, 255, 255 |
ToneCurveRed | 0, 0, 255, 255 |
ToneLevel | Highlights; 0; -7; 7; Shadows; 0; -7; 7; 0; 0; 0; 0 |
ToneMapStrength | 0 |
Version | 9.2 |
Vibrance | 0 |
VignetteAmount | 0 |
WB_RBLevels | 564 392 256 256 |
WhiteBalance (1) | As Shot |
WhiteBalance | Auto |
WhiteBalance2 | Auto |
WhiteBalanceBracket | 0 0 |
WhiteBalanceTemperature | Auto |
Whites2012 | 0 |
ZoomStepCount | 31 |