Felt | Verdi |
AlreadyApplied | True |
Aperture | 11.0 |
ApertureValue | 11.0 |
ApproximateFocusDistance | 4294967295 |
Artist | Jon Olav Nesvold |
AutoLateralCA | 1 |
AutoWhiteVersion | 134348800 |
BitsPerSample | 8 |
Blacks2012 | -22 |
BlueHue | 0 |
BlueSaturation | 0 |
By-line | Jon Olav Nesvold |
CameraProfile | Adobe Standard |
CFAPattern | [Red,Green][Green,Blue] |
CircleOfConfusion | 0.030 mm |
Clarity2012 | -8 |
ColorComponents | 3 |
ColorNoiseReduction | 25 |
ColorNoiseReductionDetail | 50 |
ColorNoiseReductionSmoothness | 50 |
ColorTemperature | 7200 |
ColorTransform | YCbCr |
Contrast | Normal |
Contrast2012 | +28 |
ConvertToGrayscale | False |
Copyright | Jon Olav Nesvold |
CopyrightNotice | Jon Olav Nesvold |
CreateDate (1) | 2015:08:29 19:40:05.80 |
CreateDate | 2015:08:29 19:40:05 |
Creator | Jon Olav Nesvold |
CreatorTool | Adobe Photoshop Lightroom 5.7.1 (Macintosh) |
CropAngle | -1.15632 |
CropBottom | 0.964141 |
CropConstrainToWarp | 0 |
CropLeft | 0.102615 |
CropRight | 0.985321 |
CropTop | 0.034339 |
CustomRendered | Normal |
DateCreated (1) | 2015:08:29 |
DateCreated | 2015:08:29 19:40:05.80 |
DateTimeOriginal | 2015:08:29 19:40:05 |
DefringeGreenAmount | 0 |
DefringeGreenHueHi | 60 |
DefringeGreenHueLo | 40 |
DefringePurpleAmount | 0 |
DefringePurpleHueHi | 70 |
DefringePurpleHueLo | 30 |
DigitalZoomRatio | 1 |
DOF | inf (3.10 m - inf) |
Exposure2012 | +0.50 |
ExposureCompensation | 0 |
ExposureMode | Manual |
ExposureProgram | Manual |
ExposureTime | 1.3 |
Flash | Off, Did not fire |
FNumber | 11.0 |
FocalLength | 32.0 mm |
FocalLength35efl | 32.0 mm (35 mm equivalent: 32.0 mm) |
FocalLengthIn35mmFormat | 32 mm |
Format | image/jpeg |
FOV | 58.7 deg |
GainControl | None |
GradientBasedCorrActive | true |
GradientBasedCorrAmount | 1.000000 |
GradientBasedCorrBrightness | 0.000000 |
GradientBasedCorrClarity2012 | 0.000000 |
GradientBasedCorrContrast2012 | 0.000000 |
GradientBasedCorrDefringe | 0.000000 |
GradientBasedCorrExposure2012 (1) | -0.141942 |
GradientBasedCorrExposure2012 (2) | 0.073999 |
GradientBasedCorrExposure2012 | -0.077686 |
GradientBasedCorrHighlights2012 (1) | -0.347261 |
GradientBasedCorrHighlights2012 (2) | 0.000000 |
GradientBasedCorrHighlights2012 | -1.000000 |
GradientBasedCorrHue | 240.000000 |
GradientBasedCorrLuminanceNoise | 0.000000 |
GradientBasedCorrMaskFullX (1) | 0.550662 |
GradientBasedCorrMaskFullX (2) | 0.547148 |
GradientBasedCorrMaskFullX | 0.876667 |
GradientBasedCorrMaskFullY (1) | 0.088026 |
GradientBasedCorrMaskFullY (2) | 0.892644 |
GradientBasedCorrMaskFullY | 0.119547 |
GradientBasedCorrMaskValue | 1.000000 |
GradientBasedCorrMaskWhat | Mask/Gradient |
GradientBasedCorrMaskZeroX (1) | 0.546421 |
GradientBasedCorrMaskZeroX (2) | 0.521279 |
GradientBasedCorrMaskZeroX | 0.793626 |
GradientBasedCorrMaskZeroY (1) | 0.481198 |
GradientBasedCorrMaskZeroY (2) | -0.005757 |
GradientBasedCorrMaskZeroY | 0.422783 |
GradientBasedCorrMoire | 0.000000 |
GradientBasedCorrSaturation (3) | 0.097261 |
GradientBasedCorrSaturation (5) | 0.115432 |
GradientBasedCorrSaturation | 0.000000 |
GradientBasedCorrShadows2012 | 0.000000 |
GradientBasedCorrSharpness | 0.000000 |
GradientBasedCorrTemperature | 0.000000 |
GradientBasedCorrTint | 0.000000 |
GradientBasedCorrWhat | Correction |
GrainAmount | 0 |
GreenHue | 0 |
GreenSaturation | 0 |
HasCrop | True |
HasExtendedXMP | 9B0F685A9760A0ED3C236B82D9FA68AA |
HasSettings | True |
Highlights2012 | -100 |
HueAdjustmentAqua | 0 |
HueAdjustmentBlue | 0 |
HueAdjustmentGreen | 0 |
HueAdjustmentMagenta | 0 |
HueAdjustmentOrange | 0 |
HueAdjustmentPurple | 0 |
HueAdjustmentRed | 0 |
HueAdjustmentYellow | 0 |
HyperfocalDistance | 3.10 m |
ImageHeight | 4697 |
ImageNumber | 17342 |
ImageSize | 6403x4697 |
ImageWidth | 6403 |
ISO | 50 |
Lens | 24.0-85.0 mm f/3.5-4.5 |
LensID (1) | 180 |
LensID | AF-S Zoom-Nikkor 24-85mm f/3.5-4.5G IF-ED VR |
LensInfo | 24-85mm f/3.5-4.5 |
LensManualDistortionAmount | 0 |
LensModel | 24.0-85.0 mm f/3.5-4.5 |
LensProfileChromaticAberrationScale | 100 |
LensProfileDistortionScale | 100 |
LensProfileEnable | 1 |
LensProfileFilename | NIKON D700 (Nikon AF-S NIKKOR 24-85mm f3.5-4.5G ED VR) - RAW.lcp |
LensProfileName | Adobe (Nikon AF-S NIKKOR 24-85mm f/3.5-4.5G ED VR) |
LensProfileSetup | LensDefaults |
LensProfileVignettingScale | 100 |
LightSource | Shade |
LightValue | 7.5 |
LuminanceAdjustmentAqua | 0 |
LuminanceAdjustmentBlue | 0 |
LuminanceAdjustmentGreen | 0 |
LuminanceAdjustmentMagenta | 0 |
LuminanceAdjustmentOrange | 0 |
LuminanceAdjustmentPurple | 0 |
LuminanceAdjustmentRed | 0 |
LuminanceAdjustmentYellow | 0 |
LuminanceNoiseReductionContrast | 0 |
LuminanceNoiseReductionDetail | 50 |
LuminanceSmoothing | 9 |
Make | NIKON CORPORATION |
MaxApertureValue | 4.0 |
Megapixels | 30.1 |
MeteringMode | Spot |
Model | NIKON D800 |
ModifyDate (1) | 2015:10:12 22:46:50+02:00 |
ModifyDate | 2015:10:12 22:46:50 |
PaintCorrectionActive | true |
PaintCorrectionAmount | 1.000000 |
PaintCorrectionBrightness | 0.000000 |
PaintCorrectionClarity2012 (3) | 0.054073 |
PaintCorrectionClarity2012 (4) | 0.170207 |
PaintCorrectionClarity2012 (5) | 0.382549 |
PaintCorrectionClarity2012 (6) | 0.079881 |
PaintCorrectionClarity2012 | 0.000000 |
PaintCorrectionContrast2012 (2) | 0.249561 |
PaintCorrectionContrast2012 (5) | 0.254389 |
PaintCorrectionContrast2012 (6) | -0.451282 |
PaintCorrectionContrast2012 | 0.000000 |
PaintCorrectionDefringe | 0.000000 |
PaintCorrectionExposure2012 (1) | 0.065748 |
PaintCorrectionExposure2012 (3) | 0.000000 |
PaintCorrectionExposure2012 (4) | 0.092784 |
PaintCorrectionExposure2012 (8) | 0.091994 |
PaintCorrectionExposure2012 | 0.149842 |
PaintCorrectionHighlights2012 (2) | -0.407128 |
PaintCorrectionHighlights2012 (5) | -0.627195 |
PaintCorrectionHighlights2012 (6) | 0.219628 |
PaintCorrectionHighlights2012 | 0.000000 |
PaintCorrectionHue | 240.000000 |
PaintCorrectionLuminanceNoise | 0.000000 |
PaintCorrectionMaskCenterWeight | 0.592258 |
PaintCorrectionMaskFlow | 0.789260 |
PaintCorrectionMaskRadius (10) | 0.031198 |
PaintCorrectionMaskRadius (11) | 0.031328 |
PaintCorrectionMaskRadius (12) | 0.031479 |
PaintCorrectionMaskRadius (13) | 0.032151 |
PaintCorrectionMaskRadius (14) | 0.016845 |
PaintCorrectionMaskRadius (15) | 0.016876 |
PaintCorrectionMaskRadius (16) | 0.016865 |
PaintCorrectionMaskRadius (17) | 0.016925 |
PaintCorrectionMaskRadius (18) | 0.017114 |
PaintCorrectionMaskRadius (19) | 0.016902 |
PaintCorrectionMaskRadius (2) | 0.031190 |
PaintCorrectionMaskRadius (20) | 0.016877 |
PaintCorrectionMaskRadius (21) | 0.016868 |
PaintCorrectionMaskRadius (22) | 0.017243 |
PaintCorrectionMaskRadius (23) | 0.016930 |
PaintCorrectionMaskRadius (24) | 0.016857 |
PaintCorrectionMaskRadius (25) | 0.016926 |
PaintCorrectionMaskRadius (26) | 0.031947 |
PaintCorrectionMaskRadius (27) | 0.050235 |
PaintCorrectionMaskRadius (28) | 0.056706 |
PaintCorrectionMaskRadius (29) | 0.032473 |
PaintCorrectionMaskRadius (3) | 0.031175 |
PaintCorrectionMaskRadius (31) | 0.046671 |
PaintCorrectionMaskRadius (32) | 0.046594 |
PaintCorrectionMaskRadius (34) | 0.046728 |
PaintCorrectionMaskRadius (35) | 0.046876 |
PaintCorrectionMaskRadius (36) | 0.048486 |
PaintCorrectionMaskRadius (37) | 0.046659 |
PaintCorrectionMaskRadius (38) | 0.046631 |
PaintCorrectionMaskRadius (39) | 0.047311 |
PaintCorrectionMaskRadius (4) | 0.031183 |
PaintCorrectionMaskRadius (40) | 0.046669 |
PaintCorrectionMaskRadius (41) | 0.046947 |
PaintCorrectionMaskRadius (42) | 0.046621 |
PaintCorrectionMaskRadius (44) | 0.046521 |
PaintCorrectionMaskRadius (45) | 0.046742 |
PaintCorrectionMaskRadius (46) | 0.047140 |
PaintCorrectionMaskRadius (47) | 0.047936 |
PaintCorrectionMaskRadius (48) | 0.046733 |
PaintCorrectionMaskRadius (49) | 0.047579 |
PaintCorrectionMaskRadius (5) | 0.031229 |
PaintCorrectionMaskRadius (50) | 0.048147 |
PaintCorrectionMaskRadius (52) | 0.047711 |
PaintCorrectionMaskRadius (53) | 0.047811 |
PaintCorrectionMaskRadius (54) | 0.047765 |
PaintCorrectionMaskRadius (55) | 0.048934 |
PaintCorrectionMaskRadius (56) | 0.048127 |
PaintCorrectionMaskRadius (57) | 0.047886 |
PaintCorrectionMaskRadius (58) | 0.047713 |
PaintCorrectionMaskRadius (59) | 0.047722 |
PaintCorrectionMaskRadius (6) | 0.031398 |
PaintCorrectionMaskRadius (60) | 0.048006 |
PaintCorrectionMaskRadius (61) | 0.047716 |
PaintCorrectionMaskRadius (62) | 0.048849 |
PaintCorrectionMaskRadius (63) | 0.037624 |
PaintCorrectionMaskRadius (7) | 0.031636 |
PaintCorrectionMaskRadius (8) | 0.031233 |
PaintCorrectionMaskRadius | 0.038605 |
PaintCorrectionMaskValue | 0.336152 |
PaintCorrectionMaskWhat | Mask/Paint |
PaintCorrectionMoire | 0.000000 |
PaintCorrectionSaturation (13) | 0.006408 |
PaintCorrectionSaturation (3) | 0.612798 |
PaintCorrectionSaturation | 0.000000 |
PaintCorrectionShadows2012 (2) | 0.000000 |
PaintCorrectionShadows2012 | 0.245523 |
PaintCorrectionSharpness (6) | -0.224895 |
PaintCorrectionSharpness | 0.000000 |
PaintCorrectionTemperature | 0.000000 |
PaintCorrectionTint | 0.000000 |
PaintCorrectionWhat | Correction |
ParametricDarks | 0 |
ParametricHighlights | 0 |
ParametricHighlightSplit | 75 |
ParametricLights | 0 |
ParametricMidtoneSplit | 50 |
ParametricShadows | 0 |
ParametricShadowSplit | 25 |
PerspectiveAspect | 0 |
PerspectiveHorizontal | 0 |
PerspectiveRotate | 0.0 |
PerspectiveScale | 100 |
PerspectiveUpright | 0 |
PerspectiveVertical | 0 |
PostCropVignetteAmount | 0 |
ProcessVersion | 6.7 |
ProfileDescription | sRGB IEC61966-2.1 |
RedHue | 0 |
RedSaturation | 0 |
Rights | Jon Olav Nesvold |
Saturation (1) | +5 |
Saturation | Normal |
SaturationAdjustmentAqua | 0 |
SaturationAdjustmentBlue | 0 |
SaturationAdjustmentGreen | 0 |
SaturationAdjustmentMagenta | 0 |
SaturationAdjustmentOrange | 0 |
SaturationAdjustmentPurple | 0 |
SaturationAdjustmentRed | 0 |
SaturationAdjustmentYellow | 0 |
ScaleFactor35efl | 1.0 |
SceneCaptureType | Landscape |
SceneType | Directly photographed |
SensingMethod | One-chip color area |
SensitivityType | Recommended Exposure Index |
SerialNumber | 6042024 |
Shadows2012 | +100 |
ShadowTint | 0 |
SharpenDetail | 25 |
SharpenEdgeMasking | 90 |
SharpenRadius | +1.0 |
Sharpness (1) | 78 |
Sharpness | Normal |
ShutterSpeed | 1.3 |
ShutterSpeedValue | 1.3 |
Software | Adobe Photoshop Lightroom 5.7.1 (Macintosh) |
SplitToningBalance | 0 |
SplitToningHighlightHue | 0 |
SplitToningHighlightSaturation | 0 |
SplitToningShadowHue | 0 |
SplitToningShadowSaturation | 0 |
SubjectDistanceRange | Unknown |
Tint | +14 |
ToneCurve | 0, 0, 255, 255 |
ToneCurveBlue | 0, 0, 255, 255 |
ToneCurveGreen | 0, 0, 255, 255 |
ToneCurveName | Linear |
ToneCurveName2012 | Linear |
ToneCurvePV2012 | 0, 0, 255, 255 |
ToneCurvePV2012Blue | 0, 0, 255, 255 |
ToneCurvePV2012Green | 0, 0, 255, 255 |
ToneCurvePV2012Red | 0, 0, 255, 255 |
ToneCurveRed | 0, 0, 255, 255 |
Version | 8.7.1 |
Vibrance | +7 |
VignetteAmount | 0 |
WhiteBalance (1) | As Shot |
WhiteBalance | Manual |
Whites2012 | +59 |