Felt | Verdi |
AlreadyApplied | True |
AutoLateralCA | 0 |
AutoWhiteVersion | 134348800 |
BitsPerSample | 8 |
Blacks2012 | -50 |
BlueHue | 0 |
BlueSaturation | 0 |
CameraProfile | Embedded |
Clarity2012 | +9 |
ColorComponents | 3 |
ColorNoiseReduction | 0 |
ColorTransform | YCbCr |
Contrast2012 | +6 |
ConvertToGrayscale | False |
CreatorTool | Adobe Photoshop Lightroom 5.7.1 (Macintosh) |
CropAngle | 0.804233 |
CropBottom | 0.870519 |
CropConstrainToWarp | 0 |
CropLeft | 0.006859 |
CropRight | 0.93374 |
CropTop | 0.117876 |
DefringeGreenAmount | 0 |
DefringeGreenHueHi | 60 |
DefringeGreenHueLo | 40 |
DefringePurpleAmount | 0 |
DefringePurpleHueHi | 70 |
DefringePurpleHueLo | 30 |
Exposure2012 | +0.35 |
Format | image/jpeg |
GradientBasedCorrActive | true |
GradientBasedCorrAmount | 1.000000 |
GradientBasedCorrBrightness | 0.000000 |
GradientBasedCorrClarity2012 (1) | 0.085938 |
GradientBasedCorrClarity2012 (4) | 0.000000 |
GradientBasedCorrClarity2012 | 0.097612 |
GradientBasedCorrContrast2012 | 0.175825 |
GradientBasedCorrDefringe | 0.000000 |
GradientBasedCorrExposure2012 (1) | 0.000000 |
GradientBasedCorrExposure2012 (2) | 0.061008 |
GradientBasedCorrExposure2012 (3) | -0.207865 |
GradientBasedCorrExposure2012 (4) | -0.169593 |
GradientBasedCorrExposure2012 | -0.058023 |
GradientBasedCorrHighlights2012 (1) | -0.043013 |
GradientBasedCorrHighlights2012 | 0.000000 |
GradientBasedCorrHue | 240.000000 |
GradientBasedCorrLuminanceNoise | 0.000000 |
GradientBasedCorrMaskFullX (1) | 0.463790 |
GradientBasedCorrMaskFullX (2) | 0.524619 |
GradientBasedCorrMaskFullX (3) | 0.478251 |
GradientBasedCorrMaskFullX (4) | 0.519138 |
GradientBasedCorrMaskFullX (5) | 0.468505 |
GradientBasedCorrMaskFullX | 0.503165 |
GradientBasedCorrMaskFullY (1) | 0.833100 |
GradientBasedCorrMaskFullY (2) | 0.188368 |
GradientBasedCorrMaskFullY (3) | 0.831916 |
GradientBasedCorrMaskFullY (4) | 0.156258 |
GradientBasedCorrMaskFullY (5) | 0.835745 |
GradientBasedCorrMaskFullY | 0.144305 |
GradientBasedCorrMaskValue | 1.000000 |
GradientBasedCorrMaskWhat | Mask/Gradient |
GradientBasedCorrMaskZeroX (1) | 0.463546 |
GradientBasedCorrMaskZeroX (2) | 0.467980 |
GradientBasedCorrMaskZeroX (3) | 0.483043 |
GradientBasedCorrMaskZeroX (4) | 0.512463 |
GradientBasedCorrMaskZeroX (5) | 0.474631 |
GradientBasedCorrMaskZeroX | 0.500959 |
GradientBasedCorrMaskZeroY (1) | 0.392385 |
GradientBasedCorrMaskZeroY (2) | 0.667818 |
GradientBasedCorrMaskZeroY (3) | 0.472334 |
GradientBasedCorrMaskZeroY (4) | 0.487239 |
GradientBasedCorrMaskZeroY (5) | 0.546032 |
GradientBasedCorrMaskZeroY | 0.319642 |
GradientBasedCorrMoire | 0.000000 |
GradientBasedCorrSaturation (1) | 0.155021 |
GradientBasedCorrSaturation | 0.000000 |
GradientBasedCorrShadows2012 | 0.000000 |
GradientBasedCorrSharpness (1) | -0.202862 |
GradientBasedCorrSharpness | 0.000000 |
GradientBasedCorrTemperature | 0.000000 |
GradientBasedCorrTint | 0.000000 |
GradientBasedCorrWhat | Correction |
GrainAmount | 0 |
GreenHue | 0 |
GreenSaturation | 0 |
HasCrop | True |
HasSettings | True |
Highlights2012 | -100 |
HueAdjustmentAqua | 0 |
HueAdjustmentBlue | 0 |
HueAdjustmentGreen | 0 |
HueAdjustmentMagenta | 0 |
HueAdjustmentOrange | 0 |
HueAdjustmentPurple | 0 |
HueAdjustmentRed | 0 |
HueAdjustmentYellow | 0 |
ImageHeight | 750 |
ImageSize | 1433x750 |
ImageWidth | 1433 |
IncrementalTemperature | 0 |
IncrementalTint | +3 |
LensManualDistortionAmount | 0 |
LensProfileEnable | 0 |
LensProfileSetup | LensDefaults |
LuminanceAdjustmentAqua | 0 |
LuminanceAdjustmentBlue | -18 |
LuminanceAdjustmentGreen | 0 |
LuminanceAdjustmentMagenta | 0 |
LuminanceAdjustmentOrange | 0 |
LuminanceAdjustmentPurple | 0 |
LuminanceAdjustmentRed | 0 |
LuminanceAdjustmentYellow | 0 |
LuminanceNoiseReductionContrast | 0 |
LuminanceNoiseReductionDetail | 50 |
LuminanceSmoothing | 20 |
Megapixels | 1.1 |
ModifyDate (1) | 2015:10:12 22:21:39+02:00 |
ModifyDate | 2015:10:12 22:21:39 |
PaintCorrectionActive | true |
PaintCorrectionAmount | 1.000000 |
PaintCorrectionBrightness | 0.000000 |
PaintCorrectionClarity2012 (2) | 0.097612 |
PaintCorrectionClarity2012 | 0.141678 |
PaintCorrectionContrast2012 | 0.175825 |
PaintCorrectionDefringe | 0.000000 |
PaintCorrectionExposure2012 (1) | 0.185042 |
PaintCorrectionExposure2012 | -0.058023 |
PaintCorrectionHighlights2012 (1) | -0.325228 |
PaintCorrectionHighlights2012 (2) | 0.000000 |
PaintCorrectionHighlights2012 | -0.569874 |
PaintCorrectionHue | 240.000000 |
PaintCorrectionLuminanceNoise | 0.000000 |
PaintCorrectionMaskCenterWeight | 0.592258 |
PaintCorrectionMaskFlow | 0.789260 |
PaintCorrectionMaskRadius | 0.032274 |
PaintCorrectionMaskValue | 0.336152 |
PaintCorrectionMaskWhat | Mask/Paint |
PaintCorrectionMoire | 0.000000 |
PaintCorrectionSaturation (3) | 0.846647 |
PaintCorrectionSaturation | 0.000000 |
PaintCorrectionShadows2012 | 0.000000 |
PaintCorrectionSharpness | 0.000000 |
PaintCorrectionTemperature | 0.000000 |
PaintCorrectionTint | 0.000000 |
PaintCorrectionWhat | Correction |
ParametricDarks | 0 |
ParametricHighlights | 0 |
ParametricHighlightSplit | 75 |
ParametricLights | 0 |
ParametricMidtoneSplit | 50 |
ParametricShadows | 0 |
ParametricShadowSplit | 25 |
PerspectiveAspect | 0 |
PerspectiveHorizontal | 0 |
PerspectiveRotate | 0.0 |
PerspectiveScale | 100 |
PerspectiveUpright | 0 |
PerspectiveVertical | 0 |
PostCropVignetteAmount | -7 |
PostCropVignetteFeather | 51 |
PostCropVignetteHighlightContrast | 0 |
PostCropVignetteMidpoint | 50 |
PostCropVignetteRoundness | 0 |
PostCropVignetteStyle | 1 |
ProcessVersion | 6.7 |
ProfileDescription | sRGB IEC61966-2.1 |
RedHue | 0 |
RedSaturation | 0 |
Saturation | -9 |
SaturationAdjustmentAqua | 0 |
SaturationAdjustmentBlue | 0 |
SaturationAdjustmentGreen | 0 |
SaturationAdjustmentMagenta | 0 |
SaturationAdjustmentOrange | 0 |
SaturationAdjustmentPurple | 0 |
SaturationAdjustmentRed | 0 |
SaturationAdjustmentYellow | 0 |
Shadows2012 | +79 |
ShadowTint | 0 |
SharpenDetail | 25 |
SharpenEdgeMasking | 80 |
SharpenRadius | +1.0 |
Sharpness | 38 |
Software | Adobe Photoshop Lightroom 5.7.1 (Macintosh) |
SplitToningBalance | 0 |
SplitToningHighlightHue | 0 |
SplitToningHighlightSaturation | 0 |
SplitToningShadowHue | 0 |
SplitToningShadowSaturation | 0 |
ToneCurve | 0, 0, 255, 255 |
ToneCurveBlue | 0, 0, 255, 255 |
ToneCurveGreen | 0, 0, 255, 255 |
ToneCurveName | Linear |
ToneCurveName2012 | Linear |
ToneCurvePV2012 | 0, 0, 255, 255 |
ToneCurvePV2012Blue | 0, 0, 255, 255 |
ToneCurvePV2012Green | 0, 0, 255, 255 |
ToneCurvePV2012Red | 0, 0, 255, 255 |
ToneCurveRed | 0, 0, 255, 255 |
UserComment | hnologies Inc. V1.01 |
Version | 8.7.1 |
Vibrance | -5 |
VignetteAmount | 0 |
WhiteBalance | Custom |
Whites2012 | +29 |