Felt | Verdi |
AlreadyApplied | True |
Aperture | 7.1 |
ApertureValue | 7.1 |
ApproximateFocusDistance | 4294967295 |
Artist | Jon Olav Nesvold |
AutoLateralCA | 0 |
AutoWhiteVersion | 134348800 |
BitsPerSample | 8 |
Blacks2012 | -29 |
BlueHue | 0 |
BlueSaturation | 0 |
By-line | Jon Olav Nesvold |
CameraProfile | Embedded |
CircleOfConfusion | 0.030 mm |
Clarity2012 | +18 |
ColorComponents | 3 |
ColorNoiseReduction | 0 |
ColorTransform | YCbCr |
Contrast | Normal |
Contrast2012 | +19 |
ConvertToGrayscale | False |
Copyright | Jon Olav Nesvold |
CopyrightNotice | Jon Olav Nesvold |
CreateDate (1) | 2015:09:28 03:42:49.80 |
CreateDate | 2015:09:28 03:42:49 |
Creator | Jon Olav Nesvold |
CreatorTool | Adobe Photoshop Lightroom 5.7.1 (Macintosh) |
CropAngle | 0 |
CropBottom | 1 |
CropConstrainToWarp | 0 |
CropLeft | 0.130787 |
CropRight | 0.947405 |
CropTop | 0 |
DateCreated (1) | 2015:09:28 |
DateCreated | 2015:09:28 03:42:49.80 |
DateTimeOriginal | 2015:09:28 03:42:49 |
DefringeGreenAmount | 0 |
DefringeGreenHueHi | 60 |
DefringeGreenHueLo | 40 |
DefringePurpleAmount | 0 |
DefringePurpleHueHi | 70 |
DefringePurpleHueLo | 30 |
DigitalZoomRatio | 1 |
DOF | inf (30.00 m - inf) |
Exposure2012 | 0.00 |
ExposureCompensation | 0 |
ExposureMode | Manual |
ExposureProgram | Manual |
ExposureTime | 8 |
Flash | Off, Did not fire |
FNumber | 7.1 |
FocalLength | 80.0 mm |
FocalLength35efl | 80.0 mm (35 mm equivalent: 80.0 mm) |
FocalLengthIn35mmFormat | 80 mm |
Format | image/jpeg |
FOV | 25.4 deg |
GainControl | None |
GradientBasedCorrActive | true |
GradientBasedCorrAmount | 1.000000 |
GradientBasedCorrBrightness | 0.000000 |
GradientBasedCorrClarity2012 | 0.000000 |
GradientBasedCorrContrast2012 | 0.000000 |
GradientBasedCorrDefringe | 0.000000 |
GradientBasedCorrExposure2012 (1) | -0.260358 |
GradientBasedCorrExposure2012 | -0.111570 |
GradientBasedCorrHighlights2012 | 0.000000 |
GradientBasedCorrHue | 240.000000 |
GradientBasedCorrLuminanceNoise | 0.000000 |
GradientBasedCorrMaskFullX (1) | 0.315005 |
GradientBasedCorrMaskFullX | 0.887924 |
GradientBasedCorrMaskFullY (1) | 0.540473 |
GradientBasedCorrMaskFullY | 0.642462 |
GradientBasedCorrMaskValue | 1.000000 |
GradientBasedCorrMaskWhat | Mask/Gradient |
GradientBasedCorrMaskZeroX (1) | 0.594873 |
GradientBasedCorrMaskZeroX | 0.476569 |
GradientBasedCorrMaskZeroY (1) | 0.355701 |
GradientBasedCorrMaskZeroY | -0.059222 |
GradientBasedCorrMoire | 0.000000 |
GradientBasedCorrSaturation (1) | 0.022384 |
GradientBasedCorrSaturation (3) | 0.184077 |
GradientBasedCorrSaturation | 0.000000 |
GradientBasedCorrShadows2012 | 0.000000 |
GradientBasedCorrSharpness | 0.000000 |
GradientBasedCorrTemperature | 0.000000 |
GradientBasedCorrTint | 0.000000 |
GradientBasedCorrWhat | Correction |
GrainAmount | 0 |
GreenHue | 0 |
GreenSaturation | 0 |
HasCrop | True |
HasExtendedXMP | F6FE90C33C8C7027394D517FB8CD807E |
HasSettings | True |
Highlights2012 | -13 |
HueAdjustmentAqua | 0 |
HueAdjustmentBlue | 0 |
HueAdjustmentGreen | 0 |
HueAdjustmentMagenta | 0 |
HueAdjustmentOrange | -16 |
HueAdjustmentPurple | 0 |
HueAdjustmentRed | -27 |
HueAdjustmentYellow | -36 |
HyperfocalDistance | 30.00 m |
ImageHeight | 4547 |
ImageNumber | 17673 |
ImageSize | 5997x4547 |
ImageWidth | 5997 |
IncrementalTemperature | -14 |
IncrementalTint | -5 |
ISO | 200 |
Lens | 80.0-200.0 mm f/2.8 |
LensID (1) | 83 |
LensID | AF Zoom-Nikkor 80-200mm f/2.8D ED |
LensInfo | 80-200mm f/2.8 |
LensManualDistortionAmount | 0 |
LensModel | 80.0-200.0 mm f/2.8 |
LensProfileEnable | 0 |
LensProfileSetup | LensDefaults |
LightSource | Tungsten (Incandescent) |
LightValue | 1.7 |
LuminanceAdjustmentAqua | -100 |
LuminanceAdjustmentBlue | -100 |
LuminanceAdjustmentGreen | -100 |
LuminanceAdjustmentMagenta | -96 |
LuminanceAdjustmentOrange | -13 |
LuminanceAdjustmentPurple | -100 |
LuminanceAdjustmentRed | -29 |
LuminanceAdjustmentYellow | -29 |
LuminanceSmoothing | 0 |
Make | NIKON CORPORATION |
MaxApertureValue | 2.8 |
Megapixels | 27.3 |
MeteringMode | Spot |
Model | NIKON D800 |
ModifyDate (1) | 2015:09:28 20:54:40+02:00 |
ModifyDate | 2015:09:28 20:54:40 |
PaintCorrectionActive | true |
PaintCorrectionAmount | 1.000000 |
PaintCorrectionBrightness | 0.000000 |
PaintCorrectionClarity2012 (1) | 0.350334 |
PaintCorrectionClarity2012 (13) | 0.508603 |
PaintCorrectionClarity2012 (16) | 0.449614 |
PaintCorrectionClarity2012 (2) | 0.272384 |
PaintCorrectionClarity2012 (4) | 0.476299 |
PaintCorrectionClarity2012 (7) | 0.069786 |
PaintCorrectionClarity2012 | 0.000000 |
PaintCorrectionContrast2012 (1) | 0.439343 |
PaintCorrectionContrast2012 (13) | -0.240607 |
PaintCorrectionContrast2012 (16) | 0.761763 |
PaintCorrectionContrast2012 (4) | 0.234024 |
PaintCorrectionContrast2012 | 0.000000 |
PaintCorrectionDefringe | 0.000000 |
PaintCorrectionExposure2012 (1) | -0.421348 |
PaintCorrectionExposure2012 (13) | 0.103406 |
PaintCorrectionExposure2012 (14) | -0.111570 |
PaintCorrectionExposure2012 (16) | 0.000000 |
PaintCorrectionExposure2012 (17) | -0.289589 |
PaintCorrectionExposure2012 (18) | -0.008515 |
PaintCorrectionExposure2012 (3) | -0.057409 |
PaintCorrectionExposure2012 (4) | -0.316187 |
PaintCorrectionExposure2012 (5) | -0.149666 |
PaintCorrectionExposure2012 (6) | 0.170471 |
PaintCorrectionExposure2012 (7) | 0.152124 |
PaintCorrectionExposure2012 | -0.075000 |
PaintCorrectionHighlights2012 (1) | -0.143434 |
PaintCorrectionHighlights2012 (15) | 0.327159 |
PaintCorrectionHighlights2012 (16) | -0.040730 |
PaintCorrectionHighlights2012 (4) | 0.478845 |
PaintCorrectionHighlights2012 (6) | 0.154670 |
PaintCorrectionHighlights2012 | 0.000000 |
PaintCorrectionHue | 240.000000 |
PaintCorrectionLuminanceNoise (16) | -0.376229 |
PaintCorrectionLuminanceNoise | 0.000000 |
PaintCorrectionMaskCenterWeight (26) | 1.000000 |
PaintCorrectionMaskCenterWeight | 0.592258 |
PaintCorrectionMaskFlow (26) | 1.000000 |
PaintCorrectionMaskFlow | 0.789260 |
PaintCorrectionMaskRadius (1) | 0.010625 |
PaintCorrectionMaskRadius (102) | 0.051069 |
PaintCorrectionMaskRadius (103) | 0.009254 |
PaintCorrectionMaskRadius (104) | 0.001397 |
PaintCorrectionMaskRadius (11) | 0.038704 |
PaintCorrectionMaskRadius (110) | 0.018892 |
PaintCorrectionMaskRadius (117) | 0.013650 |
PaintCorrectionMaskRadius (13) | 0.085215 |
PaintCorrectionMaskRadius (16) | 0.044787 |
PaintCorrectionMaskRadius (17) | 0.041722 |
PaintCorrectionMaskRadius (2) | 0.047898 |
PaintCorrectionMaskRadius (22) | 0.029930 |
PaintCorrectionMaskRadius (26) | 0.045071 |
PaintCorrectionMaskRadius (29) | 0.018887 |
PaintCorrectionMaskRadius (35) | 0.016243 |
PaintCorrectionMaskRadius (4) | 0.024315 |
PaintCorrectionMaskRadius (5) | 0.027099 |
PaintCorrectionMaskRadius (60) | 0.024321 |
PaintCorrectionMaskRadius (75) | 0.018296 |
PaintCorrectionMaskRadius (93) | 0.011099 |
PaintCorrectionMaskRadius | 0.010268 |
PaintCorrectionMaskValue (26) | 0.000000 |
PaintCorrectionMaskValue | 0.336152 |
PaintCorrectionMaskWhat | Mask/Paint |
PaintCorrectionMoire | 0.000000 |
PaintCorrectionSaturation (1) | 0.526773 |
PaintCorrectionSaturation (13) | 0.013255 |
PaintCorrectionSaturation (17) | -1.000000 |
PaintCorrectionSaturation (19) | 0.303020 |
PaintCorrectionSaturation (21) | -0.506057 |
PaintCorrectionSaturation (31) | 0.295558 |
PaintCorrectionSaturation (7) | 0.398876 |
PaintCorrectionSaturation | 0.000000 |
PaintCorrectionShadows2012 (16) | 0.268961 |
PaintCorrectionShadows2012 (7) | -0.104108 |
PaintCorrectionShadows2012 | 0.000000 |
PaintCorrectionSharpness (16) | 0.179863 |
PaintCorrectionSharpness | 0.000000 |
PaintCorrectionTemperature | 0.000000 |
PaintCorrectionTint | 0.000000 |
PaintCorrectionWhat | Correction |
ParametricDarks | 0 |
ParametricHighlights | 0 |
ParametricHighlightSplit | 75 |
ParametricLights | 0 |
ParametricMidtoneSplit | 50 |
ParametricShadows | 0 |
ParametricShadowSplit | 25 |
PerspectiveAspect | 0 |
PerspectiveHorizontal | 0 |
PerspectiveRotate | 0.0 |
PerspectiveScale | 100 |
PerspectiveUpright | 0 |
PerspectiveVertical | 0 |
PhotographicSensitivity | 200 |
PostCropVignetteAmount | 0 |
ProcessVersion | 6.7 |
ProfileDescription | sRGB IEC61966-2.1 |
RedHue | 0 |
RedSaturation | 0 |
Rights | Jon Olav Nesvold |
Saturation (1) | -3 |
Saturation | Normal |
SaturationAdjustmentAqua | -65 |
SaturationAdjustmentBlue | -13 |
SaturationAdjustmentGreen | -17 |
SaturationAdjustmentMagenta | -49 |
SaturationAdjustmentOrange | +29 |
SaturationAdjustmentPurple | -48 |
SaturationAdjustmentRed | +40 |
SaturationAdjustmentYellow | -19 |
ScaleFactor35efl | 1.0 |
SceneCaptureType | Landscape |
SceneType | Directly photographed |
SensingMethod | One-chip color area |
SerialNumber | 6042024 |
Shadows2012 | -24 |
ShadowTint | 0 |
SharpenDetail | 25 |
SharpenEdgeMasking | 0 |
SharpenRadius | +1.0 |
Sharpness (1) | 0 |
Sharpness | Normal |
ShutterSpeed | 8 |
ShutterSpeedValue | 8 |
Software | Adobe Photoshop Lightroom 5.7.1 (Macintosh) |
SplitToningBalance | 0 |
SplitToningHighlightHue | 0 |
SplitToningHighlightSaturation | 0 |
SplitToningShadowHue | 0 |
SplitToningShadowSaturation | 0 |
SubjectDistanceRange | Unknown |
ToneCurve | 0, 0, 255, 255 |
ToneCurveBlue | 0, 0, 255, 255 |
ToneCurveGreen | 0, 0, 255, 255 |
ToneCurveName | Linear |
ToneCurveName2012 | Linear |
ToneCurvePV2012 | 0, 0, 255, 255 |
ToneCurvePV2012Blue | 0, 0, 255, 255 |
ToneCurvePV2012Green | 0, 0, 255, 255 |
ToneCurvePV2012Red | 0, 0, 255, 255 |
ToneCurveRed | 0, 0, 255, 255 |
Version | 8.7.1 |
Vibrance | -4 |
VignetteAmount | 0 |
WhiteBalance (1) | Custom |
WhiteBalance | Manual |
Whites2012 | 0 |