Felt | Verdi |
AlreadyApplied | True |
Aperture | 2.8 |
ApertureValue | 2.8 |
Artist | Håkon Langmo |
AuthorsPosition | Photographer |
AutoLateralCA | 0 |
AutoWhiteVersion | 134348800 |
BitsPerSample | 8 |
Blacks2012 | +12 |
BlueHue | 0 |
BlueSaturation | 0 |
By-line | Håkon Langmo |
By-lineTitle | Photographer |
CameraProfile | Embedded |
CircleOfConfusion | 0.031 mm |
Clarity2012 | +24 |
ColorComponents | 3 |
ColorNoiseReduction | 0 |
ColorTransform | YCbCr |
Contrast2012 | +12 |
ConvertToGrayscale | False |
Copyright | Håkon Langmo |
CopyrightFlag | True |
CopyrightNotice | Håkon Langmo |
CreateDate | 2015:04:20 16:19:48 |
Creator | Håkon Langmo |
CreatorAddress | Langsletta 5b |
CreatorCity | Harstad |
CreatorCountry | Norway |
CreatorPostalCode | 9403 |
CreatorRegion | Troms |
CreatorTool | Adobe Photoshop Lightroom 6.0 (Windows) |
CreatorWorkEmail | hakon.langmo@gmail.com |
CreatorWorkTelephone | +4795259063 |
CreatorWorkURL | www.langmo.net |
Credit | Håkon Langmo |
CropAngle | 0 |
CropBottom | 0.97488 |
CropConstrainToWarp | 0 |
CropLeft | 0 |
CropRight | 0.916268 |
CropTop | 0.058612 |
CustomRendered | Normal |
DateCreated (1) | 2015:04:20 16:19:48.013 |
DateCreated | 2015:04:20 |
DateTimeOriginal | 2015:04:20 16:19:48 |
DefringeGreenAmount | 0 |
DefringeGreenHueHi | 60 |
DefringeGreenHueLo | 40 |
DefringePurpleAmount | 0 |
DefringePurpleHueHi | 70 |
DefringePurpleHueLo | 30 |
DistortionCorrectionAlreadyApplied | True |
Exposure2012 | +1.07 |
ExposureCompensation | 0 |
ExposureMode | Manual |
ExposureProgram | Manual |
ExposureTime | 1/200 |
Firmware | 1.1.0 |
Flash | Off, Did not fire |
FlashCompensation | 0 |
FNumber | 2.8 |
FocalLength | 105.0 mm |
FocalLength35efl | 105.0 mm (35 mm equivalent: 102.5 mm) |
Format | image/jpeg |
FOV | 19.9 deg |
GrainAmount | 0 |
GreenHue | 0 |
GreenSaturation | 0 |
HasCrop | True |
HasSettings | True |
Highlights2012 | 0 |
HueAdjustmentAqua | 0 |
HueAdjustmentBlue | 0 |
HueAdjustmentGreen | 0 |
HueAdjustmentMagenta | 0 |
HueAdjustmentOrange | 0 |
HueAdjustmentPurple | 0 |
HueAdjustmentRed | 0 |
HueAdjustmentYellow | 0 |
HyperfocalDistance | 127.89 m |
ImageHeight | 533 |
ImageNumber | 0 |
ImageSize | 800x533 |
ImageWidth | 800 |
IncrementalTemperature | 0 |
IncrementalTint | 0 |
ISO | 400 |
Keywords | blomst, blomster, blåveis, macro, trondenes |
LateralChromaticAberrationCorrectionAlreadyApplied | True |
Lens | 105mm |
LensID (1) | 10 |
LensID | Sigma 105mm f/2.8 Macro EX |
LensInfo | 105mm f/? |
LensManualDistortionAmount | 0 |
LensModel | 105mm |
LensProfileEnable | 0 |
LensProfileSetup | LensDefaults |
LightValue | 8.6 |
LuminanceAdjustmentAqua | 0 |
LuminanceAdjustmentBlue | 0 |
LuminanceAdjustmentGreen | 0 |
LuminanceAdjustmentMagenta | 0 |
LuminanceAdjustmentOrange | 0 |
LuminanceAdjustmentPurple | 0 |
LuminanceAdjustmentRed | 0 |
LuminanceAdjustmentYellow | 0 |
LuminanceNoiseReductionContrast | 0 |
LuminanceNoiseReductionDetail | 50 |
LuminanceSmoothing | 26 |
Make | Canon |
Marked | True |
MaxApertureValue | 2.8 |
Megapixels | 0.426 |
MeteringMode | Multi-segment |
Model | Canon EOS 5D Mark II |
ModifyDate (1) | 2015:04:22 18:13:30+02:00 |
ModifyDate | 2015:04:22 18:13:30 |
Orientation | Horizontal (normal) |
ParametricDarks | 0 |
ParametricHighlights | 0 |
ParametricHighlightSplit | 75 |
ParametricLights | 0 |
ParametricMidtoneSplit | 50 |
ParametricShadows | 0 |
ParametricShadowSplit | 25 |
PerspectiveAspect | 0 |
PerspectiveHorizontal | 0 |
PerspectiveRotate | 0.0 |
PerspectiveScale | 100 |
PerspectiveUpright | 0 |
PerspectiveVertical | 0 |
PostCropVignetteAmount | 0 |
ProcessVersion | 6.7 |
ProfileDescription | sRGB IEC61966-2.1 |
RawFileName | _MG_6800_sandwich.jpg |
RedHue | 0 |
RedSaturation | 0 |
Rights | Håkon Langmo |
Saturation | 0 |
SaturationAdjustmentAqua | 0 |
SaturationAdjustmentBlue | 0 |
SaturationAdjustmentGreen | 0 |
SaturationAdjustmentMagenta | 0 |
SaturationAdjustmentOrange | 0 |
SaturationAdjustmentPurple | 0 |
SaturationAdjustmentRed | 0 |
SaturationAdjustmentYellow | 0 |
ScaleFactor35efl | 1.0 |
SceneCaptureType | Standard |
SerialNumber | 1430808861 |
Shadows2012 | 0 |
ShadowTint | 0 |
SharpenDetail | 25 |
SharpenEdgeMasking | 35 |
SharpenRadius | +1.0 |
Sharpness | 91 |
ShutterSpeed | 1/200 |
ShutterSpeedValue | 1/200 |
Software | Adobe Photoshop Lightroom 6.0 (Windows) |
SplitToningBalance | 0 |
SplitToningHighlightHue | 0 |
SplitToningHighlightSaturation | 0 |
SplitToningShadowHue | 0 |
SplitToningShadowSaturation | 0 |
Subject | blomst, blomster, blåveis, macro, trondenes |
ToneCurve | 0, 0, 255, 255 |
ToneCurveBlue | 0, 0, 255, 255 |
ToneCurveGreen | 0, 0, 255, 255 |
ToneCurveName | Linear |
ToneCurveName2012 | Custom |
ToneCurvePV2012 | 0, 0, 51, 42, 206, 204, 255, 255 |
ToneCurvePV2012Blue | 0, 0, 255, 255 |
ToneCurvePV2012Green | 0, 0, 255, 255 |
ToneCurvePV2012Red | 0, 0, 255, 255 |
ToneCurveRed | 0, 0, 255, 255 |
UsageTerms | All rights reserved |
Version | 9.0 |
Vibrance | 0 |
VignetteAmount | 0 |
VignetteCorrectionAlreadyApplied | True |
WhiteBalance (1) | As Shot |
WhiteBalance | Manual |
Whites2012 | 0 |